From mboxrd@z Thu Jan  1 00:00:00 1970
Return-Path: <test-report-bounces@dpdk.org>
Received: from mails.dpdk.org (mails.dpdk.org [217.70.189.124])
	by inbox.dpdk.org (Postfix) with ESMTP id B938142D8F
	for <public@inbox.dpdk.org>; Thu, 29 Jun 2023 21:51:27 +0200 (CEST)
Received: from mails.dpdk.org (localhost [127.0.0.1])
	by mails.dpdk.org (Postfix) with ESMTP id A033240EDB;
	Thu, 29 Jun 2023 21:51:27 +0200 (CEST)
Received: from mail-yw1-f227.google.com (mail-yw1-f227.google.com
 [209.85.128.227])
 by mails.dpdk.org (Postfix) with ESMTP id 1BC5A40EDB
 for <test-report@dpdk.org>; Thu, 29 Jun 2023 21:51:26 +0200 (CEST)
Received: by mail-yw1-f227.google.com with SMTP id
 00721157ae682-570114e1feaso10939727b3.3
 for <test-report@dpdk.org>; Thu, 29 Jun 2023 12:51:26 -0700 (PDT)
DKIM-Signature: v=1; a=rsa-sha256; c=relaxed/relaxed;
 d=iol.unh.edu; s=unh-iol; t=1688068285; x=1690660285;
 h=cc:to:from:subject:message-id:date:from:to:cc:subject:date
 :message-id:reply-to;
 bh=fSMnoaoVqRhF3rEZz2OTEGSUP11gxB8IMuaoXDgMP2w=;
 b=P0XEo9D23ys7UOUb6pnygL6Z24WHBY1RQ2A9QQE3mRZi6jJAYYbkBl4gsfWQSd3yxl
 Rd4fRaiFqItOcnmuEQ8rHzzZE4SSTIIhmYP9VGh1qW1pav6ESwLDa+kv06TRMibJWPPm
 JZ9dtdmDj85iDM6irmK8aeJ/yjoM6Z/YjDN/E=
X-Google-DKIM-Signature: v=1; a=rsa-sha256; c=relaxed/relaxed;
 d=1e100.net; s=20221208; t=1688068285; x=1690660285;
 h=cc:to:from:subject:message-id:date:x-gm-message-state:from:to:cc
 :subject:date:message-id:reply-to;
 bh=fSMnoaoVqRhF3rEZz2OTEGSUP11gxB8IMuaoXDgMP2w=;
 b=ejWHTGVGprOwh/3MG1MwHpvnzSu9vaYqGaoyvExNzbTGXfrD3kkZpoxqncTTlm/chG
 jwItPERROJprCNO7rIopUDMRMfnavhH+dxGBNAfshFpeFYC2D4TBugsJyVU75p4koWwe
 +Gre92G5EdkkY8LoGDT9WcR+XVeqal/3hvux/M+nP6NUNW2hta7UTDcweMPcLL5yE6V6
 hVgdECwre8/hlCaSSzE5lLx6r9O2jmsq05pOJozDgAFaEVc4pIvT76Khj/KVdYPc7+cA
 wmVwtMYxpV630C81YiydWHIhLLJvqp+VLwQTgdHxWdw8lBZfHez1z4bdyUJKZgC/1viC
 ZxOA==
X-Gm-Message-State: ABy/qLZqZAhUiyvflVCLrp/SotRq6x6v3KPEhA/Zx1mBTXiFm757OZoR
 Ye6JHWRUBGqfgIAoRsc3eB2E8FuEvFCNHvBXrCEzCfeZ2f2pDqm/IrJBUmDbADx28hqOHDgjPg=
 =
X-Google-Smtp-Source: APBJJlErZjTk2ZNnNV7l2XOCcan9REeKFRAClHJrCK7tFDNQv+L/zb8Gs8oaw7O3BU7lXDh9zQXLOWpusOfI
X-Received: by 2002:a25:dbca:0:b0:c1c:2811:bab7 with SMTP id
 g193-20020a25dbca000000b00c1c2811bab7mr767838ybf.29.1688068285563; 
 Thu, 29 Jun 2023 12:51:25 -0700 (PDT)
Received: from postal.iol.unh.edu (postal.iol.unh.edu.
 [2606:4100:3880:1234::84]) by smtp-relay.gmail.com with ESMTPS id
 p74-20020a25744d000000b00bff2380ff48sm1082797ybc.28.2023.06.29.12.51.25
 (version=TLS1_2 cipher=ECDHE-ECDSA-AES128-GCM-SHA256 bits=128/128);
 Thu, 29 Jun 2023 12:51:25 -0700 (PDT)
X-Relaying-Domain: iol.unh.edu
Date: Thu, 29 Jun 2023 12:51:25 -0700 (PDT)
Message-ID: <649de0bd.250a0220.d1adc.df0dSMTPIN_ADDED_MISSING@mx.google.com>
Received: from [172.17.0.3] (unknown [172.18.0.34])
 by postal.iol.unh.edu (Postfix) with ESMTP id 46EF5605246B;
 Thu, 29 Jun 2023 15:51:25 -0400 (EDT)
Subject: |SUCCESS| pw129126 [PATCH] [v8] hash: add XOR32 hash function
From: dpdklab@iol.unh.edu
To: Test Report <test-report@dpdk.org>
Cc: dpdk-test-reports@iol.unh.edu
Content-Type: text/plain
X-BeenThere: test-report@dpdk.org
X-Mailman-Version: 2.1.29
Precedence: list
List-Id: automatic DPDK test reports <test-report.dpdk.org>
List-Unsubscribe: <https://mails.dpdk.org/options/test-report>,
 <mailto:test-report-request@dpdk.org?subject=unsubscribe>
List-Archive: <http://mails.dpdk.org/archives/test-report/>
List-Post: <mailto:test-report@dpdk.org>
List-Help: <mailto:test-report-request@dpdk.org?subject=help>
List-Subscribe: <https://mails.dpdk.org/listinfo/test-report>,
 <mailto:test-report-request@dpdk.org?subject=subscribe>
Errors-To: test-report-bounces@dpdk.org

Test-Label: iol-abi-testing
Test-Status: SUCCESS
http://dpdk.org/patch/129126

_Testing PASS_

Submitter: Bili Dong <qobilidop@gmail.com>
Date: Thursday, June 29 2023 17:33:00 
DPDK git baseline: Repo:dpdk
  Branch: master
  CommitID:93a4b3beba4ee611685148917981f846427cafb2

129126 --> testing pass

Test environment and result as below:

+------------------+----------+
|   Environment    | abi_test |
+==================+==========+
| Debian Bullseye  | PASS     |
+------------------+----------+
| RHEL8            | PASS     |
+------------------+----------+
| Fedora 38        | PASS     |
+------------------+----------+
| Debian Buster    | PASS     |
+------------------+----------+
| Ubuntu 22.04     | PASS     |
+------------------+----------+
| RHEL 7           | PASS     |
+------------------+----------+
| openSUSE Leap 15 | PASS     |
+------------------+----------+
| CentOS Stream 9  | PASS     |
+------------------+----------+


Debian Bullseye
	Kernel: 5.4.0-122-generic
	Compiler: gcc 10.2.1-6

RHEL8
	Kernel: 4.18.0-240.10.1.el8_3.x86_64
	Compiler: gcc 8.3.1 20191121 (Red Hat 8.3.1-5)

Fedora 38
	Kernel: Depends on container host
	Compiler: gcc 13.1.1

Debian Buster
	Kernel: 5.4.0-122-generic
	Compiler: gcc 8.3.0-6

Ubuntu 22.04
	Kernel: 4.18.0-240.10.1.el8_3.x86_64
	Compiler: gcc 11.3.0

RHEL 7
	Kernel: 4.18.0-240.10.1.el8_3.x86_64
	Compiler: gcc 4.8.5 20150623 (Red Hat 4.8.5-44)

openSUSE Leap 15
	Kernel: 4.18.0-240.10.1.el8_3.x86_64
	Compiler: gcc 7.5.0

CentOS Stream 9
	Kernel: 4.18.0-240.10.1.el8_3.x86_64
	Compiler: gcc 11.3.1 20220421

To view detailed results, visit:
https://lab.dpdk.org/results/dashboard/patchsets/26871/

UNH-IOL DPDK Community Lab

To manage your email subscriptions, visit: 
https://lab.dpdk.org/results/dashboard/preferences/subscriptions/