From mboxrd@z Thu Jan  1 00:00:00 1970
Return-Path: <test-report-bounces@dpdk.org>
Received: from mails.dpdk.org (mails.dpdk.org [217.70.189.124])
	by inbox.dpdk.org (Postfix) with ESMTP id 4715942D9E
	for <public@inbox.dpdk.org>; Sat,  1 Jul 2023 06:04:53 +0200 (CEST)
Received: from mails.dpdk.org (localhost [127.0.0.1])
	by mails.dpdk.org (Postfix) with ESMTP id 3ED4A40F16;
	Sat,  1 Jul 2023 06:04:53 +0200 (CEST)
Received: from mail-qk1-f226.google.com (mail-qk1-f226.google.com
 [209.85.222.226])
 by mails.dpdk.org (Postfix) with ESMTP id 98F3440F16
 for <test-report@dpdk.org>; Sat,  1 Jul 2023 06:04:52 +0200 (CEST)
Received: by mail-qk1-f226.google.com with SMTP id
 af79cd13be357-7659db6339eso116619085a.1
 for <test-report@dpdk.org>; Fri, 30 Jun 2023 21:04:52 -0700 (PDT)
DKIM-Signature: v=1; a=rsa-sha256; c=relaxed/relaxed;
 d=iol.unh.edu; s=unh-iol; t=1688184292; x=1690776292;
 h=cc:to:from:subject:message-id:date:from:to:cc:subject:date
 :message-id:reply-to;
 bh=GnY2tyHPEFd2swPo1SDekJjJrWqyBASAF6KtzlqfAow=;
 b=X6OfqHl8JSNp9MiNIycc8VqiV0XCnCysiF563vMj58vxOupqDE+CYQH9tEuxLDIjRJ
 /mzfgWXg3NBmmReQ8igurZF0jqwkZUhhYqfLBgAh6VMLTYedh8eRbcAbcHRO3xITUYoA
 GeM67aWbGJ4l3rrXS3zK4QeoTFtPSskUYZ6HU=
X-Google-DKIM-Signature: v=1; a=rsa-sha256; c=relaxed/relaxed;
 d=1e100.net; s=20221208; t=1688184292; x=1690776292;
 h=cc:to:from:subject:message-id:date:x-gm-message-state:from:to:cc
 :subject:date:message-id:reply-to;
 bh=GnY2tyHPEFd2swPo1SDekJjJrWqyBASAF6KtzlqfAow=;
 b=QhQWBVR/Cp4/xIJvkuuYBxZx6uddfXtTL4jcHxDiGKkBzcvocLYn+WIj1qmfHh8m+7
 xsxWoHNO6iUlxC/+3kDQ0Q1F7Ll6+2tPMriXmCoLpH4EmNRKFkXnHB3Fe4q+nDqJKWOF
 9Y2FiexUgzAEbcJqkuN5q0HpF2VnTSMnc3Ax19TL6Y7dtYsugZnzQYJwyyi+84ONF+ku
 q6gMFFZFjbu/sQpaUUQQ7NUE+ygN2O7b/mXt2QmKzuHx7SFWQAc0r2qG6b8YYcmhcwD+
 NHP+grPilnqIq+U1bsDDVkO97iOmqCc7NaAx90melOOm73LNKEkyZYCCHoLuuS6ptSSa
 9lCQ==
X-Gm-Message-State: AC+VfDwh7/rFQglNGZ45XT5F2dQexXabjhVPLaz2XyV91YdAKk1UVGb5
 iL64uyCOw+d0Enb2t45PO3uGd0vgrGp0foY+g7zIktfl76YuLEAx9zTJaw==
X-Google-Smtp-Source: ACHHUZ5CWHbMMRJK2VgKErKgsbbnOAsmhMvtQJfj1wFMjJm5mSDgBRuZDXTgPpc44S4IVWa2Q1WvvGYBS9WQ
X-Received: by 2002:a05:620a:2888:b0:763:bac8:39c4 with SMTP id
 j8-20020a05620a288800b00763bac839c4mr8116399qkp.18.1688184292089; 
 Fri, 30 Jun 2023 21:04:52 -0700 (PDT)
Received: from postal.iol.unh.edu (postal.iol.unh.edu. [132.177.123.84])
 by smtp-relay.gmail.com with ESMTPS id
 d2-20020ac86682000000b0040327dd2143sm337384qtp.10.2023.06.30.21.04.51
 (version=TLS1_2 cipher=ECDHE-ECDSA-AES128-GCM-SHA256 bits=128/128);
 Fri, 30 Jun 2023 21:04:52 -0700 (PDT)
X-Relaying-Domain: iol.unh.edu
Date: Fri, 30 Jun 2023 21:04:52 -0700 (PDT)
Message-ID: <649fa5e4.c80a0220.2ce61.a482SMTPIN_ADDED_MISSING@mx.google.com>
Received: from [172.17.0.3] (unknown [172.18.0.34])
 by postal.iol.unh.edu (Postfix) with ESMTP id 76A9C605246B;
 Sat,  1 Jul 2023 00:04:51 -0400 (EDT)
Subject: |SUCCESS| pw129139 [PATCH] Updated to dpdk20.11
From: dpdklab@iol.unh.edu
To: Test Report <test-report@dpdk.org>
Cc: dpdk-test-reports@iol.unh.edu
Content-Type: text/plain
X-BeenThere: test-report@dpdk.org
X-Mailman-Version: 2.1.29
Precedence: list
List-Id: automatic DPDK test reports <test-report.dpdk.org>
List-Unsubscribe: <https://mails.dpdk.org/options/test-report>,
 <mailto:test-report-request@dpdk.org?subject=unsubscribe>
List-Archive: <http://mails.dpdk.org/archives/test-report/>
List-Post: <mailto:test-report@dpdk.org>
List-Help: <mailto:test-report-request@dpdk.org?subject=help>
List-Subscribe: <https://mails.dpdk.org/listinfo/test-report>,
 <mailto:test-report-request@dpdk.org?subject=subscribe>
Errors-To: test-report-bounces@dpdk.org

Test-Label: iol-abi-testing
Test-Status: SUCCESS
http://dpdk.org/patch/129139

_Testing PASS_

Submitter: David Young <dave@youngcopy.com>
Date: Thursday, June 29 2023 18:12:08 
DPDK git baseline: Repo:dpdk
  Branch: master
  CommitID:93a4b3beba4ee611685148917981f846427cafb2

129139 --> testing pass

Test environment and result as below:

+------------------+----------+
|   Environment    | abi_test |
+==================+==========+
| Ubuntu 22.04     | PASS     |
+------------------+----------+
| Debian Bullseye  | PASS     |
+------------------+----------+
| CentOS Stream 8  | PASS     |
+------------------+----------+
| openSUSE Leap 15 | PASS     |
+------------------+----------+
| Fedora 38        | PASS     |
+------------------+----------+
| RHEL8            | PASS     |
+------------------+----------+


Ubuntu 22.04
	Kernel: 4.18.0-240.10.1.el8_3.x86_64
	Compiler: gcc 11.3.0

Debian Bullseye
	Kernel: 5.4.0-122-generic
	Compiler: gcc 10.2.1-6

CentOS Stream 8
	Kernel: 4.18.0-240.10.1.el8_3.x86_64
	Compiler: gcc 8.4.1 20200928

openSUSE Leap 15
	Kernel: 4.18.0-240.10.1.el8_3.x86_64
	Compiler: gcc 7.5.0

Fedora 38
	Kernel: Depends on container host
	Compiler: gcc 13.1.1

RHEL8
	Kernel: 4.18.0-240.10.1.el8_3.x86_64
	Compiler: gcc 8.3.1 20191121 (Red Hat 8.3.1-5)

To view detailed results, visit:
https://lab.dpdk.org/results/dashboard/patchsets/26878/

UNH-IOL DPDK Community Lab

To manage your email subscriptions, visit: 
https://lab.dpdk.org/results/dashboard/preferences/subscriptions/