From mboxrd@z Thu Jan  1 00:00:00 1970
Return-Path: <test-report-bounces@dpdk.org>
Received: from mails.dpdk.org (mails.dpdk.org [217.70.189.124])
	by inbox.dpdk.org (Postfix) with ESMTP id DD56F42D9E
	for <public@inbox.dpdk.org>; Sat,  1 Jul 2023 06:27:22 +0200 (CEST)
Received: from mails.dpdk.org (localhost [127.0.0.1])
	by mails.dpdk.org (Postfix) with ESMTP id B6C9940F16;
	Sat,  1 Jul 2023 06:27:22 +0200 (CEST)
Received: from mail-io1-f97.google.com (mail-io1-f97.google.com
 [209.85.166.97]) by mails.dpdk.org (Postfix) with ESMTP id CC30640F16
 for <test-report@dpdk.org>; Sat,  1 Jul 2023 06:27:21 +0200 (CEST)
Received: by mail-io1-f97.google.com with SMTP id
 ca18e2360f4ac-78362f57500so113903439f.3
 for <test-report@dpdk.org>; Fri, 30 Jun 2023 21:27:21 -0700 (PDT)
DKIM-Signature: v=1; a=rsa-sha256; c=relaxed/relaxed;
 d=iol.unh.edu; s=unh-iol; t=1688185641; x=1690777641;
 h=cc:to:from:subject:message-id:date:from:to:cc:subject:date
 :message-id:reply-to;
 bh=HfTyl7vYJ1AmkCF92MEGfZznWIOVdY/5l9xCkIkZJIw=;
 b=c2GLgi96/p3ZkZnQa5tA0/lpKv1ZufdUWAhtG2r8SeuPtnJW5hvk1LyY0hhcp/bE3R
 VsdVLCR4d/p4dQBoIzRg3UGa+9cDAqQ5nkP07BcgZpytHxxNzAzhw79KHhsLblIKmZSk
 n5Z9c6NuifdNKvj/Y6COr5g+tg4r+Rj2CySq4=
X-Google-DKIM-Signature: v=1; a=rsa-sha256; c=relaxed/relaxed;
 d=1e100.net; s=20221208; t=1688185641; x=1690777641;
 h=cc:to:from:subject:message-id:date:x-gm-message-state:from:to:cc
 :subject:date:message-id:reply-to;
 bh=HfTyl7vYJ1AmkCF92MEGfZznWIOVdY/5l9xCkIkZJIw=;
 b=RZEsU1WbPTfcgbQuqqulQXI4DcInaUD8tjUJ+P95CM203f4yr3ON1Nhc10RziV6gdE
 z1kgAL6erMSRxDusgEDEzKXKbWatiTNT1bP9XqUqS+rYVyHsr9vT6sI5cCGYoBybFNIk
 ISPuesLug02LyDs4bh1MkhbXLMSkMmf2RbOS2IuRYJf90ODqD9x2SxHbkkoNkXVeZlPM
 pe0m/5VNNm1zl9rgmYV9M8U7uZj0ftMziSxj7pi31lVC89IADML33s05wVCpldVPb8Im
 cevscMhca2pVOG0n3s/mFBsUFYZzmPQFR+oR9bwkQHNifFqsHD1jzxAPDZXEnmd9GFaU
 JSmQ==
X-Gm-Message-State: ABy/qLZ3pyxUmth0l/ASb8nxhSmZa7nTql59A8zOAQUhbnWm6c6i/+Zj
 HY8cO8n4leg9yl9DUmubmlgFXNSNmmGI0v1kImTuQ5GXF41ki6KceMw6VEGK4K7baD0Pe9KLKg=
 =
X-Google-Smtp-Source: APBJJlGcxunKXlT4GmjqG2LgN3Q71ZeVny9oX2VGXE+sqqnJXE3G9mzOSDbxz1uEvpEUpAiJ7AIvfppvvv+K
X-Received: by 2002:a92:d486:0:b0:345:e586:e02c with SMTP id
 p6-20020a92d486000000b00345e586e02cmr4415258ilg.5.1688185641148; 
 Fri, 30 Jun 2023 21:27:21 -0700 (PDT)
Received: from postal.iol.unh.edu (postal.iol.unh.edu.
 [2606:4100:3880:1234::84]) by smtp-relay.gmail.com with ESMTPS id
 j31-20020a634a5f000000b005578664e26csm904767pgl.23.2023.06.30.21.27.21
 (version=TLS1_2 cipher=ECDHE-ECDSA-AES128-GCM-SHA256 bits=128/128);
 Fri, 30 Jun 2023 21:27:21 -0700 (PDT)
X-Relaying-Domain: iol.unh.edu
Date: Fri, 30 Jun 2023 21:27:21 -0700 (PDT)
Message-ID: <649fab29.630a0220.95128.528dSMTPIN_ADDED_MISSING@mx.google.com>
Received: from [172.17.0.3] (unknown [172.18.0.34])
 by postal.iol.unh.edu (Postfix) with ESMTP id 5C857605246B;
 Sat,  1 Jul 2023 00:27:20 -0400 (EDT)
Subject: |SUCCESS| pw129139 [PATCH] Updated to dpdk20.11
From: dpdklab@iol.unh.edu
To: Test Report <test-report@dpdk.org>
Cc: dpdk-test-reports@iol.unh.edu
Content-Type: text/plain
X-BeenThere: test-report@dpdk.org
X-Mailman-Version: 2.1.29
Precedence: list
List-Id: automatic DPDK test reports <test-report.dpdk.org>
List-Unsubscribe: <https://mails.dpdk.org/options/test-report>,
 <mailto:test-report-request@dpdk.org?subject=unsubscribe>
List-Archive: <http://mails.dpdk.org/archives/test-report/>
List-Post: <mailto:test-report@dpdk.org>
List-Help: <mailto:test-report-request@dpdk.org?subject=help>
List-Subscribe: <https://mails.dpdk.org/listinfo/test-report>,
 <mailto:test-report-request@dpdk.org?subject=subscribe>
Errors-To: test-report-bounces@dpdk.org

Test-Label: iol-abi-testing
Test-Status: SUCCESS
http://dpdk.org/patch/129139

_Testing PASS_

Submitter: David Young <dave@youngcopy.com>
Date: Thursday, June 29 2023 18:12:08 
DPDK git baseline: Repo:dpdk
  Branch: master
  CommitID:93a4b3beba4ee611685148917981f846427cafb2

129139 --> testing pass

Test environment and result as below:

+------------------+----------+
|   Environment    | abi_test |
+==================+==========+
| Ubuntu 22.04     | PASS     |
+------------------+----------+
| Debian Bullseye  | PASS     |
+------------------+----------+
| CentOS Stream 8  | PASS     |
+------------------+----------+
| openSUSE Leap 15 | PASS     |
+------------------+----------+
| Fedora 38        | PASS     |
+------------------+----------+
| RHEL8            | PASS     |
+------------------+----------+
| RHEL 7           | PASS     |
+------------------+----------+
| Debian Buster    | PASS     |
+------------------+----------+


Ubuntu 22.04
	Kernel: 4.18.0-240.10.1.el8_3.x86_64
	Compiler: gcc 11.3.0

Debian Bullseye
	Kernel: 5.4.0-122-generic
	Compiler: gcc 10.2.1-6

CentOS Stream 8
	Kernel: 4.18.0-240.10.1.el8_3.x86_64
	Compiler: gcc 8.4.1 20200928

openSUSE Leap 15
	Kernel: 4.18.0-240.10.1.el8_3.x86_64
	Compiler: gcc 7.5.0

Fedora 38
	Kernel: Depends on container host
	Compiler: gcc 13.1.1

RHEL8
	Kernel: 4.18.0-240.10.1.el8_3.x86_64
	Compiler: gcc 8.3.1 20191121 (Red Hat 8.3.1-5)

RHEL 7
	Kernel: 4.18.0-240.10.1.el8_3.x86_64
	Compiler: gcc 4.8.5 20150623 (Red Hat 4.8.5-44)

Debian Buster
	Kernel: 5.4.0-122-generic
	Compiler: gcc 8.3.0-6

To view detailed results, visit:
https://lab.dpdk.org/results/dashboard/patchsets/26878/

UNH-IOL DPDK Community Lab

To manage your email subscriptions, visit: 
https://lab.dpdk.org/results/dashboard/preferences/subscriptions/