From mboxrd@z Thu Jan  1 00:00:00 1970
Return-Path: <test-report-bounces@dpdk.org>
Received: from mails.dpdk.org (mails.dpdk.org [217.70.189.124])
	by inbox.dpdk.org (Postfix) with ESMTP id C20A942D9E
	for <public@inbox.dpdk.org>; Sat,  1 Jul 2023 07:00:46 +0200 (CEST)
Received: from mails.dpdk.org (localhost [127.0.0.1])
	by mails.dpdk.org (Postfix) with ESMTP id BC98B40F16;
	Sat,  1 Jul 2023 07:00:46 +0200 (CEST)
Received: from mail-oa1-f99.google.com (mail-oa1-f99.google.com
 [209.85.160.99]) by mails.dpdk.org (Postfix) with ESMTP id 07A7740F16
 for <test-report@dpdk.org>; Sat,  1 Jul 2023 07:00:46 +0200 (CEST)
Received: by mail-oa1-f99.google.com with SMTP id
 586e51a60fabf-1b13ae3a731so2148481fac.0
 for <test-report@dpdk.org>; Fri, 30 Jun 2023 22:00:45 -0700 (PDT)
DKIM-Signature: v=1; a=rsa-sha256; c=relaxed/relaxed;
 d=iol.unh.edu; s=unh-iol; t=1688187645; x=1690779645;
 h=cc:to:from:subject:message-id:date:from:to:cc:subject:date
 :message-id:reply-to;
 bh=Eob+Z2VfLAE9stLbmjalbj3LCrZwbdzPGK46pUDi6m0=;
 b=EnhuAisTRRgGkUAESwpPLDakW0umU1bh16t7JaSHYyo+eY+K6f5HZHoR69U88fjOjT
 a/XaF4Nv+g0aKkaE6E3Fs6hsQCbojj/iwCpJRKRCAc9G4hwF5+Mxk2KB45+rD2U+tXLf
 3seTsJC26jZ7nDdTOKpKXv5pUGKYxJZma2YBQ=
X-Google-DKIM-Signature: v=1; a=rsa-sha256; c=relaxed/relaxed;
 d=1e100.net; s=20221208; t=1688187645; x=1690779645;
 h=cc:to:from:subject:message-id:date:x-gm-message-state:from:to:cc
 :subject:date:message-id:reply-to;
 bh=Eob+Z2VfLAE9stLbmjalbj3LCrZwbdzPGK46pUDi6m0=;
 b=L5tt16sPBU8NTb3FAqcesghbkalFHitwG0MDQQcXzImHryuKaHRtyzH2ghr0efe/6I
 fE4qYir0OEBfoSw01yY1loWnihsLT8aQiJ9dOGeGR0mUr+3HliQajH0yswJaquUQvKES
 T8L2+/mRDLbueQyEadMgia/OexzZsnNntGhXM5wq8yHlseHl/kt4STRun+2YDqUFuLgb
 YZqW6zWj0Q7tFvLr9pOWRI8p+ZX5S7hoZc3n3NU7nUefzxk98N65UaDLzYnnAaJeKlJ1
 YTxpU/dJxXuANuiE5hHu5v4pgvavJXE4LkANVO9SiirzJyCcI3lsxM4mjjRcntRd55Td
 M6gA==
X-Gm-Message-State: AC+VfDz1q5l6VSi0Ra2+ezHc886KWVff2hT1XNoOEQzkUuMO/pEnpDCm
 9unfUhG9cmTy6+hnqIjVyNml5bpw8Enc1O9+oV8atIaVsJv4OWv49Lw4cBjH0NuvBmW6kvPqkQ=
 =
X-Google-Smtp-Source: ACHHUZ4gxLEpXVaLsZ/e+NsFO1c59A9MZeWKrpecinZmTDAQf/mPwD8xsj722MkRIreQon55oZyLRXbJyGB1
X-Received: by 2002:a05:6870:3e04:b0:196:8dc3:4e16 with SMTP id
 lk4-20020a0568703e0400b001968dc34e16mr5331655oab.39.1688187645429; 
 Fri, 30 Jun 2023 22:00:45 -0700 (PDT)
Received: from postal.iol.unh.edu (postal.iol.unh.edu.
 [2606:4100:3880:1234::84]) by smtp-relay.gmail.com with ESMTPS id
 lg16-20020a0568700b9000b001b040c92f17sm732483oab.1.2023.06.30.22.00.45
 (version=TLS1_2 cipher=ECDHE-ECDSA-AES128-GCM-SHA256 bits=128/128);
 Fri, 30 Jun 2023 22:00:45 -0700 (PDT)
X-Relaying-Domain: iol.unh.edu
Date: Fri, 30 Jun 2023 22:00:45 -0700 (PDT)
Message-ID: <649fb2fd.050a0220.94fc1.a22fSMTPIN_ADDED_MISSING@mx.google.com>
Received: from [172.17.0.3] (unknown [172.18.0.34])
 by postal.iol.unh.edu (Postfix) with ESMTP id E309F605246B;
 Sat,  1 Jul 2023 01:00:44 -0400 (EDT)
Subject: |SUCCESS| pw129139 [PATCH] Updated to dpdk20.11
From: dpdklab@iol.unh.edu
To: Test Report <test-report@dpdk.org>
Cc: dpdk-test-reports@iol.unh.edu
Content-Type: text/plain
X-BeenThere: test-report@dpdk.org
X-Mailman-Version: 2.1.29
Precedence: list
List-Id: automatic DPDK test reports <test-report.dpdk.org>
List-Unsubscribe: <https://mails.dpdk.org/options/test-report>,
 <mailto:test-report-request@dpdk.org?subject=unsubscribe>
List-Archive: <http://mails.dpdk.org/archives/test-report/>
List-Post: <mailto:test-report@dpdk.org>
List-Help: <mailto:test-report-request@dpdk.org?subject=help>
List-Subscribe: <https://mails.dpdk.org/listinfo/test-report>,
 <mailto:test-report-request@dpdk.org?subject=subscribe>
Errors-To: test-report-bounces@dpdk.org

Test-Label: iol-unit-testing
Test-Status: SUCCESS
http://dpdk.org/patch/129139

_Testing PASS_

Submitter: David Young <dave@youngcopy.com>
Date: Thursday, June 29 2023 18:12:08 
DPDK git baseline: Repo:dpdk
  Branch: master
  CommitID:93a4b3beba4ee611685148917981f846427cafb2

129139 --> testing pass

Test environment and result as below:

+--------------------------+----------------+
|       Environment        | dpdk_unit_test |
+==========================+================+
| CentOS Stream 9 (ARM)    | PASS           |
+--------------------------+----------------+
| Fedora 37 (ARM)          | PASS           |
+--------------------------+----------------+
| Fedora 38 (ARM)          | PASS           |
+--------------------------+----------------+
| Debian 11 (Buster) (ARM) | PASS           |
+--------------------------+----------------+
| Ubuntu 20.04 (ARM)       | PASS           |
+--------------------------+----------------+
| CentOS Stream 8          | PASS           |
+--------------------------+----------------+
| CentOS Stream 9          | PASS           |
+--------------------------+----------------+
| Debian Buster            | PASS           |
+--------------------------+----------------+
| Fedora 37                | PASS           |
+--------------------------+----------------+
| Fedora 38                | PASS           |
+--------------------------+----------------+
| RHEL 7                   | PASS           |
+--------------------------+----------------+
| Debian Bullseye          | PASS           |
+--------------------------+----------------+
| openSUSE Leap 15         | PASS           |
+--------------------------+----------------+
| Ubuntu 20.04             | PASS           |
+--------------------------+----------------+
| RHEL8                    | PASS           |
+--------------------------+----------------+
| Ubuntu 22.04             | PASS           |
+--------------------------+----------------+
| Fedora 38 (ARM Clang)    | PASS           |
+--------------------------+----------------+


CentOS Stream 9 (ARM)
	Kernel: Container Host Kernel
	Compiler: gcc 11.3.1

Fedora 37 (ARM)
	Kernel: Depends on container host
	Compiler: gcc 12.3.1

Fedora 38 (ARM)
	Kernel: Depends on container host
	Compiler: gcc 13.1.1

Debian 11 (Buster) (ARM)
	Kernel: Container Host Kernel
	Compiler: gcc 10.2.1

Ubuntu 20.04 (ARM)
	Kernel: Container Host Kernel
	Compiler: gcc 9.4.0

CentOS Stream 8
	Kernel: 4.18.0-240.10.1.el8_3.x86_64
	Compiler: gcc 8.4.1 20200928

CentOS Stream 9
	Kernel: 4.18.0-240.10.1.el8_3.x86_64
	Compiler: gcc 11.3.1 20220421

Debian Buster
	Kernel: 5.4.0-122-generic
	Compiler: gcc 8.3.0-6

Fedora 37
	Kernel: Depends on container host system
	Compiler: gcc 12.3.1

Fedora 38
	Kernel: Depends on container host
	Compiler: gcc 13.1.1

RHEL 7
	Kernel: 4.18.0-240.10.1.el8_3.x86_64
	Compiler: gcc 4.8.5 20150623 (Red Hat 4.8.5-44)

Debian Bullseye
	Kernel: 5.4.0-122-generic
	Compiler: gcc 10.2.1-6

openSUSE Leap 15
	Kernel: 4.18.0-240.10.1.el8_3.x86_64
	Compiler: gcc 7.5.0

Ubuntu 20.04
	Kernel: 4.18.0-240.10.1.el8_3.x86_64
	Compiler: gcc 9.3.0-17ubuntu1~20.04

RHEL8
	Kernel: 4.18.0-240.10.1.el8_3.x86_64
	Compiler: gcc 8.3.1 20191121 (Red Hat 8.3.1-5)

Ubuntu 22.04
	Kernel: 4.18.0-240.10.1.el8_3.x86_64
	Compiler: gcc 11.3.0

Fedora 38 (ARM Clang)
	Kernel: Depends on container host
	Compiler: clang 16.0.3

To view detailed results, visit:
https://lab.dpdk.org/results/dashboard/patchsets/26878/

UNH-IOL DPDK Community Lab

To manage your email subscriptions, visit: 
https://lab.dpdk.org/results/dashboard/preferences/subscriptions/