From mboxrd@z Thu Jan  1 00:00:00 1970
Return-Path: <test-report-bounces@dpdk.org>
Received: from mails.dpdk.org (mails.dpdk.org [217.70.189.124])
	by inbox.dpdk.org (Postfix) with ESMTP id 4367742DA1
	for <public@inbox.dpdk.org>; Sat,  1 Jul 2023 12:29:17 +0200 (CEST)
Received: from mails.dpdk.org (localhost [127.0.0.1])
	by mails.dpdk.org (Postfix) with ESMTP id 3D1B3410DC;
	Sat,  1 Jul 2023 12:29:17 +0200 (CEST)
Received: from mail-pf1-f228.google.com (mail-pf1-f228.google.com
 [209.85.210.228])
 by mails.dpdk.org (Postfix) with ESMTP id 35955410DC
 for <test-report@dpdk.org>; Sat,  1 Jul 2023 12:29:16 +0200 (CEST)
Received: by mail-pf1-f228.google.com with SMTP id
 d2e1a72fcca58-668709767b1so1568901b3a.2
 for <test-report@dpdk.org>; Sat, 01 Jul 2023 03:29:16 -0700 (PDT)
DKIM-Signature: v=1; a=rsa-sha256; c=relaxed/relaxed;
 d=iol.unh.edu; s=unh-iol; t=1688207355; x=1690799355;
 h=cc:to:from:subject:message-id:date:from:to:cc:subject:date
 :message-id:reply-to;
 bh=7icj40DTKxwHNdJXcbwSwjwBZaybxcX1GcXi/qDMq+Q=;
 b=diCFnTTXbu8h5dY96q5v0kwZsjSoU8ZF2z5L8hF1Ay8nagTs6pwZTEnBkq0bCMSfoL
 PYFR46Y/clMgMURovf67U1rTyMXJsQ2oO2bu0EqgQJH6b7rE7N/Z4tnVcwDIp3SaaKWW
 S74KVP+Ubz/Wt+rZk/KkTXl3Jb3LZKOdaXNME=
X-Google-DKIM-Signature: v=1; a=rsa-sha256; c=relaxed/relaxed;
 d=1e100.net; s=20221208; t=1688207355; x=1690799355;
 h=cc:to:from:subject:message-id:date:x-gm-message-state:from:to:cc
 :subject:date:message-id:reply-to;
 bh=7icj40DTKxwHNdJXcbwSwjwBZaybxcX1GcXi/qDMq+Q=;
 b=H33Nn7RpiGPKfExqPmrYxT5XoCJC6UWA6hP8BmRlPs/0sW1fFpeD8LBSbMG3Y6/vXe
 w1zad8TUvzuWFV1hBzmeaKRZSH4xJXjIhEliCXL4i9IbvYZrw9fXnciQGGG0Ay2dWEB7
 vGVfG0lLBSB9AGrxvRIbxlLsJ+o/eFlsu4QklH1LJl4j1RomA5HbaE513U/bQ1awe9rk
 KCV49N4mtWsF/AK5I6r0i2LYDQSaeIl9UB+dK6WZS9yRmkY6Vx7fy04eUkUuvcGHoqxK
 2uyRAXOEpkda2k5MUJyf3bgUDWbi9UaRFdPt8fursoMz06F/0S6Ip8NcTWBI6H8xzvff
 uviA==
X-Gm-Message-State: AC+VfDwUIfBg8Fmjk5/D7NqTtUSI3Bi8ho2AlQxFzmoc+/0y+2nSx7jg
 NEc7MpReD/GC5frheaGUHxs6SHJPUpCnC+Tlp5pldPMDrmj2C78HzezKWdXrWpOkzkwedfRzIA=
 =
X-Google-Smtp-Source: ACHHUZ4ExhfMjVQxyMB4+XL8kq8DON0cNmq49UGqqp+73yGbawYlWQ+WQgdpoKLt59s8EJFOE6B4S49pxH5l
X-Received: by 2002:a05:6a20:9147:b0:127:24f8:bdfa with SMTP id
 x7-20020a056a20914700b0012724f8bdfamr3810930pzc.31.1688207355365; 
 Sat, 01 Jul 2023 03:29:15 -0700 (PDT)
Received: from postal.iol.unh.edu (postal.iol.unh.edu.
 [2606:4100:3880:1234::84]) by smtp-relay.gmail.com with ESMTPS id
 q16-20020a170902bd9000b001b6a26ffed1sm487691pls.141.2023.07.01.03.29.15
 (version=TLS1_2 cipher=ECDHE-ECDSA-AES128-GCM-SHA256 bits=128/128);
 Sat, 01 Jul 2023 03:29:15 -0700 (PDT)
X-Relaying-Domain: iol.unh.edu
Date: Sat, 01 Jul 2023 03:29:15 -0700 (PDT)
Message-ID: <649ffffb.170a0220.3084.e9faSMTPIN_ADDED_MISSING@mx.google.com>
Received: from [172.17.0.3] (unknown [172.18.0.34])
 by postal.iol.unh.edu (Postfix) with ESMTP id 7BCCA605246B;
 Sat,  1 Jul 2023 06:29:14 -0400 (EDT)
Subject: |SUCCESS| pw129165 [PATCH] app/testpmd: fix the rule number parsing
From: dpdklab@iol.unh.edu
To: Test Report <test-report@dpdk.org>
Cc: Bing Zhao <bingz@nvidia.com>
Content-Type: text/plain
X-BeenThere: test-report@dpdk.org
X-Mailman-Version: 2.1.29
Precedence: list
List-Id: automatic DPDK test reports <test-report.dpdk.org>
List-Unsubscribe: <https://mails.dpdk.org/options/test-report>,
 <mailto:test-report-request@dpdk.org?subject=unsubscribe>
List-Archive: <http://mails.dpdk.org/archives/test-report/>
List-Post: <mailto:test-report@dpdk.org>
List-Help: <mailto:test-report-request@dpdk.org?subject=help>
List-Subscribe: <https://mails.dpdk.org/listinfo/test-report>,
 <mailto:test-report-request@dpdk.org?subject=subscribe>
Errors-To: test-report-bounces@dpdk.org

Test-Label: iol-abi-testing
Test-Status: SUCCESS
http://dpdk.org/patch/129165

_Testing PASS_

Submitter: Bing Zhao <bingz@nvidia.com>
Date: Friday, June 30 2023 13:30:02 
DPDK git baseline: Repo:dpdk
  Branch: master
  CommitID:93a4b3beba4ee611685148917981f846427cafb2

129165 --> testing pass

Test environment and result as below:

+------------------+----------+
|   Environment    | abi_test |
+==================+==========+
| CentOS Stream 9  | PASS     |
+------------------+----------+
| Debian Buster    | PASS     |
+------------------+----------+
| RHEL8            | PASS     |
+------------------+----------+
| Fedora 38        | PASS     |
+------------------+----------+
| RHEL 7           | PASS     |
+------------------+----------+
| openSUSE Leap 15 | PASS     |
+------------------+----------+
| CentOS Stream 8  | PASS     |
+------------------+----------+
| Debian Bullseye  | PASS     |
+------------------+----------+


CentOS Stream 9
	Kernel: 4.18.0-240.10.1.el8_3.x86_64
	Compiler: gcc 11.3.1 20220421

Debian Buster
	Kernel: 5.4.0-122-generic
	Compiler: gcc 8.3.0-6

RHEL8
	Kernel: 4.18.0-240.10.1.el8_3.x86_64
	Compiler: gcc 8.3.1 20191121 (Red Hat 8.3.1-5)

Fedora 38
	Kernel: Depends on container host
	Compiler: clang 16.0.3

RHEL 7
	Kernel: 4.18.0-240.10.1.el8_3.x86_64
	Compiler: gcc 4.8.5 20150623 (Red Hat 4.8.5-44)

openSUSE Leap 15
	Kernel: 4.18.0-240.10.1.el8_3.x86_64
	Compiler: gcc 7.5.0

CentOS Stream 8
	Kernel: 4.18.0-240.10.1.el8_3.x86_64
	Compiler: gcc 8.4.1 20200928

Debian Bullseye
	Kernel: 5.4.0-122-generic
	Compiler: gcc 10.2.1-6

To view detailed results, visit:
https://lab.dpdk.org/results/dashboard/patchsets/26900/

UNH-IOL DPDK Community Lab

To manage your email subscriptions, visit: 
https://lab.dpdk.org/results/dashboard/preferences/subscriptions/