From mboxrd@z Thu Jan  1 00:00:00 1970
Return-Path: <test-report-bounces@dpdk.org>
Received: from mails.dpdk.org (mails.dpdk.org [217.70.189.124])
	by inbox.dpdk.org (Postfix) with ESMTP id EA1E642DBE
	for <public@inbox.dpdk.org>; Mon,  3 Jul 2023 06:08:10 +0200 (CEST)
Received: from mails.dpdk.org (localhost [127.0.0.1])
	by mails.dpdk.org (Postfix) with ESMTP id C476E40156;
	Mon,  3 Jul 2023 06:08:10 +0200 (CEST)
Received: from mail-io1-f100.google.com (mail-io1-f100.google.com
 [209.85.166.100])
 by mails.dpdk.org (Postfix) with ESMTP id 74A9240156
 for <test-report@dpdk.org>; Mon,  3 Jul 2023 06:08:09 +0200 (CEST)
Received: by mail-io1-f100.google.com with SMTP id
 ca18e2360f4ac-783698a37beso221066239f.0
 for <test-report@dpdk.org>; Sun, 02 Jul 2023 21:08:09 -0700 (PDT)
DKIM-Signature: v=1; a=rsa-sha256; c=relaxed/relaxed;
 d=iol.unh.edu; s=unh-iol; t=1688357289; x=1690949289;
 h=cc:to:from:subject:message-id:date:from:to:cc:subject:date
 :message-id:reply-to;
 bh=SXeS3m37OmDgKGvpkxd4naKrqF/3NkMJIxUO1HOIG8w=;
 b=NPnlNsja74GIApLB5E2GEHu0b0ugQZCCw+y2PuiH1xj14syeOti3p5YU0Gegy4t7Zv
 rguNsbMFBkVaRp5m18ZQ8olW+dJMrsA+mZYKw48kw81iUorR0GrQAq0f+d4pWhiyrnQ6
 OpCijuorUwl0Me25ByjJwThCutHBKzlZDSjSA=
X-Google-DKIM-Signature: v=1; a=rsa-sha256; c=relaxed/relaxed;
 d=1e100.net; s=20221208; t=1688357289; x=1690949289;
 h=cc:to:from:subject:message-id:date:x-gm-message-state:from:to:cc
 :subject:date:message-id:reply-to;
 bh=SXeS3m37OmDgKGvpkxd4naKrqF/3NkMJIxUO1HOIG8w=;
 b=AgTOkIqsYV1XZWantMSAMm0v/aoZRBcqaBx+waqT2pA1yMuJf2ThzwhH/Hkj3T2G0w
 3JyqMLdYzrbQigaX6mDBd4JZj6m70iL2UY5TNrrRIMdLVJK51QcCP99wqlPJK+t6qZcQ
 GxdIMoXEoYhrpCqBkcVFhROnBsTs/x1MdZz+eKWujd9Aysl1uO0Xs+3/dP1T7Gmex3Vo
 1sdypMOqCi8hhy5lM985LUnxaIUW3fZJlq/xg/fonZhQeiOXhU/3sq/YgcmOu9NIL5sM
 h9XGARac7geTA7ApoHQ7+E6I+OQxFp3hvIMS8qvl8pARMorp4DgQwiiDaJ0VA6iIshVZ
 QTUg==
X-Gm-Message-State: AC+VfDzkQbHKwsWd3gh+odmxyEm7ihwNzfZ7mgUjknLXRbE/9TdQ6Aja
 vHsd7RKWDCYo6ZnRqQjZXt/6wRpaY1oHba9NCfakcBktCS6c/P8JnlyJyA==
X-Google-Smtp-Source: ACHHUZ5IQd8wwQm1qH8XEOMrk+VT9+O2vVmikw5hUssXfOOJumQER7jnixJtzJY4zwc00v9sw49mD+M9KnVD
X-Received: by 2002:a6b:fd14:0:b0:780:bb63:1869 with SMTP id
 c20-20020a6bfd14000000b00780bb631869mr10697927ioi.13.1688357288836; 
 Sun, 02 Jul 2023 21:08:08 -0700 (PDT)
Received: from postal.iol.unh.edu (postal.iol.unh.edu. [132.177.123.84])
 by smtp-relay.gmail.com with ESMTPS id
 u13-20020a05660229ad00b007862ca1545asm502847ios.29.2023.07.02.21.08.08
 (version=TLS1_2 cipher=ECDHE-ECDSA-AES128-GCM-SHA256 bits=128/128);
 Sun, 02 Jul 2023 21:08:08 -0700 (PDT)
X-Relaying-Domain: iol.unh.edu
Date: Sun, 02 Jul 2023 21:08:08 -0700 (PDT)
Message-ID: <64a249a8.050a0220.b4367.3031SMTPIN_ADDED_MISSING@mx.google.com>
Received: from [172.17.0.3] (unknown [172.18.0.34])
 by postal.iol.unh.edu (Postfix) with ESMTP id 38339605246B;
 Mon,  3 Jul 2023 00:08:06 -0400 (EDT)
Subject: |SUCCESS| pw129139 [PATCH] Updated to dpdk20.11
From: dpdklab@iol.unh.edu
To: Test Report <test-report@dpdk.org>
Cc: dpdk-test-reports@iol.unh.edu
Content-Type: text/plain
X-BeenThere: test-report@dpdk.org
X-Mailman-Version: 2.1.29
Precedence: list
List-Id: automatic DPDK test reports <test-report.dpdk.org>
List-Unsubscribe: <https://mails.dpdk.org/options/test-report>,
 <mailto:test-report-request@dpdk.org?subject=unsubscribe>
List-Archive: <http://mails.dpdk.org/archives/test-report/>
List-Post: <mailto:test-report@dpdk.org>
List-Help: <mailto:test-report-request@dpdk.org?subject=help>
List-Subscribe: <https://mails.dpdk.org/listinfo/test-report>,
 <mailto:test-report-request@dpdk.org?subject=subscribe>
Errors-To: test-report-bounces@dpdk.org

Test-Label: iol-aarch64-compile-testing
Test-Status: SUCCESS
http://dpdk.org/patch/129139

_Testing PASS_

Submitter: David Young <dave@youngcopy.com>
Date: Thursday, June 29 2023 18:12:08 
DPDK git baseline: Repo:dpdk
  Branch: master
  CommitID:93a4b3beba4ee611685148917981f846427cafb2

129139 --> testing pass

Test environment and result as below:

+----------------------------------------+--------------------+
|              Environment               | dpdk_meson_compile |
+========================================+====================+
| Ubuntu 20.04 ARM GCC Cross Compile     | PASS               |
+----------------------------------------+--------------------+
| Debian 11 (Buster) (ARM)               | PASS               |
+----------------------------------------+--------------------+
| Ubuntu 20.04 (ARM)                     | PASS               |
+----------------------------------------+--------------------+
| Fedora 37 (ARM)                        | PASS               |
+----------------------------------------+--------------------+
| Fedora 38 (ARM)                        | PASS               |
+----------------------------------------+--------------------+
| CentOS Stream 9 (ARM)                  | PASS               |
+----------------------------------------+--------------------+
| Ubuntu 20.04 aarch32 GCC Cross Compile | PASS               |
+----------------------------------------+--------------------+
| Ubuntu 20.04 ARM Clang Cross Compile   | PASS               |
+----------------------------------------+--------------------+
| Ubuntu 20.04 ARM SVE                   | PASS               |
+----------------------------------------+--------------------+
| Fedora 38 (ARM Clang)                  | PASS               |
+----------------------------------------+--------------------+


Ubuntu 20.04 ARM GCC Cross Compile
	Kernel: 5.4.0-72-generic
	Compiler: aarch64-linux-gnu-gcc (Ubuntu 9.3.0-17ubuntu1~20.04) 9.3.0

Debian 11 (Buster) (ARM)
	Kernel: Container Host Kernel
	Compiler: gcc 10.2.1

Ubuntu 20.04 (ARM)
	Kernel: Container Host Kernel
	Compiler: gcc 9.4.0

Fedora 37 (ARM)
	Kernel: Depends on container host
	Compiler: gcc 12.3.1

Fedora 38 (ARM)
	Kernel: Depends on container host
	Compiler: gcc 13.1.1

CentOS Stream 9 (ARM)
	Kernel: Container Host Kernel
	Compiler: gcc 11.3.1

Ubuntu 20.04 aarch32 GCC Cross Compile
	Kernel: 5.4.0-72-generic
	Compiler: gcc 9.3.0

Ubuntu 20.04 ARM Clang Cross Compile
	Kernel: 5.4.0-72-generic
	Compiler: clang version 10.0.0-4ubuntu1

Ubuntu 20.04 ARM SVE
	Kernel: 5.4.0-80-generic
	Compiler: gcc 10.3.0 (Ubuntu 10.3.0-1ubuntu1~20.04)

Fedora 38 (ARM Clang)
	Kernel: Depends on container host
	Compiler: clang 16.0.3

To view detailed results, visit:
https://lab.dpdk.org/results/dashboard/patchsets/26878/

UNH-IOL DPDK Community Lab

To manage your email subscriptions, visit: 
https://lab.dpdk.org/results/dashboard/preferences/subscriptions/