From mboxrd@z Thu Jan  1 00:00:00 1970
Return-Path: <test-report-bounces@dpdk.org>
Received: from mails.dpdk.org (mails.dpdk.org [217.70.189.124])
	by inbox.dpdk.org (Postfix) with ESMTP id A8BBD42DC4
	for <public@inbox.dpdk.org>; Mon,  3 Jul 2023 20:00:01 +0200 (CEST)
Received: from mails.dpdk.org (localhost [127.0.0.1])
	by mails.dpdk.org (Postfix) with ESMTP id A3DCB400EF;
	Mon,  3 Jul 2023 20:00:01 +0200 (CEST)
Received: from mail-ot1-f97.google.com (mail-ot1-f97.google.com
 [209.85.210.97]) by mails.dpdk.org (Postfix) with ESMTP id 794E1400EF
 for <test-report@dpdk.org>; Mon,  3 Jul 2023 20:00:00 +0200 (CEST)
Received: by mail-ot1-f97.google.com with SMTP id
 46e09a7af769-6b7541d885cso3698863a34.3
 for <test-report@dpdk.org>; Mon, 03 Jul 2023 11:00:00 -0700 (PDT)
DKIM-Signature: v=1; a=rsa-sha256; c=relaxed/relaxed;
 d=iol.unh.edu; s=unh-iol; t=1688407200; x=1690999200;
 h=cc:to:from:subject:message-id:date:from:to:cc:subject:date
 :message-id:reply-to;
 bh=9LsvDVF0nuW1oXTQ1GP3FMTqJUK44DOwwIKiFzuqqHk=;
 b=YEspJLj5aIx9G7/CrHTZ4vEtSNVMF9nchm+c1ptxwO0x6g6uBShoWh6aVGwcUYAe0a
 WUv3E/GDEqqwx0n+RwL7YnoD/YytiRShC5RvOc/IQ+95bX6QMPhvJBSM1tlYwAKiOyhF
 EmA01tKLzeeuFulAF+hkjdP2hOyVaExgM6f+k=
X-Google-DKIM-Signature: v=1; a=rsa-sha256; c=relaxed/relaxed;
 d=1e100.net; s=20221208; t=1688407200; x=1690999200;
 h=cc:to:from:subject:message-id:date:x-gm-message-state:from:to:cc
 :subject:date:message-id:reply-to;
 bh=9LsvDVF0nuW1oXTQ1GP3FMTqJUK44DOwwIKiFzuqqHk=;
 b=KC5p6GHRyTQ4Hmm6FVG9b/BZBufMGwI4D3KQthkmR1A3jRtZqMSkeX+lj1qgsV449f
 4C8yH/hbxvIOxwLwfMxip7ad9e4qqn2h5gT7ummGfkMwEUvSQoO2m3SwRvefhqi7PYlC
 IWXxQRzDuO9wPHNGSu97O4nfou50TqoUOAiSlyJYS1ZgFjdZLxTGP1RlFDHOxNZI4joM
 rcIvffK4Kmn6geuCctJ94EdQ7UxplxuRU7SSz5vqnoDt5GVjAgvse4AnHaylp8KORsMp
 7zoyAj1C9+PZa7cqFFSW9MgvLJ39lPbUcI1b0ZMhSAH1xW8IITGZgEW1Cw1Q9VLLArk4
 gY9A==
X-Gm-Message-State: AC+VfDz2F0X2wx/9bxp5ZFIRxX2xTYpYeWXf/EeWC+5iUe6MtXiFgRi8
 3PzJPWipoMCK5YhxXAMm0+t5uLMIZXQ4h4TFvcgIRDwoMc1lnqYqN6hCOA==
X-Google-Smtp-Source: ACHHUZ4Fu/XwBdqUg7A/oc96cufiP4UoNNcyc1pRZH7RhoGQTLML5D2uG77RmVpf+UWu77ti5bPB04wOPEKB
X-Received: by 2002:a05:6870:ebc6:b0:19f:2257:6865 with SMTP id
 cr6-20020a056870ebc600b0019f22576865mr11598213oab.31.1688407199812; 
 Mon, 03 Jul 2023 10:59:59 -0700 (PDT)
Received: from postal.iol.unh.edu (postal.iol.unh.edu. [132.177.123.84])
 by smtp-relay.gmail.com with ESMTPS id
 em8-20020a0568705b8800b001aa7946a013sm1784729oab.13.2023.07.03.10.59.59
 (version=TLS1_2 cipher=ECDHE-ECDSA-AES128-GCM-SHA256 bits=128/128);
 Mon, 03 Jul 2023 10:59:59 -0700 (PDT)
X-Relaying-Domain: iol.unh.edu
Date: Mon, 03 Jul 2023 10:59:59 -0700 (PDT)
Message-ID: <64a30c9f.050a0220.a27fc.37f7SMTPIN_ADDED_MISSING@mx.google.com>
Received: from [172.17.0.3] (unknown [172.18.0.34])
 by postal.iol.unh.edu (Postfix) with ESMTP id 6D2D5605246B;
 Mon,  3 Jul 2023 13:59:59 -0400 (EDT)
Subject: |SUCCESS| pw129183 [PATCH] doc: add ice VF live migration guide
From: dpdklab@iol.unh.edu
To: Test Report <test-report@dpdk.org>
Cc: Lingyu Liu <lingyu.liu@intel.com>
Content-Type: text/plain
X-BeenThere: test-report@dpdk.org
X-Mailman-Version: 2.1.29
Precedence: list
List-Id: automatic DPDK test reports <test-report.dpdk.org>
List-Unsubscribe: <https://mails.dpdk.org/options/test-report>,
 <mailto:test-report-request@dpdk.org?subject=unsubscribe>
List-Archive: <http://mails.dpdk.org/archives/test-report/>
List-Post: <mailto:test-report@dpdk.org>
List-Help: <mailto:test-report-request@dpdk.org?subject=help>
List-Subscribe: <https://mails.dpdk.org/listinfo/test-report>,
 <mailto:test-report-request@dpdk.org?subject=subscribe>
Errors-To: test-report-bounces@dpdk.org

Test-Label: iol-abi-testing
Test-Status: SUCCESS
http://dpdk.org/patch/129183

_Testing PASS_

Submitter: Lingyu Liu <lingyu.liu@intel.com>
Date: Monday, July 03 2023 05:14:49 
DPDK git baseline: Repo:dpdk-next-net-intel
  Branch: master
  CommitID:a174a774640a32590ceabd609aa94644d1211193

129183 --> testing pass

Test environment and result as below:

+------------------+----------+
|   Environment    | abi_test |
+==================+==========+
| CentOS Stream 8  | PASS     |
+------------------+----------+
| Debian Bullseye  | PASS     |
+------------------+----------+
| Ubuntu 22.04     | PASS     |
+------------------+----------+
| openSUSE Leap 15 | PASS     |
+------------------+----------+
| Debian Buster    | PASS     |
+------------------+----------+


CentOS Stream 8
	Kernel: 4.18.0-240.10.1.el8_3.x86_64
	Compiler: gcc 8.4.1 20200928

Debian Bullseye
	Kernel: 5.4.0-122-generic
	Compiler: gcc 10.2.1-6

Ubuntu 22.04
	Kernel: 4.18.0-240.10.1.el8_3.x86_64
	Compiler: gcc 11.3.0

openSUSE Leap 15
	Kernel: 4.18.0-240.10.1.el8_3.x86_64
	Compiler: gcc 7.5.0

Debian Buster
	Kernel: 5.4.0-122-generic
	Compiler: gcc 8.3.0-6

To view detailed results, visit:
https://lab.dpdk.org/results/dashboard/patchsets/26916/

UNH-IOL DPDK Community Lab

To manage your email subscriptions, visit: 
https://lab.dpdk.org/results/dashboard/preferences/subscriptions/