From: dpdklab@iol.unh.edu
To: Test Report <test-report@dpdk.org>
Cc: dpdk-test-reports@iol.unh.edu
Subject: |SUCCESS| pw129270 [PATCH] doc: update iavf feature list
Date: Tue, 04 Jul 2023 23:40:28 -0700 (PDT) [thread overview]
Message-ID: <64a5105c.b00a0220.cd4f1.a373SMTPIN_ADDED_MISSING@mx.google.com> (raw)
Test-Label: iol-x86_64-compile-testing
Test-Status: SUCCESS
http://dpdk.org/patch/129270
_Testing PASS_
Submitter: Zhichao Zeng <zhichaox.zeng@intel.com>
Date: Wednesday, July 05 2023 06:02:46
DPDK git baseline: Repo:dpdk-next-net-intel
Branch: master
CommitID:3dbf1b6d6545045c28b205609225fd4be3943212
129270 --> testing pass
Test environment and result as below:
+---------------------+--------------------+----------------------+
| Environment | dpdk_meson_compile | dpdk_mingw64_compile |
+=====================+====================+======================+
| Debian Bullseye | PASS | SKIPPED |
+---------------------+--------------------+----------------------+
| CentOS Stream 8 | PASS | SKIPPED |
+---------------------+--------------------+----------------------+
| CentOS Stream 9 | PASS | SKIPPED |
+---------------------+--------------------+----------------------+
| Debian Buster | PASS | SKIPPED |
+---------------------+--------------------+----------------------+
| Fedora 37 | PASS | SKIPPED |
+---------------------+--------------------+----------------------+
| FreeBSD 13 | PASS | SKIPPED |
+---------------------+--------------------+----------------------+
| Windows Server 2019 | PASS | PASS |
+---------------------+--------------------+----------------------+
| Fedora 38 | PASS | SKIPPED |
+---------------------+--------------------+----------------------+
| RHEL8 | PASS | SKIPPED |
+---------------------+--------------------+----------------------+
| openSUSE Leap 15 | PASS | SKIPPED |
+---------------------+--------------------+----------------------+
| RHEL 7 | PASS | SKIPPED |
+---------------------+--------------------+----------------------+
| Ubuntu 22.04 | PASS | SKIPPED |
+---------------------+--------------------+----------------------+
| Ubuntu 20.04 | PASS | SKIPPED |
+---------------------+--------------------+----------------------+
| Alpine | PASS | SKIPPED |
+---------------------+--------------------+----------------------+
Debian Bullseye
Kernel: 5.4.0-122-generic
Compiler: gcc 10.2.1-6
CentOS Stream 8
Kernel: 4.18.0-240.10.1.el8_3.x86_64
Compiler: gcc 8.4.1 20200928
CentOS Stream 9
Kernel: 4.18.0-240.10.1.el8_3.x86_64
Compiler: gcc 11.3.1 20220421
Debian Buster
Kernel: 5.4.0-122-generic
Compiler: gcc 8.3.0-6
Fedora 37
Kernel: Depends on container host system
Compiler: gcc 12.3.1
FreeBSD 13
Kernel: 13.0
Compiler: clang 11.0.1
Windows Server 2019
Kernel: 10.0
Compiler: clang 14.0 and gcc 8.1.0 (MinGW)
Fedora 38
Kernel: Depends on container host
Compiler: gcc 13.1.1
RHEL8
Kernel: 4.18.0-240.10.1.el8_3.x86_64
Compiler: gcc 8.3.1 20191121 (Red Hat 8.3.1-5)
openSUSE Leap 15
Kernel: 4.18.0-240.10.1.el8_3.x86_64
Compiler: gcc 7.5.0
RHEL 7
Kernel: 4.18.0-240.10.1.el8_3.x86_64
Compiler: gcc 4.8.5 20150623 (Red Hat 4.8.5-44)
Ubuntu 22.04
Kernel: 4.18.0-240.10.1.el8_3.x86_64
Compiler: gcc 11.3.0
Ubuntu 20.04
Kernel: 4.18.0-240.10.1.el8_3.x86_64
Compiler: gcc 9.3.0-17ubuntu1~20.04
Alpine
Kernel: 5.4.0-73-generic
Compiler: gcc (Alpine 10.3.1_git20210424) 10.3.1 20210424
To view detailed results, visit:
https://lab.dpdk.org/results/dashboard/patchsets/26959/
UNH-IOL DPDK Community Lab
To manage your email subscriptions, visit:
https://lab.dpdk.org/results/dashboard/preferences/subscriptions/
next reply other threads:[~2023-07-05 6:40 UTC|newest]
Thread overview: 34+ messages / expand[flat|nested] mbox.gz Atom feed top
2023-07-05 6:40 dpdklab [this message]
-- strict thread matches above, loose matches on Subject: below --
2023-07-07 3:08 dpdklab
2023-07-05 7:24 dpdklab
2023-07-05 7:21 dpdklab
2023-07-05 7:18 dpdklab
2023-07-05 7:10 dpdklab
2023-07-05 7:06 dpdklab
[not found] <20230705060246.522820-1-zhichaox.zeng@intel.com>
2023-07-05 5:43 ` qemudev
2023-07-05 5:47 ` qemudev
2023-07-05 5:57 ` checkpatch
2023-07-05 6:59 ` 0-day Robot
2023-07-05 6:58 dpdklab
2023-07-05 6:58 dpdklab
2023-07-05 6:50 dpdklab
2023-07-05 6:46 dpdklab
2023-07-05 6:46 dpdklab
2023-07-05 6:45 dpdklab
2023-07-05 6:44 dpdklab
2023-07-05 6:44 dpdklab
2023-07-05 6:41 dpdklab
2023-07-05 6:41 dpdklab
2023-07-05 6:41 dpdklab
2023-07-05 6:40 dpdklab
2023-07-05 6:38 dpdklab
2023-07-05 6:37 dpdklab
2023-07-05 6:32 dpdklab
2023-07-05 6:30 dpdklab
2023-07-05 6:30 dpdklab
2023-07-05 6:29 dpdklab
2023-07-05 6:27 dpdklab
2023-07-05 6:27 dpdklab
2023-07-05 6:25 dpdklab
2023-07-05 6:24 dpdklab
2023-07-05 6:24 dpdklab
Reply instructions:
You may reply publicly to this message via plain-text email
using any one of the following methods:
* Save the following mbox file, import it into your mail client,
and reply-to-all from there: mbox
Avoid top-posting and favor interleaved quoting:
https://en.wikipedia.org/wiki/Posting_style#Interleaved_style
* Reply using the --to, --cc, and --in-reply-to
switches of git-send-email(1):
git send-email \
--in-reply-to=64a5105c.b00a0220.cd4f1.a373SMTPIN_ADDED_MISSING@mx.google.com \
--to=dpdklab@iol.unh.edu \
--cc=dpdk-test-reports@iol.unh.edu \
--cc=test-report@dpdk.org \
/path/to/YOUR_REPLY
https://kernel.org/pub/software/scm/git/docs/git-send-email.html
* If your mail client supports setting the In-Reply-To header
via mailto: links, try the mailto: link
Be sure your reply has a Subject: header at the top and a blank line
before the message body.
This is a public inbox, see mirroring instructions
for how to clone and mirror all data and code used for this inbox;
as well as URLs for NNTP newsgroup(s).