From mboxrd@z Thu Jan  1 00:00:00 1970
Return-Path: <test-report-bounces@dpdk.org>
Received: from mails.dpdk.org (mails.dpdk.org [217.70.189.124])
	by inbox.dpdk.org (Postfix) with ESMTP id 4C94542DD2
	for <public@inbox.dpdk.org>; Wed,  5 Jul 2023 09:18:39 +0200 (CEST)
Received: from mails.dpdk.org (localhost [127.0.0.1])
	by mails.dpdk.org (Postfix) with ESMTP id 46B2040150;
	Wed,  5 Jul 2023 09:18:39 +0200 (CEST)
Received: from mail-ua1-f97.google.com (mail-ua1-f97.google.com
 [209.85.222.97]) by mails.dpdk.org (Postfix) with ESMTP id EAA2040150
 for <test-report@dpdk.org>; Wed,  5 Jul 2023 09:18:37 +0200 (CEST)
Received: by mail-ua1-f97.google.com with SMTP id
 a1e0cc1a2514c-79414715edeso1536588241.0
 for <test-report@dpdk.org>; Wed, 05 Jul 2023 00:18:37 -0700 (PDT)
DKIM-Signature: v=1; a=rsa-sha256; c=relaxed/relaxed;
 d=iol.unh.edu; s=unh-iol; t=1688541517; x=1691133517;
 h=cc:to:from:subject:message-id:date:from:to:cc:subject:date
 :message-id:reply-to;
 bh=LhAolC2Lh+TG55Eyi1v7BpXlwcUXYuYJweC4fDdrlY8=;
 b=VZFRKaGdSJyrecrsWw17msHZWN+8vU3z/hQJzVkdgIw47Y/Ls9ec+tgaBo1tQ1TFdX
 CR6iZL9Z/NLhC80gkpNMtVb8slfouObqtv0z6gkgOQXtMANN9FEqp3Y1YQsAgVA1Scdf
 8UyVJXtDgeiEDKKrjXCKdjP5SHZMWEDPJGngM=
X-Google-DKIM-Signature: v=1; a=rsa-sha256; c=relaxed/relaxed;
 d=1e100.net; s=20221208; t=1688541517; x=1691133517;
 h=cc:to:from:subject:message-id:date:x-gm-message-state:from:to:cc
 :subject:date:message-id:reply-to;
 bh=LhAolC2Lh+TG55Eyi1v7BpXlwcUXYuYJweC4fDdrlY8=;
 b=IKUdyMt14QBmtlbeRE1rNQ5R6+dNRVOV0GtKUe7dpXu8zAEnnscZ6W4jC0+NJfrWu8
 CJvwi4mZHB47T2/3DAsJMIIJyoxMlB3LJrG4b8WiVW/9Yg045SPZneQceR/DjvHVk89+
 7js1fwTIqWCXENH0GRRil8YbqJVl/Gg2D/bRcKMgmwdmRosAZ7KA/tx5NA5HHkaG+XjB
 Yw+dKYV1UuvJNwGKywHps9UM6xbSYHeiugnPI00KsZjuu6rGaHfCIpqie0/2qKvhU7CV
 yqOizr5Y54sCjtcixkua2mIKZAc2uUdW+Bbb7oM22CAH8ByLRJQ9edOd7Us5RMp7kBC3
 m4hw==
X-Gm-Message-State: ABy/qLbjlHZnqmIPK2CAqwYelOafLqRmA/uVKFb9gxw1H1iW2wBNVKIY
 6v8uRKpBq7a6EbPPRx+4OqYaGKHxDyHF5JdLEKOKsEXFMiZJncf7KZE+qOatd82bHKbG5lizcw=
 =
X-Google-Smtp-Source: APBJJlEMg/lE4RLWoE1pnlclDHkBoTt0hWuYgrO4P7oBrjFVxEo05qJBvr0s7FFvtQwCmF15DgGf35b9lKvk
X-Received: by 2002:a05:6122:12d:b0:471:8772:1748 with SMTP id
 a13-20020a056122012d00b0047187721748mr4799356vko.3.1688541517403; 
 Wed, 05 Jul 2023 00:18:37 -0700 (PDT)
Received: from postal.iol.unh.edu (postal.iol.unh.edu.
 [2606:4100:3880:1234::84]) by smtp-relay.gmail.com with ESMTPS id
 i5-20020a056122128500b0047dfc8b5d7esm1070893vkp.13.2023.07.05.00.18.37
 (version=TLS1_2 cipher=ECDHE-ECDSA-AES128-GCM-SHA256 bits=128/128);
 Wed, 05 Jul 2023 00:18:37 -0700 (PDT)
X-Relaying-Domain: iol.unh.edu
Date: Wed, 05 Jul 2023 00:18:37 -0700 (PDT)
Message-ID: <64a5194d.050a0220.704b4.ae32SMTPIN_ADDED_MISSING@mx.google.com>
Received: from [172.17.0.3] (unknown [172.18.0.34])
 by postal.iol.unh.edu (Postfix) with ESMTP id 19F51605246B;
 Wed,  5 Jul 2023 03:18:37 -0400 (EDT)
Subject: |SUCCESS| pw129225 [PATCH] [V2] doc: add iavf live migration guide
From: dpdklab@iol.unh.edu
To: Test Report <test-report@dpdk.org>
Cc: dpdk-test-reports@iol.unh.edu
Content-Type: text/plain
X-BeenThere: test-report@dpdk.org
X-Mailman-Version: 2.1.29
Precedence: list
List-Id: automatic DPDK test reports <test-report.dpdk.org>
List-Unsubscribe: <https://mails.dpdk.org/options/test-report>,
 <mailto:test-report-request@dpdk.org?subject=unsubscribe>
List-Archive: <http://mails.dpdk.org/archives/test-report/>
List-Post: <mailto:test-report@dpdk.org>
List-Help: <mailto:test-report-request@dpdk.org?subject=help>
List-Subscribe: <https://mails.dpdk.org/listinfo/test-report>,
 <mailto:test-report-request@dpdk.org?subject=subscribe>
Errors-To: test-report-bounces@dpdk.org

Test-Label: iol-aarch64-compile-testing
Test-Status: SUCCESS
http://dpdk.org/patch/129225

_Testing PASS_

Submitter: Lingyu Liu <lingyu.liu@intel.com>
Date: Tuesday, July 04 2023 02:27:18 
DPDK git baseline: Repo:dpdk-next-net-intel
  Branch: master
  CommitID:3dbf1b6d6545045c28b205609225fd4be3943212

129225 --> testing pass

Test environment and result as below:

+----------------------------------------+--------------------+
|              Environment               | dpdk_meson_compile |
+========================================+====================+
| Ubuntu 20.04 (ARM)                     | PASS               |
+----------------------------------------+--------------------+
| Fedora 38 (ARM)                        | PASS               |
+----------------------------------------+--------------------+
| Fedora 37 (ARM)                        | PASS               |
+----------------------------------------+--------------------+
| CentOS Stream 9 (ARM)                  | PASS               |
+----------------------------------------+--------------------+
| Debian 11 (Buster) (ARM)               | PASS               |
+----------------------------------------+--------------------+
| Ubuntu 20.04 aarch32 GCC Cross Compile | PASS               |
+----------------------------------------+--------------------+
| Ubuntu 20.04 ARM Clang Cross Compile   | PASS               |
+----------------------------------------+--------------------+
| Ubuntu 20.04 ARM GCC Cross Compile     | PASS               |
+----------------------------------------+--------------------+
| Ubuntu 20.04 ARM SVE                   | PASS               |
+----------------------------------------+--------------------+
| Fedora 38 (ARM Clang)                  | PASS               |
+----------------------------------------+--------------------+


Ubuntu 20.04 (ARM)
	Kernel: Container Host Kernel
	Compiler: gcc 9.4.0

Fedora 38 (ARM)
	Kernel: Depends on container host
	Compiler: gcc 13.1.1

Fedora 37 (ARM)
	Kernel: Depends on container host
	Compiler: gcc 12.3.1

CentOS Stream 9 (ARM)
	Kernel: Container Host Kernel
	Compiler: gcc 11.3.1

Debian 11 (Buster) (ARM)
	Kernel: Container Host Kernel
	Compiler: gcc 10.2.1

Ubuntu 20.04 aarch32 GCC Cross Compile
	Kernel: 5.4.0-72-generic
	Compiler: gcc 9.3.0

Ubuntu 20.04 ARM Clang Cross Compile
	Kernel: 5.4.0-72-generic
	Compiler: clang version 10.0.0-4ubuntu1

Ubuntu 20.04 ARM GCC Cross Compile
	Kernel: 5.4.0-72-generic
	Compiler: aarch64-linux-gnu-gcc (Ubuntu 9.3.0-17ubuntu1~20.04) 9.3.0

Ubuntu 20.04 ARM SVE
	Kernel: 5.4.0-80-generic
	Compiler: gcc 10.3.0 (Ubuntu 10.3.0-1ubuntu1~20.04)

Fedora 38 (ARM Clang)
	Kernel: Depends on container host
	Compiler: clang 16.0.3

To view detailed results, visit:
https://lab.dpdk.org/results/dashboard/patchsets/26942/

UNH-IOL DPDK Community Lab

To manage your email subscriptions, visit: 
https://lab.dpdk.org/results/dashboard/preferences/subscriptions/