From: dpdklab@iol.unh.edu
To: Test Report <test-report@dpdk.org>
Cc: dpdk-test-reports@iol.unh.edu
Subject: |SUCCESS| pw129295-129297 [PATCH] [2/2] vduse: fix missing event ind
Date: Wed, 05 Jul 2023 07:25:24 -0700 (PDT) [thread overview]
Message-ID: <64a57d54.810a0220.8487c.8663SMTPIN_ADDED_MISSING@mx.google.com> (raw)
Test-Label: iol-aarch-unit-testing
Test-Status: SUCCESS
http://dpdk.org/patch/129297
_Testing PASS_
Submitter: Maxime Coquelin <maxime.coquelin@redhat.com>
Date: Wednesday, July 05 2023 13:22:32
DPDK git baseline: Repo:dpdk-next-virtio
Branch: master
CommitID:93a4b3beba4ee611685148917981f846427cafb2
129295-129297 --> testing pass
Test environment and result as below:
+-----------------------------+---------------------------+------------------------------+--------------+----------------+
| Environment | cryptodev_sw_zuc_autotest | cryptodev_sw_snow3g_autotest | lpm_autotest | dpdk_unit_test |
+=============================+===========================+==============================+==============+================+
| Debian 11 | PASS | PASS | SKIPPED | SKIPPED |
+-----------------------------+---------------------------+------------------------------+--------------+----------------+
| Ubuntu 20.04 ARM SVE | SKIPPED | SKIPPED | PASS | SKIPPED |
+-----------------------------+---------------------------+------------------------------+--------------+----------------+
| (32-bit) ARM Ubuntu 20.04.4 | SKIPPED | SKIPPED | SKIPPED | PASS |
+-----------------------------+---------------------------+------------------------------+--------------+----------------+
Debian 11
Kernel: Container Host Kernel
Compiler: gcc 10.2.1
Ubuntu 20.04 ARM SVE
Kernel: 5.4.0-80-generic
Compiler: gcc 10.3.0 (Ubuntu 10.3.0-1ubuntu1~20.04)
(32-bit) ARM Ubuntu 20.04.4
Kernel: 5.4.0-148-generic aarch64
Compiler: gcc 9.4
To view detailed results, visit:
https://lab.dpdk.org/results/dashboard/patchsets/26976/
UNH-IOL DPDK Community Lab
To manage your email subscriptions, visit:
https://lab.dpdk.org/results/dashboard/preferences/subscriptions/
next reply other threads:[~2023-07-05 14:25 UTC|newest]
Thread overview: 28+ messages / expand[flat|nested] mbox.gz Atom feed top
2023-07-05 14:25 dpdklab [this message]
-- strict thread matches above, loose matches on Subject: below --
2023-07-07 17:39 dpdklab
2023-07-05 15:00 dpdklab
2023-07-05 14:54 dpdklab
2023-07-05 14:44 dpdklab
2023-07-05 14:40 dpdklab
2023-07-05 14:38 dpdklab
2023-07-05 14:37 dpdklab
2023-07-05 14:36 dpdklab
2023-07-05 14:33 dpdklab
2023-07-05 14:29 dpdklab
2023-07-05 14:27 dpdklab
2023-07-05 14:26 dpdklab
2023-07-05 14:25 dpdklab
2023-07-05 14:23 dpdklab
2023-07-05 14:22 dpdklab
2023-07-05 14:19 dpdklab
2023-07-05 14:18 dpdklab
2023-07-05 14:17 dpdklab
2023-07-05 14:11 dpdklab
2023-07-05 14:10 dpdklab
2023-07-05 14:09 dpdklab
2023-07-05 14:08 dpdklab
2023-07-05 14:07 dpdklab
2023-07-05 14:07 dpdklab
2023-07-05 14:06 dpdklab
2023-07-05 14:05 dpdklab
2023-07-05 14:05 dpdklab
Reply instructions:
You may reply publicly to this message via plain-text email
using any one of the following methods:
* Save the following mbox file, import it into your mail client,
and reply-to-all from there: mbox
Avoid top-posting and favor interleaved quoting:
https://en.wikipedia.org/wiki/Posting_style#Interleaved_style
* Reply using the --to, --cc, and --in-reply-to
switches of git-send-email(1):
git send-email \
--in-reply-to=64a57d54.810a0220.8487c.8663SMTPIN_ADDED_MISSING@mx.google.com \
--to=dpdklab@iol.unh.edu \
--cc=dpdk-test-reports@iol.unh.edu \
--cc=test-report@dpdk.org \
/path/to/YOUR_REPLY
https://kernel.org/pub/software/scm/git/docs/git-send-email.html
* If your mail client supports setting the In-Reply-To header
via mailto: links, try the mailto: link
Be sure your reply has a Subject: header at the top and a blank line
before the message body.
This is a public inbox, see mirroring instructions
for how to clone and mirror all data and code used for this inbox;
as well as URLs for NNTP newsgroup(s).