From mboxrd@z Thu Jan  1 00:00:00 1970
Return-Path: <test-report-bounces@dpdk.org>
Received: from mails.dpdk.org (mails.dpdk.org [217.70.189.124])
	by inbox.dpdk.org (Postfix) with ESMTP id 24A1C42DDE
	for <public@inbox.dpdk.org>; Thu,  6 Jul 2023 00:07:00 +0200 (CEST)
Received: from mails.dpdk.org (localhost [127.0.0.1])
	by mails.dpdk.org (Postfix) with ESMTP id 2041A400D5;
	Thu,  6 Jul 2023 00:07:00 +0200 (CEST)
Received: from mail-pl1-f225.google.com (mail-pl1-f225.google.com
 [209.85.214.225])
 by mails.dpdk.org (Postfix) with ESMTP id 14FAE400D5
 for <test-report@dpdk.org>; Thu,  6 Jul 2023 00:06:59 +0200 (CEST)
Received: by mail-pl1-f225.google.com with SMTP id
 d9443c01a7336-1b8033987baso8696295ad.0
 for <test-report@dpdk.org>; Wed, 05 Jul 2023 15:06:59 -0700 (PDT)
DKIM-Signature: v=1; a=rsa-sha256; c=relaxed/relaxed;
 d=iol.unh.edu; s=unh-iol; t=1688594818; x=1691186818;
 h=cc:to:from:subject:message-id:date:from:to:cc:subject:date
 :message-id:reply-to;
 bh=TKcImaIwhusYYg3h41kp3y3cfzw/gONEJAYyPMZ6cZs=;
 b=griWHUK98PLVSgMC3Z5eUJuAFvEfGvxIr2SN426F5EagtoUIhswnKVXsILr36+4Ioc
 wwzk9ymSpZqckrK6Om5rdaNvKi0wTqhs78lkR5Y5wG4jqSlijPcR2W1HSOVbGzS0lufo
 MDD77nmDY8FOhn0LUqATKV7pmw+phOXB1FxTE=
X-Google-DKIM-Signature: v=1; a=rsa-sha256; c=relaxed/relaxed;
 d=1e100.net; s=20221208; t=1688594818; x=1691186818;
 h=cc:to:from:subject:message-id:date:x-gm-message-state:from:to:cc
 :subject:date:message-id:reply-to;
 bh=TKcImaIwhusYYg3h41kp3y3cfzw/gONEJAYyPMZ6cZs=;
 b=MXEyBNaGr+jgomdKjgKz+PMSRUlrufHhV+m5FFez4zO4qJBpKE2d3XdfjYUrbF6lze
 qEJixzZJ8/NnPhmNEaHkFxA8lcd/WDRxTj9Vnk47gmdOA8QzY+O7JIEeFwjDLnWXECAR
 +uP0Hh2HNONT9s002pDhW4qDh0V8XOnHV7ASMF3nxkVHkF2ECzSmdhOy9x7Pt+QOHwJI
 A6tJmZ5GnuyJEpc3uX1f+L2SdOOdONDVjSUE+z2qDmK5FhvyMWPBeb1aEXmoKbHEa/iV
 FYnuIl+7Y4gb1Eh4wLOGWPpsgptz8F0bbYYfK6WaYNLw+yJywgWA2kl5eypc1Hg4s1Sr
 QpnQ==
X-Gm-Message-State: ABy/qLYTpaE0xNyrRabpJEb6rtmeo5KNIJo2pKLkQbRlzzp0cJzPwk55
 HPHXApPU7o05trwnf52A7cW3nkymCosXa0GJP9ccwjE4kV7WOQqyD5x2qg==
X-Google-Smtp-Source: APBJJlHXpMk30KuzI0T7t+gYJcBAABTueHfqprB2AfAdyfNVzQ832hKE6EMC0z1qtkxTpeR95cBlZQDccscG
X-Received: by 2002:a17:903:32d1:b0:1b8:a67f:1c15 with SMTP id
 i17-20020a17090332d100b001b8a67f1c15mr5246878plr.25.1688594818339; 
 Wed, 05 Jul 2023 15:06:58 -0700 (PDT)
Received: from postal.iol.unh.edu (postal.iol.unh.edu. [132.177.123.84])
 by smtp-relay.gmail.com with ESMTPS id
 nl6-20020a17090b384600b00263bc04c8c8sm28476pjb.1.2023.07.05.15.06.58
 (version=TLS1_2 cipher=ECDHE-ECDSA-AES128-GCM-SHA256 bits=128/128);
 Wed, 05 Jul 2023 15:06:58 -0700 (PDT)
X-Relaying-Domain: iol.unh.edu
Date: Wed, 05 Jul 2023 15:06:58 -0700 (PDT)
Message-ID: <64a5e982.170a0220.1fec6.0b0fSMTPIN_ADDED_MISSING@mx.google.com>
Received: from [172.21.0.2] (unknown [172.18.0.240])
 by postal.iol.unh.edu (Postfix) with ESMTP id CEA92605246B;
 Wed,  5 Jul 2023 18:06:57 -0400 (EDT)
Subject: |SUCCESS| pw129261 [PATCH] service: avoid worker lcore exit deadlock
From: dpdklab@iol.unh.edu
To: Test Report <test-report@dpdk.org>
Cc: dpdk-test-reports@iol.unh.edu
Content-Type: text/plain
X-BeenThere: test-report@dpdk.org
X-Mailman-Version: 2.1.29
Precedence: list
List-Id: automatic DPDK test reports <test-report.dpdk.org>
List-Unsubscribe: <https://mails.dpdk.org/options/test-report>,
 <mailto:test-report-request@dpdk.org?subject=unsubscribe>
List-Archive: <http://mails.dpdk.org/archives/test-report/>
List-Post: <mailto:test-report@dpdk.org>
List-Help: <mailto:test-report-request@dpdk.org?subject=help>
List-Subscribe: <https://mails.dpdk.org/listinfo/test-report>,
 <mailto:test-report-request@dpdk.org?subject=subscribe>
Errors-To: test-report-bounces@dpdk.org

Test-Label: iol-abi-testing
Test-Status: SUCCESS
http://dpdk.org/patch/129261

_Testing PASS_

Submitter: Mattias Ronnblom <mattias.ronnblom@ericsson.com>
Date: Tuesday, July 04 2023 21:43:39 
DPDK git baseline: Repo:dpdk
  Branch: master
  CommitID:a64a4564705d18d20d20cfa16c79e795b7bf0f1e

129261 --> testing pass

Test environment and result as below:

+------------------+----------+
|   Environment    | abi_test |
+==================+==========+
| CentOS Stream 9  | PASS     |
+------------------+----------+
| CentOS Stream 8  | PASS     |
+------------------+----------+
| Debian Bullseye  | PASS     |
+------------------+----------+
| Debian Buster    | PASS     |
+------------------+----------+
| Fedora 37        | PASS     |
+------------------+----------+
| RHEL8            | PASS     |
+------------------+----------+
| Ubuntu 22.04     | PASS     |
+------------------+----------+
| RHEL 7           | PASS     |
+------------------+----------+
| openSUSE Leap 15 | PASS     |
+------------------+----------+


CentOS Stream 9
	Kernel: 4.18.0-240.10.1.el8_3.x86_64
	Compiler: gcc 11.3.1 20220421

CentOS Stream 8
	Kernel: 4.18.0-240.10.1.el8_3.x86_64
	Compiler: gcc 8.4.1 20200928

Debian Bullseye
	Kernel: 5.4.0-122-generic
	Compiler: gcc 10.2.1-6

Debian Buster
	Kernel: 5.4.0-122-generic
	Compiler: gcc 8.3.0-6

Fedora 37
	Kernel: Depends on container host system
	Compiler: gcc 12.3.1

RHEL8
	Kernel: 4.18.0-240.10.1.el8_3.x86_64
	Compiler: gcc 8.3.1 20191121 (Red Hat 8.3.1-5)

Ubuntu 22.04
	Kernel: 4.18.0-240.10.1.el8_3.x86_64
	Compiler: gcc 11.3.0

RHEL 7
	Kernel: 4.18.0-240.10.1.el8_3.x86_64
	Compiler: gcc 4.8.5 20150623 (Red Hat 4.8.5-44)

openSUSE Leap 15
	Kernel: 4.18.0-240.10.1.el8_3.x86_64
	Compiler: gcc 7.5.0

To view detailed results, visit:
https://lab.dpdk.org/results/dashboard/patchsets/26957/

UNH-IOL DPDK Community Lab

To manage your email subscriptions, visit: 
https://lab.dpdk.org/results/dashboard/preferences/subscriptions/