From mboxrd@z Thu Jan  1 00:00:00 1970
Return-Path: <test-report-bounces@dpdk.org>
Received: from mails.dpdk.org (mails.dpdk.org [217.70.189.124])
	by inbox.dpdk.org (Postfix) with ESMTP id 30A1342DDE
	for <public@inbox.dpdk.org>; Thu,  6 Jul 2023 00:07:06 +0200 (CEST)
Received: from mails.dpdk.org (localhost [127.0.0.1])
	by mails.dpdk.org (Postfix) with ESMTP id 2BB39400D5;
	Thu,  6 Jul 2023 00:07:06 +0200 (CEST)
Received: from mail-qv1-f100.google.com (mail-qv1-f100.google.com
 [209.85.219.100])
 by mails.dpdk.org (Postfix) with ESMTP id F36D0400D5
 for <test-report@dpdk.org>; Thu,  6 Jul 2023 00:07:04 +0200 (CEST)
Received: by mail-qv1-f100.google.com with SMTP id
 6a1803df08f44-635ee3baa14so993546d6.3
 for <test-report@dpdk.org>; Wed, 05 Jul 2023 15:07:04 -0700 (PDT)
DKIM-Signature: v=1; a=rsa-sha256; c=relaxed/relaxed;
 d=iol.unh.edu; s=unh-iol; t=1688594824; x=1691186824;
 h=cc:to:from:subject:message-id:date:from:to:cc:subject:date
 :message-id:reply-to;
 bh=TKcImaIwhusYYg3h41kp3y3cfzw/gONEJAYyPMZ6cZs=;
 b=JVZ5CEE4JtzS1rinfxgn/Ei8byGZLpQb0CT3AlzGUrceLqDdbepGaPjCINPGJkeLza
 IbadThBxFxO4QJbNthNOQlq4kTNBd7P09nUxcSkBCHk1oGFMPF1v2y1my/HXQR9TEmBC
 2BK3PxPENVCAvBIDWksXCQzr8MOgjbAwG/5Q4=
X-Google-DKIM-Signature: v=1; a=rsa-sha256; c=relaxed/relaxed;
 d=1e100.net; s=20221208; t=1688594824; x=1691186824;
 h=cc:to:from:subject:message-id:date:x-gm-message-state:from:to:cc
 :subject:date:message-id:reply-to;
 bh=TKcImaIwhusYYg3h41kp3y3cfzw/gONEJAYyPMZ6cZs=;
 b=e8vaoGtK5mU2fCK+Ira1xQyVJ34wMJ4b8c4sAjMZUGnDX4PzHP3c6qM2XbpMA9X3VC
 pf0sae/92csCVbcstrdgr9yBA8xOECl4nAaa+zUaUXJU5MUXshD4KBUXNp712snp0QT0
 Ud2qgRNYuDOUrgCOhoHFQw8Xmf+jwO0gz0dG4qnfi9Ug4JE7YgVHAs//8VGCyWEGSVZH
 JB0jq3eAvrCcIsjNmi1kMfqfQJnoZNbxMuXJkxWjBDOr0NdLYCuWmo1xbJ6Qid4bAxqZ
 NUqTLPgDFPvbYsSHVuwKx4gqtSlu0j0+DQye9eeUF1jpVMyH+jlUnHhUrBx7yNQGYzg5
 /RaA==
X-Gm-Message-State: ABy/qLbPipMw4HnmVj+oQWy6Mue7LUPy7IHJ508pIXmSXI70ref3DgRo
 179DerDcip0uT9UfwKkZ6o5Ihck4qR0EnN3zcGYw5s4JeVeMFpQhCyz9kFlVwqcaOSMRF4xScA=
 =
X-Google-Smtp-Source: APBJJlF8OoDAv2Buib0zo/54qPzVZOUYFlQosKqYmbKokAM4A+owGJMUIjZp+3Vv11KW1LwWltBritipAhWh
X-Received: by 2002:a0c:f94a:0:b0:636:1859:954f with SMTP id
 i10-20020a0cf94a000000b006361859954fmr15002146qvo.53.1688594824467; 
 Wed, 05 Jul 2023 15:07:04 -0700 (PDT)
Received: from postal.iol.unh.edu (postal.iol.unh.edu.
 [2606:4100:3880:1234::84]) by smtp-relay.gmail.com with ESMTPS id
 j17-20020a0ce011000000b006322a11bc3asm57qvk.27.2023.07.05.15.07.04
 (version=TLS1_2 cipher=ECDHE-ECDSA-AES128-GCM-SHA256 bits=128/128);
 Wed, 05 Jul 2023 15:07:04 -0700 (PDT)
X-Relaying-Domain: iol.unh.edu
Date: Wed, 05 Jul 2023 15:07:04 -0700 (PDT)
Message-ID: <64a5e988.0c0a0220.e56b5.0007SMTPIN_ADDED_MISSING@mx.google.com>
Received: from [172.21.0.2] (unknown [172.18.0.240])
 by postal.iol.unh.edu (Postfix) with ESMTP id 2C0EB605246B;
 Wed,  5 Jul 2023 18:07:04 -0400 (EDT)
Subject: |SUCCESS| pw129261 [PATCH] service: avoid worker lcore exit deadlock
From: dpdklab@iol.unh.edu
To: Test Report <test-report@dpdk.org>
Cc: dpdk-test-reports@iol.unh.edu
Content-Type: text/plain
X-BeenThere: test-report@dpdk.org
X-Mailman-Version: 2.1.29
Precedence: list
List-Id: automatic DPDK test reports <test-report.dpdk.org>
List-Unsubscribe: <https://mails.dpdk.org/options/test-report>,
 <mailto:test-report-request@dpdk.org?subject=unsubscribe>
List-Archive: <http://mails.dpdk.org/archives/test-report/>
List-Post: <mailto:test-report@dpdk.org>
List-Help: <mailto:test-report-request@dpdk.org?subject=help>
List-Subscribe: <https://mails.dpdk.org/listinfo/test-report>,
 <mailto:test-report-request@dpdk.org?subject=subscribe>
Errors-To: test-report-bounces@dpdk.org

Test-Label: iol-abi-testing
Test-Status: SUCCESS
http://dpdk.org/patch/129261

_Testing PASS_

Submitter: Mattias Ronnblom <mattias.ronnblom@ericsson.com>
Date: Tuesday, July 04 2023 21:43:39 
DPDK git baseline: Repo:dpdk
  Branch: master
  CommitID:a64a4564705d18d20d20cfa16c79e795b7bf0f1e

129261 --> testing pass

Test environment and result as below:

+------------------+----------+
|   Environment    | abi_test |
+==================+==========+
| CentOS Stream 9  | PASS     |
+------------------+----------+
| CentOS Stream 8  | PASS     |
+------------------+----------+
| Debian Bullseye  | PASS     |
+------------------+----------+
| Debian Buster    | PASS     |
+------------------+----------+
| Fedora 37        | PASS     |
+------------------+----------+
| RHEL8            | PASS     |
+------------------+----------+
| Ubuntu 22.04     | PASS     |
+------------------+----------+
| RHEL 7           | PASS     |
+------------------+----------+
| openSUSE Leap 15 | PASS     |
+------------------+----------+


CentOS Stream 9
	Kernel: 4.18.0-240.10.1.el8_3.x86_64
	Compiler: gcc 11.3.1 20220421

CentOS Stream 8
	Kernel: 4.18.0-240.10.1.el8_3.x86_64
	Compiler: gcc 8.4.1 20200928

Debian Bullseye
	Kernel: 5.4.0-122-generic
	Compiler: gcc 10.2.1-6

Debian Buster
	Kernel: 5.4.0-122-generic
	Compiler: gcc 8.3.0-6

Fedora 37
	Kernel: Depends on container host system
	Compiler: gcc 12.3.1

RHEL8
	Kernel: 4.18.0-240.10.1.el8_3.x86_64
	Compiler: gcc 8.3.1 20191121 (Red Hat 8.3.1-5)

Ubuntu 22.04
	Kernel: 4.18.0-240.10.1.el8_3.x86_64
	Compiler: gcc 11.3.0

RHEL 7
	Kernel: 4.18.0-240.10.1.el8_3.x86_64
	Compiler: gcc 4.8.5 20150623 (Red Hat 4.8.5-44)

openSUSE Leap 15
	Kernel: 4.18.0-240.10.1.el8_3.x86_64
	Compiler: gcc 7.5.0

To view detailed results, visit:
https://lab.dpdk.org/results/dashboard/patchsets/26957/

UNH-IOL DPDK Community Lab

To manage your email subscriptions, visit: 
https://lab.dpdk.org/results/dashboard/preferences/subscriptions/