From mboxrd@z Thu Jan  1 00:00:00 1970
Return-Path: <test-report-bounces@dpdk.org>
Received: from mails.dpdk.org (mails.dpdk.org [217.70.189.124])
	by inbox.dpdk.org (Postfix) with ESMTP id 1EF3642DDF
	for <public@inbox.dpdk.org>; Thu,  6 Jul 2023 03:14:01 +0200 (CEST)
Received: from mails.dpdk.org (localhost [127.0.0.1])
	by mails.dpdk.org (Postfix) with ESMTP id 1B465400D5;
	Thu,  6 Jul 2023 03:14:01 +0200 (CEST)
Received: from mail-pg1-f228.google.com (mail-pg1-f228.google.com
 [209.85.215.228])
 by mails.dpdk.org (Postfix) with ESMTP id 34489400D5
 for <test-report@dpdk.org>; Thu,  6 Jul 2023 03:13:59 +0200 (CEST)
Received: by mail-pg1-f228.google.com with SMTP id
 41be03b00d2f7-53482b44007so110937a12.2
 for <test-report@dpdk.org>; Wed, 05 Jul 2023 18:13:59 -0700 (PDT)
DKIM-Signature: v=1; a=rsa-sha256; c=relaxed/relaxed;
 d=iol.unh.edu; s=unh-iol; t=1688606038; x=1691198038;
 h=cc:to:from:subject:message-id:date:from:to:cc:subject:date
 :message-id:reply-to;
 bh=J8+V4CAUJAEdxUfJEYinjwGKENsN4bJHcKjLU8qmdfI=;
 b=Ny29p1+1Pl7bSTO6st0J46sf6i/MGxEWiIo32k2U/4mx7wqt1jvQrWs09ajcbq7Zvq
 +HzsU6XUPk/yLhzWsWnnAiozpgwPCaKT0Tpg+BAMhohPuuKWTsvgjiiDnoxxI3oMqUGu
 lr1K5D0QZfgTuvnyrOIeKL0MJyQqjigf067DQ=
X-Google-DKIM-Signature: v=1; a=rsa-sha256; c=relaxed/relaxed;
 d=1e100.net; s=20221208; t=1688606038; x=1691198038;
 h=cc:to:from:subject:message-id:date:x-gm-message-state:from:to:cc
 :subject:date:message-id:reply-to;
 bh=J8+V4CAUJAEdxUfJEYinjwGKENsN4bJHcKjLU8qmdfI=;
 b=TJF0ecwpja54j/JNvgXJS3fk8hS7LXH8WHa5o8FXJAbXFSZBha2y6OSF1P7a4h49yg
 WJII1S8BC1z7vx2YaYjZ5QGubYTKOJ+WZLGDyEt4yf3tnbN9G8+f6Dz3rdnidr3kuRH7
 dquBkvY25UmZkf26EQbBqLCqzmyDbWnyP4NiWBj+WmWSQCiK8htK11nMTmsKPaed3gBd
 KYwmx1dD9s5C+25pTqzHtDIQUjtWkCHavn7pDYtTjX3DRLf5v07PpRF7wLhf1qfW2+KI
 rLGKCue4cuGTNaFjY+V4+DsjX6WtB64wqFrtu2qvfdKmpqW+EHY3mgS/gj3jGZBfSNAA
 aCpA==
X-Gm-Message-State: ABy/qLa/Y2WEUw3Z7gRE6WEF0dItkdyG2sruo0abkBZtM0YuqxkxbNNq
 mcinh/l0uvixdVC7lVsL4YYktG23bmBvOkGl7BzIWrr5IgoAhpfJ1tLEqsirqSGMkuJwR4q9LQ=
 =
X-Google-Smtp-Source: APBJJlFrVPggGDCu19g6RUm+XRX32dNlvRle3pE/h5KReS8KLaSVfWdYey0MYOnumd2PlLjNjKqVRLppomqR
X-Received: by 2002:a05:6a20:7349:b0:117:eaef:4d with SMTP id
 v9-20020a056a20734900b00117eaef004dmr379784pzc.36.1688606038333; 
 Wed, 05 Jul 2023 18:13:58 -0700 (PDT)
Received: from postal.iol.unh.edu (postal.iol.unh.edu.
 [2606:4100:3880:1234::84]) by smtp-relay.gmail.com with ESMTPS id
 c22-20020a621c16000000b006824143e6f9sm17895pfc.22.2023.07.05.18.13.58
 (version=TLS1_2 cipher=ECDHE-ECDSA-AES128-GCM-SHA256 bits=128/128);
 Wed, 05 Jul 2023 18:13:58 -0700 (PDT)
X-Relaying-Domain: iol.unh.edu
Date: Wed, 05 Jul 2023 18:13:58 -0700 (PDT)
Message-ID: <64a61556.620a0220.b2586.0f89SMTPIN_ADDED_MISSING@mx.google.com>
Received: from [172.21.0.2] (unknown [172.18.0.240])
 by postal.iol.unh.edu (Postfix) with ESMTP id 95B4A605246B;
 Wed,  5 Jul 2023 21:13:57 -0400 (EDT)
Subject: |SUCCESS| pw129213 [PATCH] test: remove unnecessary rte_srand
From: dpdklab@iol.unh.edu
To: Test Report <test-report@dpdk.org>
Cc: dpdk-test-reports@iol.unh.edu
Content-Type: text/plain
X-BeenThere: test-report@dpdk.org
X-Mailman-Version: 2.1.29
Precedence: list
List-Id: automatic DPDK test reports <test-report.dpdk.org>
List-Unsubscribe: <https://mails.dpdk.org/options/test-report>,
 <mailto:test-report-request@dpdk.org?subject=unsubscribe>
List-Archive: <http://mails.dpdk.org/archives/test-report/>
List-Post: <mailto:test-report@dpdk.org>
List-Help: <mailto:test-report-request@dpdk.org?subject=help>
List-Subscribe: <https://mails.dpdk.org/listinfo/test-report>,
 <mailto:test-report-request@dpdk.org?subject=subscribe>
Errors-To: test-report-bounces@dpdk.org

Test-Label: iol-abi-testing
Test-Status: SUCCESS
http://dpdk.org/patch/129213

_Testing PASS_

Submitter: Stephen Hemminger <stephen@networkplumber.org>
Date: Monday, July 03 2023 18:49:03 
DPDK git baseline: Repo:dpdk
  Branch: master
  CommitID:a64a4564705d18d20d20cfa16c79e795b7bf0f1e

129213 --> testing pass

Test environment and result as below:

+------------------+----------+
|   Environment    | abi_test |
+==================+==========+
| CentOS Stream 8  | PASS     |
+------------------+----------+
| Debian Buster    | PASS     |
+------------------+----------+
| Debian Bullseye  | PASS     |
+------------------+----------+
| Fedora 37        | PASS     |
+------------------+----------+
| openSUSE Leap 15 | PASS     |
+------------------+----------+
| Ubuntu 22.04     | PASS     |
+------------------+----------+
| Fedora 38        | PASS     |
+------------------+----------+


CentOS Stream 8
	Kernel: 4.18.0-240.10.1.el8_3.x86_64
	Compiler: gcc 8.4.1 20200928

Debian Buster
	Kernel: 5.4.0-122-generic
	Compiler: gcc 8.3.0-6

Debian Bullseye
	Kernel: 5.4.0-122-generic
	Compiler: gcc 10.2.1-6

Fedora 37
	Kernel: Depends on container host system
	Compiler: gcc 12.3.1

openSUSE Leap 15
	Kernel: 4.18.0-240.10.1.el8_3.x86_64
	Compiler: gcc 7.5.0

Ubuntu 22.04
	Kernel: 4.18.0-240.10.1.el8_3.x86_64
	Compiler: gcc 11.3.0

Fedora 38
	Kernel: Depends on container host
	Compiler: gcc 13.1.1

To view detailed results, visit:
https://lab.dpdk.org/results/dashboard/patchsets/26937/

UNH-IOL DPDK Community Lab

To manage your email subscriptions, visit: 
https://lab.dpdk.org/results/dashboard/preferences/subscriptions/