From mboxrd@z Thu Jan  1 00:00:00 1970
Return-Path: <test-report-bounces@dpdk.org>
Received: from mails.dpdk.org (mails.dpdk.org [217.70.189.124])
	by inbox.dpdk.org (Postfix) with ESMTP id 1F36F42DE2
	for <public@inbox.dpdk.org>; Thu,  6 Jul 2023 07:35:56 +0200 (CEST)
Received: from mails.dpdk.org (localhost [127.0.0.1])
	by mails.dpdk.org (Postfix) with ESMTP id 19E4F40144;
	Thu,  6 Jul 2023 07:35:56 +0200 (CEST)
Received: from mail-yw1-f227.google.com (mail-yw1-f227.google.com
 [209.85.128.227])
 by mails.dpdk.org (Postfix) with ESMTP id B3A2C40144
 for <test-report@dpdk.org>; Thu,  6 Jul 2023 07:35:54 +0200 (CEST)
Received: by mail-yw1-f227.google.com with SMTP id
 00721157ae682-5701810884aso4487547b3.0
 for <test-report@dpdk.org>; Wed, 05 Jul 2023 22:35:54 -0700 (PDT)
DKIM-Signature: v=1; a=rsa-sha256; c=relaxed/relaxed;
 d=iol.unh.edu; s=unh-iol; t=1688621754; x=1691213754;
 h=cc:to:from:subject:message-id:date:from:to:cc:subject:date
 :message-id:reply-to;
 bh=x2MUFqK/5OzNr9D0UzRI32o8sdkNA/RZfZthioMY+mY=;
 b=eIW0193vCcTP+PjTJ9y/w3QPhRwD31GohiqvyAQ+UEk8FiJvNB0s0rFV5wk+bTYFPv
 b3LjkKzIYVK2JM+LI0rAkZI7VJZworjmFen69/NkP0RvluoSUn4PS9TYQPTWrIQKR+Ta
 kZ3i8zUpNAQSER54TQYlJXi5N7vO2EUlD5RCo=
X-Google-DKIM-Signature: v=1; a=rsa-sha256; c=relaxed/relaxed;
 d=1e100.net; s=20221208; t=1688621754; x=1691213754;
 h=cc:to:from:subject:message-id:date:x-gm-message-state:from:to:cc
 :subject:date:message-id:reply-to;
 bh=x2MUFqK/5OzNr9D0UzRI32o8sdkNA/RZfZthioMY+mY=;
 b=GSYscpw4+1DF9pyScVsPwFDQHsn4QdkBrPO23W+4J9ku+u6oMk6Usx6OyU8E3Yu/Gb
 QakCga4+BoicMqprL6YK7wy2TPceYaYXUzbXg3xcwkRTVd9WD4QKWiUoO2wle168qeZB
 tZCIotSwKmrmDNg39etks41h994aIsQahL8XZPWMO8oUAOY9qH8zH1IS+M3WmmvIPIyy
 rHGhBqEWZrjUbSnHsc2uEvHSj1wadfAn3MwVqBMDxz8l0mduq+dDxhKgXwN1gt5/nIZU
 bKZXV71biFn2akIgUj7yaNRQDZSXex8OQ9lF280qFnJEcIgn5HkQJhRWMv/qoegpv0Ym
 CULQ==
X-Gm-Message-State: ABy/qLYjua7iNsOv2foW/cvYq0gPqz4sh9in8R50MUuUm8lXUPyFyOhS
 fEE+N7LCGbjaxiCLbws9e8JoQewhoDkoiRzaODysiU1RXemSyt/H3wSHsiUJ47M5qNYIo52tDw=
 =
X-Google-Smtp-Source: APBJJlG9wUcYyBAkfTP4yJ9ugTK7ak9AkAzwDBmt292TKouwvW4B3j95YO4XyJ9oad9ShhJuDCjAm5jBxGLp
X-Received: by 2002:a0d:cc8e:0:b0:57a:2250:f5c0 with SMTP id
 o136-20020a0dcc8e000000b0057a2250f5c0mr1144395ywd.19.1688621753954; 
 Wed, 05 Jul 2023 22:35:53 -0700 (PDT)
Received: from postal.iol.unh.edu (postal.iol.unh.edu.
 [2606:4100:3880:1234::84]) by smtp-relay.gmail.com with ESMTPS id
 a197-20020a0dd8ce000000b0057744e9c4afsm25490ywe.41.2023.07.05.22.35.53
 (version=TLS1_2 cipher=ECDHE-ECDSA-AES128-GCM-SHA256 bits=128/128);
 Wed, 05 Jul 2023 22:35:53 -0700 (PDT)
X-Relaying-Domain: iol.unh.edu
Date: Wed, 05 Jul 2023 22:35:53 -0700 (PDT)
Message-ID: <64a652b9.0d0a0220.42a88.204cSMTPIN_ADDED_MISSING@mx.google.com>
Received: from [172.21.0.2] (unknown [172.18.0.240])
 by postal.iol.unh.edu (Postfix) with ESMTP id 780B5605246B;
 Thu,  6 Jul 2023 01:35:53 -0400 (EDT)
Subject: |SUCCESS| pw129213 [PATCH] test: remove unnecessary rte_srand
From: dpdklab@iol.unh.edu
To: Test Report <test-report@dpdk.org>
Cc: dpdk-test-reports@iol.unh.edu
Content-Type: text/plain
X-BeenThere: test-report@dpdk.org
X-Mailman-Version: 2.1.29
Precedence: list
List-Id: automatic DPDK test reports <test-report.dpdk.org>
List-Unsubscribe: <https://mails.dpdk.org/options/test-report>,
 <mailto:test-report-request@dpdk.org?subject=unsubscribe>
List-Archive: <http://mails.dpdk.org/archives/test-report/>
List-Post: <mailto:test-report@dpdk.org>
List-Help: <mailto:test-report-request@dpdk.org?subject=help>
List-Subscribe: <https://mails.dpdk.org/listinfo/test-report>,
 <mailto:test-report-request@dpdk.org?subject=subscribe>
Errors-To: test-report-bounces@dpdk.org

Test-Label: iol-unit-testing
Test-Status: SUCCESS
http://dpdk.org/patch/129213

_Testing PASS_

Submitter: Stephen Hemminger <stephen@networkplumber.org>
Date: Monday, July 03 2023 18:49:03 
DPDK git baseline: Repo:dpdk
  Branch: master
  CommitID:a64a4564705d18d20d20cfa16c79e795b7bf0f1e

129213 --> testing pass

Test environment and result as below:

+--------------------------+----------------+
|       Environment        | dpdk_unit_test |
+==========================+================+
| CentOS Stream 9          | PASS           |
+--------------------------+----------------+
| CentOS Stream 8          | PASS           |
+--------------------------+----------------+
| Debian Buster            | PASS           |
+--------------------------+----------------+
| Debian Bullseye          | PASS           |
+--------------------------+----------------+
| Fedora 38                | PASS           |
+--------------------------+----------------+
| Ubuntu 20.04             | PASS           |
+--------------------------+----------------+
| RHEL 7                   | PASS           |
+--------------------------+----------------+
| Debian 11 (Buster) (ARM) | PASS           |
+--------------------------+----------------+
| CentOS Stream 9 (ARM)    | PASS           |
+--------------------------+----------------+
| openSUSE Leap 15         | PASS           |
+--------------------------+----------------+
| Ubuntu 22.04             | PASS           |
+--------------------------+----------------+
| RHEL8                    | PASS           |
+--------------------------+----------------+
| Fedora 38 (ARM)          | PASS           |
+--------------------------+----------------+
| Fedora 37 (ARM)          | PASS           |
+--------------------------+----------------+
| Ubuntu 20.04 (ARM)       | PASS           |
+--------------------------+----------------+
| Fedora 37                | PASS           |
+--------------------------+----------------+
| Fedora 38 (ARM Clang)    | PASS           |
+--------------------------+----------------+


CentOS Stream 9
	Kernel: 4.18.0-240.10.1.el8_3.x86_64
	Compiler: gcc 11.3.1 20220421

CentOS Stream 8
	Kernel: 4.18.0-240.10.1.el8_3.x86_64
	Compiler: gcc 8.4.1 20200928

Debian Buster
	Kernel: 5.4.0-122-generic
	Compiler: gcc 8.3.0-6

Debian Bullseye
	Kernel: 5.4.0-122-generic
	Compiler: gcc 10.2.1-6

Fedora 38
	Kernel: Depends on container host
	Compiler: gcc 13.1.1

Ubuntu 20.04
	Kernel: 4.18.0-240.10.1.el8_3.x86_64
	Compiler: gcc 9.3.0-17ubuntu1~20.04

RHEL 7
	Kernel: 4.18.0-240.10.1.el8_3.x86_64
	Compiler: gcc 4.8.5 20150623 (Red Hat 4.8.5-44)

Debian 11 (Buster) (ARM)
	Kernel: Container Host Kernel
	Compiler: gcc 10.2.1

CentOS Stream 9 (ARM)
	Kernel: Container Host Kernel
	Compiler: gcc 11.3.1

openSUSE Leap 15
	Kernel: 4.18.0-240.10.1.el8_3.x86_64
	Compiler: gcc 7.5.0

Ubuntu 22.04
	Kernel: 4.18.0-240.10.1.el8_3.x86_64
	Compiler: gcc 11.3.0

RHEL8
	Kernel: 4.18.0-240.10.1.el8_3.x86_64
	Compiler: gcc 8.3.1 20191121 (Red Hat 8.3.1-5)

Fedora 38 (ARM)
	Kernel: Depends on container host
	Compiler: gcc 13.1.1

Fedora 37 (ARM)
	Kernel: Depends on container host
	Compiler: gcc 12.3.1

Ubuntu 20.04 (ARM)
	Kernel: Container Host Kernel
	Compiler: gcc 9.4.0

Fedora 37
	Kernel: Depends on container host system
	Compiler: gcc 12.3.1

Fedora 38 (ARM Clang)
	Kernel: Depends on container host
	Compiler: clang 16.0.3

To view detailed results, visit:
https://lab.dpdk.org/results/dashboard/patchsets/26937/

UNH-IOL DPDK Community Lab

To manage your email subscriptions, visit: 
https://lab.dpdk.org/results/dashboard/preferences/subscriptions/