From mboxrd@z Thu Jan  1 00:00:00 1970
Return-Path: <test-report-bounces@dpdk.org>
Received: from mails.dpdk.org (mails.dpdk.org [217.70.189.124])
	by inbox.dpdk.org (Postfix) with ESMTP id 8CD3342DEC
	for <public@inbox.dpdk.org>; Thu,  6 Jul 2023 23:32:58 +0200 (CEST)
Received: from mails.dpdk.org (localhost [127.0.0.1])
	by mails.dpdk.org (Postfix) with ESMTP id 62C3C40A79;
	Thu,  6 Jul 2023 23:32:58 +0200 (CEST)
Received: from mail-vs1-f99.google.com (mail-vs1-f99.google.com
 [209.85.217.99]) by mails.dpdk.org (Postfix) with ESMTP id 03DB940A79
 for <test-report@dpdk.org>; Thu,  6 Jul 2023 23:32:56 +0200 (CEST)
Received: by mail-vs1-f99.google.com with SMTP id
 ada2fe7eead31-443628ee79dso459018137.1
 for <test-report@dpdk.org>; Thu, 06 Jul 2023 14:32:56 -0700 (PDT)
DKIM-Signature: v=1; a=rsa-sha256; c=relaxed/relaxed;
 d=iol.unh.edu; s=unh-iol; t=1688679176; x=1691271176;
 h=cc:to:from:subject:message-id:date:from:to:cc:subject:date
 :message-id:reply-to;
 bh=g0SoqfLUv6d5bmvWXvr+8wExde39Doj4pYoxuEwJpwo=;
 b=eYtAbdJJvHIvIdzC+y2iodqrZ3CeV4c+xCpryhYP26fSSXfYF4Mks30jkFMkI6HZ/K
 FrogF50Zjya2/Ko+7Ou3ibUgWf2/M352K7psoMQWVbgeIoNTsxwkI3fJxgjG2s2SCuQv
 3kH3hlUPccfXiXc02jYb6WMU6DeU99PlNzqiw=
X-Google-DKIM-Signature: v=1; a=rsa-sha256; c=relaxed/relaxed;
 d=1e100.net; s=20221208; t=1688679176; x=1691271176;
 h=cc:to:from:subject:message-id:date:x-gm-message-state:from:to:cc
 :subject:date:message-id:reply-to;
 bh=g0SoqfLUv6d5bmvWXvr+8wExde39Doj4pYoxuEwJpwo=;
 b=eoYwuAmUj+xLhOngWRiEd89VUMW5eAtwd1ZNTzJAn3r73cSfIH5UPTLMSsSz1K+bbw
 ko3vGUqMpkaU9vM8JtY0goBv1GX3mtjrpoNMlQ8b5cUqRerb9gzfJvJ2047V33fPvlqz
 kMFdREhCreNxkxQXeWl95xc3b4UEDNZ1d+eYEb8LFXMIJrasHEYFsfDsix3SMlnsUpzF
 WFjjLDtVknj9R1XLD+AqDH+BAdY401ifq2i5DqRKmumAAUSoxP+k8pVhCVXBvcbHBAJL
 UgLOXEGZhYcK8wBQvePevTvy4soo6aAbzhHET72ur59FrOfmXG01zdG50BzJeBJZiAlh
 XEwA==
X-Gm-Message-State: ABy/qLaw1y0oafiDTn0WthZqYeD16y3fEkydsQAXotog4SUTBCmPHyhF
 mJK4PLYyl+PtxpeCTCetn1Brw7nBb5ENJYsLiMCq4LjARZl4XbPY84v/KQ==
X-Google-Smtp-Source: APBJJlGvthJAfoq9c9uIf1h9zGp5O4ORiHUeMpJq4X88yUiki6aF3b/eaau3My8A2wW5kBdx6IIzkTwrQ9S3
X-Received: by 2002:a05:6102:354b:b0:443:67a0:fb79 with SMTP id
 e11-20020a056102354b00b0044367a0fb79mr2112067vss.21.1688679176353; 
 Thu, 06 Jul 2023 14:32:56 -0700 (PDT)
Received: from postal.iol.unh.edu (postal.iol.unh.edu. [132.177.123.84])
 by smtp-relay.gmail.com with ESMTPS id
 bm40-20020a056102512800b0044394e50899sm166096vsb.0.2023.07.06.14.32.56
 (version=TLS1_2 cipher=ECDHE-ECDSA-AES128-GCM-SHA256 bits=128/128);
 Thu, 06 Jul 2023 14:32:56 -0700 (PDT)
X-Relaying-Domain: iol.unh.edu
Date: Thu, 06 Jul 2023 14:32:56 -0700 (PDT)
Message-ID: <64a73308.050a0220.aa3d8.5e5cSMTPIN_ADDED_MISSING@mx.google.com>
Received: from [172.21.0.2] (unknown [172.18.0.240])
 by postal.iol.unh.edu (Postfix) with ESMTP id E6821605246B;
 Thu,  6 Jul 2023 17:32:55 -0400 (EDT)
Subject: |SUCCESS| pw129341 [PATCH] net/mlx5: fix query for NIC flow cap
From: dpdklab@iol.unh.edu
To: Test Report <test-report@dpdk.org>
Cc: dpdk-test-reports@iol.unh.edu
Content-Type: text/plain
X-BeenThere: test-report@dpdk.org
X-Mailman-Version: 2.1.29
Precedence: list
List-Id: automatic DPDK test reports <test-report.dpdk.org>
List-Unsubscribe: <https://mails.dpdk.org/options/test-report>,
 <mailto:test-report-request@dpdk.org?subject=unsubscribe>
List-Archive: <http://mails.dpdk.org/archives/test-report/>
List-Post: <mailto:test-report@dpdk.org>
List-Help: <mailto:test-report-request@dpdk.org?subject=help>
List-Subscribe: <https://mails.dpdk.org/listinfo/test-report>,
 <mailto:test-report-request@dpdk.org?subject=subscribe>
Errors-To: test-report-bounces@dpdk.org

Test-Label: iol-unit-testing
Test-Status: SUCCESS
http://dpdk.org/patch/129341

_Testing PASS_

Submitter: Ori Kam <orika@nvidia.com>
Date: Thursday, July 06 2023 12:36:15 
DPDK git baseline: Repo:dpdk
  Branch: master
  CommitID:a64a4564705d18d20d20cfa16c79e795b7bf0f1e

129341 --> testing pass

Test environment and result as below:

+--------------------------+----------------+
|       Environment        | dpdk_unit_test |
+==========================+================+
| Fedora 38 (ARM)          | PASS           |
+--------------------------+----------------+
| CentOS Stream 8          | PASS           |
+--------------------------+----------------+
| CentOS Stream 9          | PASS           |
+--------------------------+----------------+
| Debian Bullseye          | PASS           |
+--------------------------+----------------+
| Debian Buster            | PASS           |
+--------------------------+----------------+
| Fedora 37                | PASS           |
+--------------------------+----------------+
| Fedora 38                | PASS           |
+--------------------------+----------------+
| openSUSE Leap 15         | PASS           |
+--------------------------+----------------+
| Ubuntu 20.04             | PASS           |
+--------------------------+----------------+
| Ubuntu 22.04             | PASS           |
+--------------------------+----------------+
| RHEL 7                   | PASS           |
+--------------------------+----------------+
| RHEL8                    | PASS           |
+--------------------------+----------------+
| Debian 11 (Buster) (ARM) | PASS           |
+--------------------------+----------------+
| Fedora 37 (ARM)          | PASS           |
+--------------------------+----------------+
| Ubuntu 20.04 (ARM)       | PASS           |
+--------------------------+----------------+
| Fedora 38 (ARM Clang)    | PASS           |
+--------------------------+----------------+
| CentOS Stream 9 (ARM)    | PASS           |
+--------------------------+----------------+


Fedora 38 (ARM)
	Kernel: Depends on container host
	Compiler: gcc 13.1.1

CentOS Stream 8
	Kernel: 4.18.0-240.10.1.el8_3.x86_64
	Compiler: gcc 8.4.1 20200928

CentOS Stream 9
	Kernel: 4.18.0-240.10.1.el8_3.x86_64
	Compiler: gcc 11.3.1 20220421

Debian Bullseye
	Kernel: 5.4.0-122-generic
	Compiler: gcc 10.2.1-6

Debian Buster
	Kernel: 5.4.0-122-generic
	Compiler: gcc 8.3.0-6

Fedora 37
	Kernel: Depends on container host system
	Compiler: gcc 12.3.1

Fedora 38
	Kernel: Depends on container host
	Compiler: gcc 13.1.1

openSUSE Leap 15
	Kernel: 4.18.0-240.10.1.el8_3.x86_64
	Compiler: gcc 7.5.0

Ubuntu 20.04
	Kernel: 4.18.0-240.10.1.el8_3.x86_64
	Compiler: gcc 9.3.0-17ubuntu1~20.04

Ubuntu 22.04
	Kernel: 4.18.0-240.10.1.el8_3.x86_64
	Compiler: gcc 11.3.0

RHEL 7
	Kernel: 4.18.0-240.10.1.el8_3.x86_64
	Compiler: gcc 4.8.5 20150623 (Red Hat 4.8.5-44)

RHEL8
	Kernel: 4.18.0-240.10.1.el8_3.x86_64
	Compiler: gcc 8.3.1 20191121 (Red Hat 8.3.1-5)

Debian 11 (Buster) (ARM)
	Kernel: Container Host Kernel
	Compiler: gcc 10.2.1

Fedora 37 (ARM)
	Kernel: Depends on container host
	Compiler: gcc 12.3.1

Ubuntu 20.04 (ARM)
	Kernel: Container Host Kernel
	Compiler: gcc 9.4.0

Fedora 38 (ARM Clang)
	Kernel: Depends on container host
	Compiler: clang 16.0.3

CentOS Stream 9 (ARM)
	Kernel: Container Host Kernel
	Compiler: gcc 11.3.1

To view detailed results, visit:
https://lab.dpdk.org/results/dashboard/patchsets/27001/

UNH-IOL DPDK Community Lab

To manage your email subscriptions, visit: 
https://lab.dpdk.org/results/dashboard/preferences/subscriptions/