From mboxrd@z Thu Jan  1 00:00:00 1970
Return-Path: <test-report-bounces@dpdk.org>
Received: from mails.dpdk.org (mails.dpdk.org [217.70.189.124])
	by inbox.dpdk.org (Postfix) with ESMTP id 9515342DF4
	for <public@inbox.dpdk.org>; Fri,  7 Jul 2023 09:05:08 +0200 (CEST)
Received: from mails.dpdk.org (localhost [127.0.0.1])
	by mails.dpdk.org (Postfix) with ESMTP id 8EFFB40685;
	Fri,  7 Jul 2023 09:05:08 +0200 (CEST)
Received: from mail-qk1-f228.google.com (mail-qk1-f228.google.com
 [209.85.222.228])
 by mails.dpdk.org (Postfix) with ESMTP id BCCFB40685
 for <test-report@dpdk.org>; Fri,  7 Jul 2023 09:05:06 +0200 (CEST)
Received: by mail-qk1-f228.google.com with SMTP id
 af79cd13be357-7672303c831so142858585a.2
 for <test-report@dpdk.org>; Fri, 07 Jul 2023 00:05:06 -0700 (PDT)
DKIM-Signature: v=1; a=rsa-sha256; c=relaxed/relaxed;
 d=iol.unh.edu; s=unh-iol; t=1688713506; x=1691305506;
 h=cc:to:from:subject:message-id:date:from:to:cc:subject:date
 :message-id:reply-to;
 bh=F/xSF3cu1DF5wHh2IokpZ71/b0yNj2U/EwAhrMqnlEI=;
 b=SEI3oujIbNRo76VFs2kyT6mLwv1L4TF5UAqXv1Kn8+pXbND7Hd6tanfteDgSH6FqvJ
 wM7vq5zNJIvJ7z6eLG3UXqg7JP3Q/P1v22GhrtmnLnuKTb+02b1Q2lUXgJbOCTKnAlAY
 YtG65sIWx5WLoZVU6gn0XGJod62cCdP858R40=
X-Google-DKIM-Signature: v=1; a=rsa-sha256; c=relaxed/relaxed;
 d=1e100.net; s=20221208; t=1688713506; x=1691305506;
 h=cc:to:from:subject:message-id:date:x-gm-message-state:from:to:cc
 :subject:date:message-id:reply-to;
 bh=F/xSF3cu1DF5wHh2IokpZ71/b0yNj2U/EwAhrMqnlEI=;
 b=M2mT2GcekqkJns2zFCPXY1DHqQA7102p3gBpxIZicQz0WgxiTEIOlxkLHGLCIvFckQ
 7aeBmOucjn65Qz9tAX20iIgwaYVQl0eDBaZipsqtAVtxvnQyNejQU1QYOgCuOVLpm9vU
 z5HjoVBxqvKGQOyeNuPPTFMkvtFQpiOCODjaRa0OEPaUIQPM5ov3pUlxZjBT9x+5d1WI
 qmn/tIjc+/PSpRnA3zMGXPB2x6FJf638mjyurL2ih5KIBNBunPRMRqsEQrQ0a4ey48eC
 +BqXY8en5gnbxpECAt6pGIPx5twza42ewh8/p8MzmvvraJO1UT/r6S3g6VYpqosG4V5U
 m2kw==
X-Gm-Message-State: ABy/qLZnzV63feKHWVsriOlrkNAI4aKIwMNNOzEmoh9/icin+LMg+/Qm
 TZgiVoOKj9JzbNsAV3b6p0Tm7i4/PXxImzYXqmv8N77Uu/RC94J4i78g1ccT0FESaMxRU5qARA=
 =
X-Google-Smtp-Source: APBJJlHWsZwWDe+jhP0ZX51IAjprk5N+hIvF+wZTJpluAq5i+STJgkpRKAj4stuhIo9mgzKGmW4tphfk03OR
X-Received: by 2002:a0c:ab46:0:b0:630:2117:9628 with SMTP id
 i6-20020a0cab46000000b0063021179628mr3616621qvb.8.1688713506192; 
 Fri, 07 Jul 2023 00:05:06 -0700 (PDT)
Received: from postal.iol.unh.edu (postal.iol.unh.edu.
 [2606:4100:3880:1234::84]) by smtp-relay.gmail.com with ESMTPS id
 s19-20020a0ce313000000b00625bb64327asm94123qvl.13.2023.07.07.00.05.06
 (version=TLS1_2 cipher=ECDHE-ECDSA-AES128-GCM-SHA256 bits=128/128);
 Fri, 07 Jul 2023 00:05:06 -0700 (PDT)
X-Relaying-Domain: iol.unh.edu
Date: Fri, 07 Jul 2023 00:05:06 -0700 (PDT)
Message-ID: <64a7b922.0c0a0220.52e3c.4401SMTPIN_ADDED_MISSING@mx.google.com>
Received: from [172.17.0.2] (unknown [172.18.0.217])
 by postal.iol.unh.edu (Postfix) with ESMTP id 942CB605246B;
 Fri,  7 Jul 2023 03:05:05 -0400 (EDT)
Subject: |SUCCESS| pw129369 [PATCH] [v4] doc: add iavf live migration guide
From: dpdklab@iol.unh.edu
To: Test Report <test-report@dpdk.org>
Cc: dpdk-test-reports@iol.unh.edu
Content-Type: text/plain
X-BeenThere: test-report@dpdk.org
X-Mailman-Version: 2.1.29
Precedence: list
List-Id: automatic DPDK test reports <test-report.dpdk.org>
List-Unsubscribe: <https://mails.dpdk.org/options/test-report>,
 <mailto:test-report-request@dpdk.org?subject=unsubscribe>
List-Archive: <http://mails.dpdk.org/archives/test-report/>
List-Post: <mailto:test-report@dpdk.org>
List-Help: <mailto:test-report-request@dpdk.org?subject=help>
List-Subscribe: <https://mails.dpdk.org/listinfo/test-report>,
 <mailto:test-report-request@dpdk.org?subject=subscribe>
Errors-To: test-report-bounces@dpdk.org

Test-Label: iol-abi-testing
Test-Status: SUCCESS
http://dpdk.org/patch/129369

_Testing PASS_

Submitter: Lingyu Liu <lingyu.liu@intel.com>
Date: Friday, July 07 2023 06:08:41 
DPDK git baseline: Repo:dpdk
  Branch: master
  CommitID:5d41169b901858e657a8ae3c2dd445bbd8b5e7e5

129369 --> testing pass

Test environment and result as below:

+------------------+----------+
|   Environment    | abi_test |
+==================+==========+
| CentOS Stream 9  | PASS     |
+------------------+----------+
| Ubuntu 22.04     | PASS     |
+------------------+----------+
| CentOS Stream 8  | PASS     |
+------------------+----------+
| RHEL8            | PASS     |
+------------------+----------+
| RHEL 7           | PASS     |
+------------------+----------+
| openSUSE Leap 15 | PASS     |
+------------------+----------+
| Fedora 38        | PASS     |
+------------------+----------+
| Debian Buster    | PASS     |
+------------------+----------+
| Debian Bullseye  | PASS     |
+------------------+----------+
| Fedora 37        | PASS     |
+------------------+----------+


CentOS Stream 9
	Kernel: 4.18.0-240.10.1.el8_3.x86_64
	Compiler: gcc 11.3.1 20220421

Ubuntu 22.04
	Kernel: 4.18.0-240.10.1.el8_3.x86_64
	Compiler: gcc 11.3.0

CentOS Stream 8
	Kernel: 4.18.0-240.10.1.el8_3.x86_64
	Compiler: gcc 8.4.1 20200928

RHEL8
	Kernel: 4.18.0-240.10.1.el8_3.x86_64
	Compiler: gcc 8.3.1 20191121 (Red Hat 8.3.1-5)

RHEL 7
	Kernel: 4.18.0-240.10.1.el8_3.x86_64
	Compiler: gcc 4.8.5 20150623 (Red Hat 4.8.5-44)

openSUSE Leap 15
	Kernel: 4.18.0-240.10.1.el8_3.x86_64
	Compiler: gcc 7.5.0

Fedora 38
	Kernel: Depends on container host
	Compiler: clang 16.0.3

Debian Buster
	Kernel: 5.4.0-122-generic
	Compiler: gcc 8.3.0-6

Debian Bullseye
	Kernel: 5.4.0-122-generic
	Compiler: gcc 10.2.1-6

Fedora 37
	Kernel: Depends on container host system
	Compiler: gcc 12.3.1

To view detailed results, visit:
https://lab.dpdk.org/results/dashboard/patchsets/27011/

UNH-IOL DPDK Community Lab

To manage your email subscriptions, visit: 
https://lab.dpdk.org/results/dashboard/preferences/subscriptions/