From mboxrd@z Thu Jan  1 00:00:00 1970
Return-Path: <test-report-bounces@dpdk.org>
Received: from mails.dpdk.org (mails.dpdk.org [217.70.189.124])
	by inbox.dpdk.org (Postfix) with ESMTP id 55E9D42DF7
	for <public@inbox.dpdk.org>; Fri,  7 Jul 2023 13:02:13 +0200 (CEST)
Received: from mails.dpdk.org (localhost [127.0.0.1])
	by mails.dpdk.org (Postfix) with ESMTP id 2C8E540685;
	Fri,  7 Jul 2023 13:02:13 +0200 (CEST)
Received: from mail-yw1-f225.google.com (mail-yw1-f225.google.com
 [209.85.128.225])
 by mails.dpdk.org (Postfix) with ESMTP id DFE1340685
 for <test-report@dpdk.org>; Fri,  7 Jul 2023 13:02:11 +0200 (CEST)
Received: by mail-yw1-f225.google.com with SMTP id
 00721157ae682-579efc32377so22527637b3.1
 for <test-report@dpdk.org>; Fri, 07 Jul 2023 04:02:11 -0700 (PDT)
DKIM-Signature: v=1; a=rsa-sha256; c=relaxed/relaxed;
 d=iol.unh.edu; s=unh-iol; t=1688727731; x=1691319731;
 h=cc:to:from:subject:message-id:date:from:to:cc:subject:date
 :message-id:reply-to;
 bh=ao7J70p2a7UGhjKRsMn6XshDv3R4jRjl/zieNGCsYgE=;
 b=WuiljJr9v4J8DGsTP8Gbxc0qDJTAxI+rFLzB5cg9RPDRULxlEK8pW2USewmjAML1As
 zNKuabaXhym7p4odwKPRIKpxSs3GHtbsD2LxH6i/OjjhB+PLoeUsW11QpFpGggy3AnlT
 WkvkeMj5InFuhuzTHQDq3K/MsvSJwHxucCg9w=
X-Google-DKIM-Signature: v=1; a=rsa-sha256; c=relaxed/relaxed;
 d=1e100.net; s=20221208; t=1688727731; x=1691319731;
 h=cc:to:from:subject:message-id:date:x-gm-message-state:from:to:cc
 :subject:date:message-id:reply-to;
 bh=ao7J70p2a7UGhjKRsMn6XshDv3R4jRjl/zieNGCsYgE=;
 b=ZIiSgMpSHAweAeKumCfxRvsdfknzlx3CD67bIc+gzBfJINRvZswqOh3vUghu7R6eS3
 yHi/cO7n4wKPlcgWetmFQYvS+BzbdeTaJcBKtHhwfUaT0FyvAnu9UzzaeYKx24aa3K2e
 hM6mLjm9QfVZa3S58yH9hb++5H3V/TtKYvL9CxtDcK+j8gsvOu8ilzzo1AHUF1/QoVEI
 5BnA6uHKuOstkEMFcYe9Vq/M9zF9ml7vB4/ZFm6C9abXbzU7beT8RiNhMtHkrnfcoOsB
 /ExHVmfsiV7pPAIJDplVkMw0tgL/KkKg9xnzA+HlxJP/xo3CV/xKkqQ8TYKq2l7mcsVL
 NCnQ==
X-Gm-Message-State: ABy/qLagXqSSLeIfO82WiVbcI49wBVdIHVp5BB4PLukATqYnpDrQWkNf
 JM3Zzlw859uZWf16kq1eDrtMTSSrBC6ohvSeUcDSee/Qch+MGINBkxKs3A==
X-Google-Smtp-Source: APBJJlEEYeoNgQ6gdKITnDSHgZfG+bN3/grsb5HP7uri24Rbauc5HVbSHzp9otFOqj4Yxh39L51NkNoOJe7N
X-Received: by 2002:a81:66c1:0:b0:57a:5039:aa01 with SMTP id
 a184-20020a8166c1000000b0057a5039aa01mr3536814ywc.22.1688727731318; 
 Fri, 07 Jul 2023 04:02:11 -0700 (PDT)
Received: from postal.iol.unh.edu (postal.iol.unh.edu. [132.177.123.84])
 by smtp-relay.gmail.com with ESMTPS id
 i200-20020a0ddfd1000000b005773396bc91sm270634ywe.44.2023.07.07.04.02.11
 (version=TLS1_2 cipher=ECDHE-ECDSA-AES128-GCM-SHA256 bits=128/128);
 Fri, 07 Jul 2023 04:02:11 -0700 (PDT)
X-Relaying-Domain: iol.unh.edu
Date: Fri, 07 Jul 2023 04:02:11 -0700 (PDT)
Message-ID: <64a7f0b3.0d0a0220.92d1a.ce39SMTPIN_ADDED_MISSING@mx.google.com>
Received: from [172.17.0.2] (unknown [172.18.0.217])
 by postal.iol.unh.edu (Postfix) with ESMTP id CD47A605246B;
 Fri,  7 Jul 2023 07:02:10 -0400 (EDT)
Subject: |SUCCESS| pw129369 [PATCH] [v4] doc: add iavf live migration guide
From: dpdklab@iol.unh.edu
To: Test Report <test-report@dpdk.org>
Cc: dpdk-test-reports@iol.unh.edu
Content-Type: text/plain
X-BeenThere: test-report@dpdk.org
X-Mailman-Version: 2.1.29
Precedence: list
List-Id: automatic DPDK test reports <test-report.dpdk.org>
List-Unsubscribe: <https://mails.dpdk.org/options/test-report>,
 <mailto:test-report-request@dpdk.org?subject=unsubscribe>
List-Archive: <http://mails.dpdk.org/archives/test-report/>
List-Post: <mailto:test-report@dpdk.org>
List-Help: <mailto:test-report-request@dpdk.org?subject=help>
List-Subscribe: <https://mails.dpdk.org/listinfo/test-report>,
 <mailto:test-report-request@dpdk.org?subject=subscribe>
Errors-To: test-report-bounces@dpdk.org

Test-Label: iol-x86_64-compile-testing
Test-Status: SUCCESS
http://dpdk.org/patch/129369

_Testing PASS_

Submitter: Lingyu Liu <lingyu.liu@intel.com>
Date: Friday, July 07 2023 06:08:41 
DPDK git baseline: Repo:dpdk
  Branch: master
  CommitID:5d41169b901858e657a8ae3c2dd445bbd8b5e7e5

129369 --> testing pass

Test environment and result as below:

+---------------------+--------------------+----------------------+
|     Environment     | dpdk_meson_compile | dpdk_mingw64_compile |
+=====================+====================+======================+
| FreeBSD 13          | PASS               | SKIPPED              |
+---------------------+--------------------+----------------------+
| Debian Bullseye     | PASS               | SKIPPED              |
+---------------------+--------------------+----------------------+
| Ubuntu 20.04        | PASS               | SKIPPED              |
+---------------------+--------------------+----------------------+
| Ubuntu 22.04        | PASS               | SKIPPED              |
+---------------------+--------------------+----------------------+
| Fedora 38           | PASS               | SKIPPED              |
+---------------------+--------------------+----------------------+
| Fedora 37           | PASS               | SKIPPED              |
+---------------------+--------------------+----------------------+
| CentOS Stream 9     | PASS               | SKIPPED              |
+---------------------+--------------------+----------------------+
| CentOS Stream 8     | PASS               | SKIPPED              |
+---------------------+--------------------+----------------------+
| RHEL 7              | PASS               | SKIPPED              |
+---------------------+--------------------+----------------------+
| openSUSE Leap 15    | PASS               | SKIPPED              |
+---------------------+--------------------+----------------------+
| RHEL8               | PASS               | SKIPPED              |
+---------------------+--------------------+----------------------+
| Debian Buster       | PASS               | SKIPPED              |
+---------------------+--------------------+----------------------+
| Alpine              | PASS               | SKIPPED              |
+---------------------+--------------------+----------------------+
| Windows Server 2019 | PASS               | PASS                 |
+---------------------+--------------------+----------------------+


FreeBSD 13
	Kernel: 13.0
	Compiler: clang 11.0.1

Debian Bullseye
	Kernel: 5.4.0-122-generic
	Compiler: gcc 10.2.1-6

Ubuntu 20.04
	Kernel: 4.18.0-240.10.1.el8_3.x86_64
	Compiler: gcc 9.3.0-17ubuntu1~20.04

Ubuntu 22.04
	Kernel: 4.18.0-240.10.1.el8_3.x86_64
	Compiler: gcc 11.3.0

Fedora 38
	Kernel: Depends on container host
	Compiler: gcc 13.1.1

Fedora 37
	Kernel: Depends on container host system
	Compiler: gcc 12.3.1

CentOS Stream 9
	Kernel: 4.18.0-240.10.1.el8_3.x86_64
	Compiler: gcc 11.3.1 20220421

CentOS Stream 8
	Kernel: 4.18.0-240.10.1.el8_3.x86_64
	Compiler: gcc 8.4.1 20200928

RHEL 7
	Kernel: 4.18.0-240.10.1.el8_3.x86_64
	Compiler: gcc 4.8.5 20150623 (Red Hat 4.8.5-44)

openSUSE Leap 15
	Kernel: 4.18.0-240.10.1.el8_3.x86_64
	Compiler: gcc 7.5.0

RHEL8
	Kernel: 4.18.0-240.10.1.el8_3.x86_64
	Compiler: gcc 8.3.1 20191121 (Red Hat 8.3.1-5)

Debian Buster
	Kernel: 5.4.0-122-generic
	Compiler: gcc 8.3.0-6

Alpine
	Kernel: 5.4.0-73-generic
	Compiler: gcc (Alpine 10.3.1_git20210424) 10.3.1 20210424

Windows Server 2019
	Kernel: 10.0
	Compiler: clang 14.0 and gcc 8.1.0 (MinGW)

To view detailed results, visit:
https://lab.dpdk.org/results/dashboard/patchsets/27011/

UNH-IOL DPDK Community Lab

To manage your email subscriptions, visit: 
https://lab.dpdk.org/results/dashboard/preferences/subscriptions/