From: dpdklab@iol.unh.edu
To: Test Report <test-report@dpdk.org>
Cc: dpdk-test-reports@iol.unh.edu
Subject: |SUCCESS| pw129419-129420 [PATCH] [v2,2/2] dts: add paramiko to depe
Date: Mon, 10 Jul 2023 10:20:18 -0700 (PDT) [thread overview]
Message-ID: <64ac3dd2.920a0220.132d.0321SMTPIN_ADDED_MISSING@mx.google.com> (raw)
Test-Label: iol-abi-testing
Test-Status: SUCCESS
http://dpdk.org/patch/129420
_Testing PASS_
Submitter: Jeremy Spewock <jspewock@iol.unh.edu>
Date: Monday, July 10 2023 16:19:13
DPDK git baseline: Repo:dpdk
Branch: master
CommitID:623dc9364dc6a818799941cc26dc8f70feb2bb24
129419-129420 --> testing pass
Test environment and result as below:
+------------------+----------+
| Environment | abi_test |
+==================+==========+
| CentOS Stream 9 | PASS |
+------------------+----------+
| Debian Bullseye | PASS |
+------------------+----------+
| Fedora 37 | PASS |
+------------------+----------+
| Ubuntu 22.04 | PASS |
+------------------+----------+
| Fedora 38 | PASS |
+------------------+----------+
| Debian Buster | PASS |
+------------------+----------+
| RHEL 7 | PASS |
+------------------+----------+
| openSUSE Leap 15 | PASS |
+------------------+----------+
| RHEL8 | PASS |
+------------------+----------+
CentOS Stream 9
Kernel: 4.18.0-240.10.1.el8_3.x86_64
Compiler: gcc 11.3.1 20220421
Debian Bullseye
Kernel: 5.4.0-122-generic
Compiler: gcc 10.2.1-6
Fedora 37
Kernel: Depends on container host system
Compiler: gcc 12.3.1
Ubuntu 22.04
Kernel: 4.18.0-240.10.1.el8_3.x86_64
Compiler: gcc 11.3.0
Fedora 38
Kernel: Depends on container host
Compiler: clang 16.0.3
Debian Buster
Kernel: 5.4.0-122-generic
Compiler: gcc 8.3.0-6
RHEL 7
Kernel: 4.18.0-240.10.1.el8_3.x86_64
Compiler: gcc 4.8.5 20150623 (Red Hat 4.8.5-44)
openSUSE Leap 15
Kernel: 4.18.0-240.10.1.el8_3.x86_64
Compiler: gcc 7.5.0
RHEL8
Kernel: 4.18.0-240.10.1.el8_3.x86_64
Compiler: gcc 8.3.1 20191121 (Red Hat 8.3.1-5)
To view detailed results, visit:
https://lab.dpdk.org/results/dashboard/patchsets/27024/
UNH-IOL DPDK Community Lab
To manage your email subscriptions, visit:
https://lab.dpdk.org/results/dashboard/preferences/subscriptions/
next reply other threads:[~2023-07-10 17:20 UTC|newest]
Thread overview: 30+ messages / expand[flat|nested] mbox.gz Atom feed top
2023-07-10 17:20 dpdklab [this message]
-- strict thread matches above, loose matches on Subject: below --
2023-08-21 16:22 dpdklab
2023-08-21 16:19 dpdklab
2023-08-21 16:16 dpdklab
2023-08-21 16:16 dpdklab
2023-08-21 16:06 dpdklab
2023-08-21 16:05 dpdklab
2023-07-14 10:34 dpdklab
2023-07-14 10:06 dpdklab
2023-07-14 9:39 dpdklab
2023-07-13 15:08 dpdklab
2023-07-13 14:58 dpdklab
2023-07-13 14:25 dpdklab
2023-07-13 14:22 dpdklab
2023-07-13 2:04 dpdklab
2023-07-13 2:03 dpdklab
2023-07-13 1:59 dpdklab
2023-07-10 18:32 dpdklab
2023-07-10 17:23 dpdklab
2023-07-10 17:22 dpdklab
2023-07-10 17:20 dpdklab
2023-07-10 17:19 dpdklab
2023-07-10 17:19 dpdklab
2023-07-10 17:14 dpdklab
2023-07-10 17:12 dpdklab
2023-07-10 17:03 dpdklab
2023-07-10 17:03 dpdklab
2023-07-10 17:03 dpdklab
2023-07-10 17:01 dpdklab
2023-07-10 16:58 dpdklab
Reply instructions:
You may reply publicly to this message via plain-text email
using any one of the following methods:
* Save the following mbox file, import it into your mail client,
and reply-to-all from there: mbox
Avoid top-posting and favor interleaved quoting:
https://en.wikipedia.org/wiki/Posting_style#Interleaved_style
* Reply using the --to, --cc, and --in-reply-to
switches of git-send-email(1):
git send-email \
--in-reply-to=64ac3dd2.920a0220.132d.0321SMTPIN_ADDED_MISSING@mx.google.com \
--to=dpdklab@iol.unh.edu \
--cc=dpdk-test-reports@iol.unh.edu \
--cc=test-report@dpdk.org \
/path/to/YOUR_REPLY
https://kernel.org/pub/software/scm/git/docs/git-send-email.html
* If your mail client supports setting the In-Reply-To header
via mailto: links, try the mailto: link
Be sure your reply has a Subject: header at the top and a blank line
before the message body.
This is a public inbox, see mirroring instructions
for how to clone and mirror all data and code used for this inbox;
as well as URLs for NNTP newsgroup(s).