From mboxrd@z Thu Jan  1 00:00:00 1970
Return-Path: <test-report-bounces@dpdk.org>
Received: from mails.dpdk.org (mails.dpdk.org [217.70.189.124])
	by inbox.dpdk.org (Postfix) with ESMTP id 666E242DDB
	for <public@inbox.dpdk.org>; Mon, 10 Jul 2023 23:49:10 +0200 (CEST)
Received: from mails.dpdk.org (localhost [127.0.0.1])
	by mails.dpdk.org (Postfix) with ESMTP id 60C7740150;
	Mon, 10 Jul 2023 23:49:10 +0200 (CEST)
Received: from mail-pl1-f225.google.com (mail-pl1-f225.google.com
 [209.85.214.225])
 by mails.dpdk.org (Postfix) with ESMTP id 84CA440150
 for <test-report@dpdk.org>; Mon, 10 Jul 2023 23:49:09 +0200 (CEST)
Received: by mail-pl1-f225.google.com with SMTP id
 d9443c01a7336-1b8bbcfd89aso24845205ad.1
 for <test-report@dpdk.org>; Mon, 10 Jul 2023 14:49:09 -0700 (PDT)
DKIM-Signature: v=1; a=rsa-sha256; c=relaxed/relaxed;
 d=iol.unh.edu; s=unh-iol; t=1689025748; x=1691617748;
 h=cc:to:from:subject:message-id:date:from:to:cc:subject:date
 :message-id:reply-to;
 bh=iKwlGfeI83SIZeBq3Ii1axkBbpMbh8nIZEOclcIi5Co=;
 b=Whxh2+R7/HYqwI3N/emgHqQAftBJNsbpeZoFePGanoyEMDcTyUsuI1RWKXGwo5P/+7
 GLegxBgKbfrD6meCGV63QX7GHA2CsTfrihWIvNILPtMZf0HuuB2fIkezfoPkb20wFd7c
 pOf5iTH9VGPJE1r9gdxzNFeORu65EA3duWXuQ=
X-Google-DKIM-Signature: v=1; a=rsa-sha256; c=relaxed/relaxed;
 d=1e100.net; s=20221208; t=1689025748; x=1691617748;
 h=cc:to:from:subject:message-id:date:x-gm-message-state:from:to:cc
 :subject:date:message-id:reply-to;
 bh=iKwlGfeI83SIZeBq3Ii1axkBbpMbh8nIZEOclcIi5Co=;
 b=Fn67xxIKqDl8n7CDiOo7Q8OROupnWm3qZ9N8NQIlqczWJiNP5TpqhkKkq5Wg12PFJu
 ov/aWJZz83QSoPTkEegrrtkrnWfPLg6rTotXTQRACR/nJuBBNV6XSsNGpNDZnLujRcJH
 WSZZX4PUC2yffeFj+ugr7u9DEaBdnTyyjmEBaOQcnCO4yBnqARaNItbM84e0+/eNqmA/
 bodAM9dmjBCO7LDZaLDFEYqPRj836Azzh2DaRr9gpoMfdr4qzjzMGRm+iCt8jzT+LSvk
 2ls4BH5Wb9CiW+BF1xIpUvJj9OdpbvffF/WhDfVvhRdSvV6/gAxHCEvHnrXTrx8W1Al3
 RTlg==
X-Gm-Message-State: ABy/qLYYi6zFrBZ6CVpXch7wC3b9IPZQTZ/flOw9BAoIwkAjTiGS0Hll
 P62g7w3eYIWwNqOZKZGLo13TpH6UW4nEXPxKSGLgqLjVaVl2bi15RjHnnQ==
X-Google-Smtp-Source: APBJJlHzHekF4EAxqI6OBQlIuq+0ENVX8nrRGA1LTxZabPvgq44Af4DdAmXAXXHl/qjSymDE2b14K1xUOknT
X-Received: by 2002:a17:902:e852:b0:1b9:ea60:cd91 with SMTP id
 t18-20020a170902e85200b001b9ea60cd91mr1723327plg.7.1689025748688; 
 Mon, 10 Jul 2023 14:49:08 -0700 (PDT)
Received: from postal.iol.unh.edu (postal.iol.unh.edu. [132.177.123.84])
 by smtp-relay.gmail.com with ESMTPS id
 z24-20020a1709028f9800b001b9e86e2a02sm70743plo.25.2023.07.10.14.49.08
 (version=TLS1_2 cipher=ECDHE-ECDSA-AES128-GCM-SHA256 bits=128/128);
 Mon, 10 Jul 2023 14:49:08 -0700 (PDT)
X-Relaying-Domain: iol.unh.edu
Date: Mon, 10 Jul 2023 14:49:08 -0700 (PDT)
Message-ID: <64ac7cd4.170a0220.db024.1355SMTPIN_ADDED_MISSING@mx.google.com>
Received: from [172.21.0.3] (unknown [172.18.0.240])
 by postal.iol.unh.edu (Postfix) with ESMTP id 2EDA5605246B;
 Mon, 10 Jul 2023 17:49:08 -0400 (EDT)
Subject: |SUCCESS| pw129213 [PATCH] test: remove unnecessary rte_srand
From: dpdklab@iol.unh.edu
To: Test Report <test-report@dpdk.org>
Cc: dpdk-test-reports@iol.unh.edu
Content-Type: text/plain
X-BeenThere: test-report@dpdk.org
X-Mailman-Version: 2.1.29
Precedence: list
List-Id: automatic DPDK test reports <test-report.dpdk.org>
List-Unsubscribe: <https://mails.dpdk.org/options/test-report>,
 <mailto:test-report-request@dpdk.org?subject=unsubscribe>
List-Archive: <http://mails.dpdk.org/archives/test-report/>
List-Post: <mailto:test-report@dpdk.org>
List-Help: <mailto:test-report-request@dpdk.org?subject=help>
List-Subscribe: <https://mails.dpdk.org/listinfo/test-report>,
 <mailto:test-report-request@dpdk.org?subject=subscribe>
Errors-To: test-report-bounces@dpdk.org

Test-Label: iol-aarch64-compile-testing
Test-Status: SUCCESS
http://dpdk.org/patch/129213

_Testing PASS_

Submitter: Stephen Hemminger <stephen@networkplumber.org>
Date: Monday, July 03 2023 18:49:03 
DPDK git baseline: Repo:dpdk
  Branch: master
  CommitID:a64a4564705d18d20d20cfa16c79e795b7bf0f1e

129213 --> testing pass

Test environment and result as below:

+--------------------------------------+--------------------+
|             Environment              | dpdk_meson_compile |
+======================================+====================+
| Debian 11 (Buster) (ARM)             | PASS               |
+--------------------------------------+--------------------+
| Ubuntu 20.04 ARM GCC Cross Compile   | PASS               |
+--------------------------------------+--------------------+
| Ubuntu 20.04 ARM Clang Cross Compile | PASS               |
+--------------------------------------+--------------------+
| Fedora 38 (ARM)                      | PASS               |
+--------------------------------------+--------------------+
| Ubuntu 20.04 ARM SVE                 | PASS               |
+--------------------------------------+--------------------+
| Ubuntu 20.04 (ARM)                   | PASS               |
+--------------------------------------+--------------------+
| Fedora 37 (ARM)                      | PASS               |
+--------------------------------------+--------------------+
| CentOS Stream 9 (ARM)                | PASS               |
+--------------------------------------+--------------------+


Debian 11 (Buster) (ARM)
	Kernel: Container Host Kernel
	Compiler: gcc 10.2.1

Ubuntu 20.04 ARM GCC Cross Compile
	Kernel: 5.4.0-72-generic
	Compiler: aarch64-linux-gnu-gcc (Ubuntu 9.3.0-17ubuntu1~20.04) 9.3.0

Ubuntu 20.04 ARM Clang Cross Compile
	Kernel: 5.4.0-72-generic
	Compiler: clang version 10.0.0-4ubuntu1

Fedora 38 (ARM)
	Kernel: Depends on container host
	Compiler: gcc 13.1.1

Ubuntu 20.04 ARM SVE
	Kernel: 5.4.0-80-generic
	Compiler: gcc 10.3.0 (Ubuntu 10.3.0-1ubuntu1~20.04)

Ubuntu 20.04 (ARM)
	Kernel: Container Host Kernel
	Compiler: gcc 9.4.0

Fedora 37 (ARM)
	Kernel: Depends on container host
	Compiler: gcc 12.3.1

CentOS Stream 9 (ARM)
	Kernel: Container Host Kernel
	Compiler: gcc 11.3.1

To view detailed results, visit:
https://lab.dpdk.org/results/dashboard/patchsets/26937/

UNH-IOL DPDK Community Lab

To manage your email subscriptions, visit: 
https://lab.dpdk.org/results/dashboard/preferences/subscriptions/