From mboxrd@z Thu Jan  1 00:00:00 1970
Return-Path: <test-report-bounces@dpdk.org>
Received: from mails.dpdk.org (mails.dpdk.org [217.70.189.124])
	by inbox.dpdk.org (Postfix) with ESMTP id 196E242E3D
	for <public@inbox.dpdk.org>; Tue, 11 Jul 2023 03:56:24 +0200 (CEST)
Received: from mails.dpdk.org (localhost [127.0.0.1])
	by mails.dpdk.org (Postfix) with ESMTP id 16D374003C;
	Tue, 11 Jul 2023 03:56:24 +0200 (CEST)
Received: from mail-oi1-f228.google.com (mail-oi1-f228.google.com
 [209.85.167.228])
 by mails.dpdk.org (Postfix) with ESMTP id 365A44003C
 for <test-report@dpdk.org>; Tue, 11 Jul 2023 03:56:23 +0200 (CEST)
Received: by mail-oi1-f228.google.com with SMTP id
 5614622812f47-3a3fbfb616dso1193896b6e.3
 for <test-report@dpdk.org>; Mon, 10 Jul 2023 18:56:23 -0700 (PDT)
DKIM-Signature: v=1; a=rsa-sha256; c=relaxed/relaxed;
 d=iol.unh.edu; s=unh-iol; t=1689040582; x=1691632582;
 h=cc:to:from:subject:message-id:date:from:to:cc:subject:date
 :message-id:reply-to;
 bh=vGrduGz9lazL1ofekW9zeM7BsJFadiRLb5QA+3jzTr8=;
 b=QozlKwrYTBhxpmgTrzvz5p4YXGa1wcFxoZOd/PSStH0SeYmwzC6ZxzdRzSLX6u8rIg
 WXVg2ASXfe66KVVUcJ/PoBzzKPS8JQkFYHrV8aFN20fKgj0BPbm6vSDFrp74v2/D7XJa
 xNXpnP+IvJ09IUU7OXqrE1z92h+Xiq436WEmY=
X-Google-DKIM-Signature: v=1; a=rsa-sha256; c=relaxed/relaxed;
 d=1e100.net; s=20221208; t=1689040582; x=1691632582;
 h=cc:to:from:subject:message-id:date:x-gm-message-state:from:to:cc
 :subject:date:message-id:reply-to;
 bh=vGrduGz9lazL1ofekW9zeM7BsJFadiRLb5QA+3jzTr8=;
 b=QPXhNE9iwbGmp+mYlTXscP16s6FYtFx5POuKVmi7cFscarvKiLNa2m/lO+PCMpBtU7
 K1t3gTGFNbdJa5WcAH1zVC7doE4Bgpcmf4vgzgffpx4bGddCZAJaDbbkTtK14oIowDJM
 mB09K3bbTT17HpPIFuNLP3fLG9ucgsOsIxcLz81Olyd96OEA1kf8k47gttnkpSbUBTwm
 lM+9pR+3ujBcLaM15GuGqQTUg10u2V8QFNAvPn9KoQllbJwUQA8IcXVbSC7/Arq3+Z/Y
 NEgQmuQucjWTvE1aR6MhyixX+f02NZxV7sxJl0vJ8ITaAAruI3o5gmB0aHfcHLThqsOy
 AmRQ==
X-Gm-Message-State: ABy/qLaIGN5NLVLtX6EwqaVxhwyCjBaNl7Ra7R6ExXS+5HzClVUCzMwH
 dvFBCNeNreVILliHvQ/SrVGhnJCza+4EXF0hoe+QkeWPpp6z1aKqC+gOIxGT5AGlu4EsS3HefQ=
 =
X-Google-Smtp-Source: APBJJlGjCbxjJV8zhGTcah29TQ2q1z6z6aKoDjr0h2U3e5sjkVeNW0WBsN5G326Uacxbr96r58pwLO9QzZfE
X-Received: by 2002:a05:6808:1386:b0:3a1:e12b:2f80 with SMTP id
 c6-20020a056808138600b003a1e12b2f80mr14309329oiw.35.1689040582506; 
 Mon, 10 Jul 2023 18:56:22 -0700 (PDT)
Received: from postal.iol.unh.edu (postal.iol.unh.edu.
 [2606:4100:3880:1234::84]) by smtp-relay.gmail.com with ESMTPS id
 p30-20020a63741e000000b005572d25a928sm34218pgc.12.2023.07.10.18.56.22
 (version=TLS1_2 cipher=ECDHE-ECDSA-AES128-GCM-SHA256 bits=128/128);
 Mon, 10 Jul 2023 18:56:22 -0700 (PDT)
X-Relaying-Domain: iol.unh.edu
Date: Mon, 10 Jul 2023 18:56:22 -0700 (PDT)
Message-ID: <64acb6c6.630a0220.aaa8.1502SMTPIN_ADDED_MISSING@mx.google.com>
Received: from [172.21.0.2] (unknown [172.18.0.240])
 by postal.iol.unh.edu (Postfix) with ESMTP id B9551605246B;
 Mon, 10 Jul 2023 21:56:21 -0400 (EDT)
Subject: |SUCCESS| pw129428 [PATCH] eal: provide per lcore macros for MSVC
From: dpdklab@iol.unh.edu
To: Test Report <test-report@dpdk.org>
Cc: dpdk-test-reports@iol.unh.edu
Content-Type: text/plain
X-BeenThere: test-report@dpdk.org
X-Mailman-Version: 2.1.29
Precedence: list
List-Id: automatic DPDK test reports <test-report.dpdk.org>
List-Unsubscribe: <https://mails.dpdk.org/options/test-report>,
 <mailto:test-report-request@dpdk.org?subject=unsubscribe>
List-Archive: <http://mails.dpdk.org/archives/test-report/>
List-Post: <mailto:test-report@dpdk.org>
List-Help: <mailto:test-report-request@dpdk.org?subject=help>
List-Subscribe: <https://mails.dpdk.org/listinfo/test-report>,
 <mailto:test-report-request@dpdk.org?subject=subscribe>
Errors-To: test-report-bounces@dpdk.org

Test-Label: iol-unit-testing
Test-Status: SUCCESS
http://dpdk.org/patch/129428

_Testing PASS_

Submitter: Tyler Retzlaff <roretzla@linux.microsoft.com>
Date: Monday, July 10 2023 21:29:45 
DPDK git baseline: Repo:dpdk
  Branch: master
  CommitID:623dc9364dc6a818799941cc26dc8f70feb2bb24

129428 --> testing pass

Test environment and result as below:

+--------------------------+----------------+
|       Environment        | dpdk_unit_test |
+==========================+================+
| CentOS Stream 8          | PASS           |
+--------------------------+----------------+
| Fedora 38                | PASS           |
+--------------------------+----------------+
| Fedora 37                | PASS           |
+--------------------------+----------------+
| Debian 11 (Buster) (ARM) | PASS           |
+--------------------------+----------------+
| Debian Bullseye          | PASS           |
+--------------------------+----------------+
| Debian Buster            | PASS           |
+--------------------------+----------------+
| CentOS Stream 9 (ARM)    | PASS           |
+--------------------------+----------------+
| Fedora 37 (ARM)          | PASS           |
+--------------------------+----------------+
| RHEL 7                   | PASS           |
+--------------------------+----------------+
| CentOS Stream 9          | PASS           |
+--------------------------+----------------+
| openSUSE Leap 15         | PASS           |
+--------------------------+----------------+
| RHEL8                    | PASS           |
+--------------------------+----------------+
| Ubuntu 22.04             | PASS           |
+--------------------------+----------------+
| Ubuntu 20.04             | PASS           |
+--------------------------+----------------+
| Ubuntu 20.04 (ARM)       | PASS           |
+--------------------------+----------------+
| Fedora 38 (ARM)          | PASS           |
+--------------------------+----------------+
| Fedora 38 (ARM Clang)    | PASS           |
+--------------------------+----------------+


CentOS Stream 8
	Kernel: 4.18.0-240.10.1.el8_3.x86_64
	Compiler: gcc 8.4.1 20200928

Fedora 38
	Kernel: Depends on container host
	Compiler: gcc 13.1.1

Fedora 37
	Kernel: Depends on container host system
	Compiler: gcc 12.3.1

Debian 11 (Buster) (ARM)
	Kernel: Container Host Kernel
	Compiler: gcc 10.2.1

Debian Bullseye
	Kernel: 5.4.0-122-generic
	Compiler: gcc 10.2.1-6

Debian Buster
	Kernel: 5.4.0-122-generic
	Compiler: gcc 8.3.0-6

CentOS Stream 9 (ARM)
	Kernel: Container Host Kernel
	Compiler: gcc 11.3.1

Fedora 37 (ARM)
	Kernel: Depends on container host
	Compiler: gcc 12.3.1

RHEL 7
	Kernel: 4.18.0-240.10.1.el8_3.x86_64
	Compiler: gcc 4.8.5 20150623 (Red Hat 4.8.5-44)

CentOS Stream 9
	Kernel: 4.18.0-240.10.1.el8_3.x86_64
	Compiler: gcc 11.3.1 20220421

openSUSE Leap 15
	Kernel: 4.18.0-240.10.1.el8_3.x86_64
	Compiler: gcc 7.5.0

RHEL8
	Kernel: 4.18.0-240.10.1.el8_3.x86_64
	Compiler: gcc 8.3.1 20191121 (Red Hat 8.3.1-5)

Ubuntu 22.04
	Kernel: 4.18.0-240.10.1.el8_3.x86_64
	Compiler: gcc 11.3.0

Ubuntu 20.04
	Kernel: 4.18.0-240.10.1.el8_3.x86_64
	Compiler: gcc 9.3.0-17ubuntu1~20.04

Ubuntu 20.04 (ARM)
	Kernel: Container Host Kernel
	Compiler: gcc 9.4.0

Fedora 38 (ARM)
	Kernel: Depends on container host
	Compiler: gcc 13.1.1

Fedora 38 (ARM Clang)
	Kernel: Depends on container host
	Compiler: clang 16.0.3

To view detailed results, visit:
https://lab.dpdk.org/results/dashboard/patchsets/27027/

UNH-IOL DPDK Community Lab

To manage your email subscriptions, visit: 
https://lab.dpdk.org/results/dashboard/preferences/subscriptions/