From mboxrd@z Thu Jan  1 00:00:00 1970
Return-Path: <test-report-bounces@dpdk.org>
Received: from mails.dpdk.org (mails.dpdk.org [217.70.189.124])
	by inbox.dpdk.org (Postfix) with ESMTP id EE90A42E75
	for <public@inbox.dpdk.org>; Mon, 17 Jul 2023 21:53:40 +0200 (CEST)
Received: from mails.dpdk.org (localhost [127.0.0.1])
	by mails.dpdk.org (Postfix) with ESMTP id CA4B54068E;
	Mon, 17 Jul 2023 21:53:40 +0200 (CEST)
Received: from mail-il1-f225.google.com (mail-il1-f225.google.com
 [209.85.166.225])
 by mails.dpdk.org (Postfix) with ESMTP id 0A8194068E
 for <test-report@dpdk.org>; Mon, 17 Jul 2023 21:53:39 +0200 (CEST)
Received: by mail-il1-f225.google.com with SMTP id
 e9e14a558f8ab-345e55a62d8so21731505ab.3
 for <test-report@dpdk.org>; Mon, 17 Jul 2023 12:53:38 -0700 (PDT)
DKIM-Signature: v=1; a=rsa-sha256; c=relaxed/relaxed;
 d=iol.unh.edu; s=unh-iol; t=1689623618; x=1692215618;
 h=cc:to:from:subject:message-id:date:from:to:cc:subject:date
 :message-id:reply-to;
 bh=qpSVs6kdQ6ZUmyFhJngsp4t8XMQ0dT+/ErK9V6DQiSw=;
 b=hNzF+uFbnSGc903dTyQliSd6uCtM69NGnk0Gvajn0jiN4SILT1rF5nNxdip9SMZsPm
 qFPhUMTLT+QGVnBuoqk56edriVRuc84HsP6J/IgoAM5YN3YiAOlKGcUU2fhdbuylgrAM
 tDWCroFgJhnKhlzpy3NDetvAc7JhwDORLBI3E=
X-Google-DKIM-Signature: v=1; a=rsa-sha256; c=relaxed/relaxed;
 d=1e100.net; s=20221208; t=1689623618; x=1692215618;
 h=cc:to:from:subject:message-id:date:x-gm-message-state:from:to:cc
 :subject:date:message-id:reply-to;
 bh=qpSVs6kdQ6ZUmyFhJngsp4t8XMQ0dT+/ErK9V6DQiSw=;
 b=keLgWVo2ESYwFWYi79UFw/ByN1gjzvD4uBbi/cqvmM2/3Z4WNdVdMUqdQ8qT/lTxn9
 BWaBIKBqhzzgM5gkRTrTojjiOjUJNp7w7fdvr9mTeRelZ8QLFXT99IlcC9VCkMx6Dt0P
 nPLjlXgXLxukNxTodG/qG87+oFn0et6WLK7v87XmDnGQfouFSZbMAkBjCVNtDKB3VzEO
 ngD5vrjsAQNhIyHSCo+bergqHImqkl8pgt28wN+PXNX+5IvYKx7SKZ9t4GixBQRunr7e
 08zqWXlAjIqfKsYzUCF8uniJk1OJMa5dInfQWlbzGKykShEOzurAjudfvKRoblAayMof
 30cQ==
X-Gm-Message-State: ABy/qLbUmxHgJTCXGylhB8NOvhOV5xMocAV0pKoNUJ1i6Yk8vSKjEY4n
 GiefYZx/8Vo9on2go/kYG4Z6IeJ4Xdgv/VSILx1AL871qtXbXCcbx3uFag==
X-Google-Smtp-Source: APBJJlFnrrc3iNofIH8hsob7LY9FNn//KTFbSnnnitzr0vwdOa3MWoCJl6BtbQAQezHNBJ/DvWDTVZSuF9j4
X-Received: by 2002:a05:6e02:1aa4:b0:348:7396:184b with SMTP id
 l4-20020a056e021aa400b003487396184bmr675562ilv.24.1689623618320; 
 Mon, 17 Jul 2023 12:53:38 -0700 (PDT)
Received: from postal.iol.unh.edu (postal.iol.unh.edu. [132.177.123.84])
 by smtp-relay.gmail.com with ESMTPS id
 n12-20020a056638120c00b0042911ed0da5sm7759jas.11.2023.07.17.12.53.38
 (version=TLS1_2 cipher=ECDHE-ECDSA-AES128-GCM-SHA256 bits=128/128);
 Mon, 17 Jul 2023 12:53:38 -0700 (PDT)
X-Relaying-Domain: iol.unh.edu
Date: Mon, 17 Jul 2023 12:53:38 -0700 (PDT)
Message-ID: <64b59c42.050a0220.50bd1.05a7SMTPIN_ADDED_MISSING@mx.google.com>
Received: from [172.21.0.2] (unknown [172.18.0.240])
 by postal.iol.unh.edu (Postfix) with ESMTP id D3D3B605246B;
 Mon, 17 Jul 2023 15:53:37 -0400 (EDT)
Subject: |SUCCESS| pw129579 [PATCH] tap: fix build of tap_bpf_program
From: dpdklab@iol.unh.edu
To: Test Report <test-report@dpdk.org>
Cc: dpdk-test-reports@iol.unh.edu
Content-Type: text/plain
X-BeenThere: test-report@dpdk.org
X-Mailman-Version: 2.1.29
Precedence: list
List-Id: automatic DPDK test reports <test-report.dpdk.org>
List-Unsubscribe: <https://mails.dpdk.org/options/test-report>,
 <mailto:test-report-request@dpdk.org?subject=unsubscribe>
List-Archive: <http://mails.dpdk.org/archives/test-report/>
List-Post: <mailto:test-report@dpdk.org>
List-Help: <mailto:test-report-request@dpdk.org?subject=help>
List-Subscribe: <https://mails.dpdk.org/listinfo/test-report>,
 <mailto:test-report-request@dpdk.org?subject=subscribe>
Errors-To: test-report-bounces@dpdk.org

Test-Label: iol-abi-testing
Test-Status: SUCCESS
http://dpdk.org/patch/129579

_Testing PASS_

Submitter: Stephen Hemminger <stephen@networkplumber.org>
Date: Monday, July 17 2023 19:15:48 
DPDK git baseline: Repo:dpdk
  Branch: master
  CommitID:655eb37b18b1b0dc4d106acdf0dfedde01cfb224

129579 --> testing pass

Test environment and result as below:

+--------------+----------+
| Environment  | abi_test |
+==============+==========+
| RHEL8        | PASS     |
+--------------+----------+
| Ubuntu 22.04 | PASS     |
+--------------+----------+
| RHEL 7       | PASS     |
+--------------+----------+


RHEL8
	Kernel: 4.18.0-240.10.1.el8_3.x86_64
	Compiler: gcc 8.3.1 20191121 (Red Hat 8.3.1-5)

Ubuntu 22.04
	Kernel: 4.18.0-240.10.1.el8_3.x86_64
	Compiler: gcc 11.3.0

RHEL 7
	Kernel: 4.18.0-240.10.1.el8_3.x86_64
	Compiler: gcc 4.8.5 20150623 (Red Hat 4.8.5-44)

To view detailed results, visit:
https://lab.dpdk.org/results/dashboard/patchsets/27084/

UNH-IOL DPDK Community Lab

To manage your email subscriptions, visit: 
https://lab.dpdk.org/results/dashboard/preferences/subscriptions/