From mboxrd@z Thu Jan  1 00:00:00 1970
Return-Path: <test-report-bounces@dpdk.org>
Received: from mails.dpdk.org (mails.dpdk.org [217.70.189.124])
	by inbox.dpdk.org (Postfix) with ESMTP id 6039642E99
	for <public@inbox.dpdk.org>; Mon, 17 Jul 2023 22:20:14 +0200 (CEST)
Received: from mails.dpdk.org (localhost [127.0.0.1])
	by mails.dpdk.org (Postfix) with ESMTP id 57B414068E;
	Mon, 17 Jul 2023 22:20:14 +0200 (CEST)
Received: from mail-vs1-f98.google.com (mail-vs1-f98.google.com
 [209.85.217.98]) by mails.dpdk.org (Postfix) with ESMTP id D66E74068E
 for <test-report@dpdk.org>; Mon, 17 Jul 2023 22:20:12 +0200 (CEST)
Received: by mail-vs1-f98.google.com with SMTP id
 ada2fe7eead31-440b54708f2so1645172137.0
 for <test-report@dpdk.org>; Mon, 17 Jul 2023 13:20:12 -0700 (PDT)
DKIM-Signature: v=1; a=rsa-sha256; c=relaxed/relaxed;
 d=iol.unh.edu; s=unh-iol; t=1689625212; x=1692217212;
 h=cc:to:from:subject:message-id:date:from:to:cc:subject:date
 :message-id:reply-to;
 bh=/3T+nVGZgjxcmkccBTTzEzs3DgkNV36h6lBiACAXJHc=;
 b=O7XiSp1Bgcm9dbsl3aQCA06utUYOnOMcOBRePLjT0jGszTjaDKLWuvzTGsxgIZdumO
 M67WH7O11OgNzf18OGX2YXk2veB3X10vU3pP4D6S9RY3nLbD1hemahtvMKvuXi6L5ltZ
 gCpHXtlUWoXj0zpPqm6mcmlVwOCYN0JhzYato=
X-Google-DKIM-Signature: v=1; a=rsa-sha256; c=relaxed/relaxed;
 d=1e100.net; s=20221208; t=1689625212; x=1692217212;
 h=cc:to:from:subject:message-id:date:x-gm-message-state:from:to:cc
 :subject:date:message-id:reply-to;
 bh=/3T+nVGZgjxcmkccBTTzEzs3DgkNV36h6lBiACAXJHc=;
 b=iOn2at0kZ2wBYMeLWMmj/xSHB79E80vQfAdD/OgGo9mKW3jJNJfOdWPuUaCpGSFZFZ
 Hhk4CNWXER3eGX72vI5IlafiJvtguESzwqGL0M2wO5WGmFdcbVyXyKDyQZQ9TtQ0EWhX
 kyyiLdGcm9N1q3MEjC+eHQTIWuvjUJI9ax5QKPoPmwehqEXKJRDQuw8RBbQUE6WztXGK
 QpP36iu8ePxpsvUtPkupDYzhOC9Hqh8kz765nKJbPjVMybTEkFdD6mwFZh3F00qRDNkX
 p9rVREP+x59Zh6kLvAsWAgusHgZgWGhK+WigPJV4pSq6NdCymiCmH4i0HZ9owQIasqi2
 clNg==
X-Gm-Message-State: ABy/qLYjYm7OghmXjKbYZOxPXrKumoU4kPSYsd29g8txLm5m5rqY3km7
 rwfEOfcLrvpOj5o/5Vvx7UDMkIeKNncCUS6Ugp+zikD0D8NsAJfwK1Bu6Jfgk9+NA/2iojjh4w=
 =
X-Google-Smtp-Source: APBJJlF6i4N3bOUWzP457iA0xXzDKli65FVbGez5s2+KA6TwzOcQb9KtdoBAm6tkiW6a+VLLBdcZ3N6fTkS8
X-Received: by 2002:a05:6102:3179:b0:443:6f2d:d44a with SMTP id
 l25-20020a056102317900b004436f2dd44amr6652734vsm.2.1689625212235; 
 Mon, 17 Jul 2023 13:20:12 -0700 (PDT)
Received: from postal.iol.unh.edu (postal.iol.unh.edu.
 [2606:4100:3880:1234::84]) by smtp-relay.gmail.com with ESMTPS id
 l5-20020ab02545000000b0078cea1a335esm59830uan.1.2023.07.17.13.20.12
 (version=TLS1_2 cipher=ECDHE-ECDSA-AES128-GCM-SHA256 bits=128/128);
 Mon, 17 Jul 2023 13:20:12 -0700 (PDT)
X-Relaying-Domain: iol.unh.edu
Date: Mon, 17 Jul 2023 13:20:12 -0700 (PDT)
Message-ID: <64b5a27c.b00a0220.f8e84.1aefSMTPIN_ADDED_MISSING@mx.google.com>
Received: from [172.21.0.2] (unknown [172.18.0.240])
 by postal.iol.unh.edu (Postfix) with ESMTP id E1E29605246B;
 Mon, 17 Jul 2023 16:20:11 -0400 (EDT)
Subject: |SUCCESS| pw129579 [PATCH] tap: fix build of tap_bpf_program
From: dpdklab@iol.unh.edu
To: Test Report <test-report@dpdk.org>
Cc: dpdk-test-reports@iol.unh.edu
Content-Type: text/plain
X-BeenThere: test-report@dpdk.org
X-Mailman-Version: 2.1.29
Precedence: list
List-Id: automatic DPDK test reports <test-report.dpdk.org>
List-Unsubscribe: <https://mails.dpdk.org/options/test-report>,
 <mailto:test-report-request@dpdk.org?subject=unsubscribe>
List-Archive: <http://mails.dpdk.org/archives/test-report/>
List-Post: <mailto:test-report@dpdk.org>
List-Help: <mailto:test-report-request@dpdk.org?subject=help>
List-Subscribe: <https://mails.dpdk.org/listinfo/test-report>,
 <mailto:test-report-request@dpdk.org?subject=subscribe>
Errors-To: test-report-bounces@dpdk.org

Test-Label: iol-aarch-unit-testing
Test-Status: SUCCESS
http://dpdk.org/patch/129579

_Testing PASS_

Submitter: Stephen Hemminger <stephen@networkplumber.org>
Date: Monday, July 17 2023 19:15:48 
DPDK git baseline: Repo:dpdk
  Branch: master
  CommitID:655eb37b18b1b0dc4d106acdf0dfedde01cfb224

129579 --> testing pass

Test environment and result as below:

+-----------------------------+------------------------------+---------------------------+----------------+--------------+
|         Environment         | cryptodev_sw_snow3g_autotest | cryptodev_sw_zuc_autotest | dpdk_unit_test | lpm_autotest |
+=============================+==============================+===========================+================+==============+
| Debian 11                   | PASS                         | PASS                      | SKIPPED        | SKIPPED      |
+-----------------------------+------------------------------+---------------------------+----------------+--------------+
| (32-bit) ARM Ubuntu 20.04.4 | SKIPPED                      | SKIPPED                   | PASS           | SKIPPED      |
+-----------------------------+------------------------------+---------------------------+----------------+--------------+
| Ubuntu 20.04 ARM SVE        | SKIPPED                      | SKIPPED                   | SKIPPED        | PASS         |
+-----------------------------+------------------------------+---------------------------+----------------+--------------+


Debian 11
	Kernel: Container Host Kernel
	Compiler: gcc 10.2.1

(32-bit) ARM Ubuntu 20.04.4
	Kernel: 5.4.0-148-generic aarch64
	Compiler: gcc 9.4

Ubuntu 20.04 ARM SVE
	Kernel: 5.4.0-80-generic
	Compiler: gcc 10.3.0 (Ubuntu 10.3.0-1ubuntu1~20.04)

To view detailed results, visit:
https://lab.dpdk.org/results/dashboard/patchsets/27084/

UNH-IOL DPDK Community Lab

To manage your email subscriptions, visit: 
https://lab.dpdk.org/results/dashboard/preferences/subscriptions/