From: dpdklab@iol.unh.edu
To: Test Report <test-report@dpdk.org>
Cc: dpdk-test-reports@iol.unh.edu
Subject: |SUCCESS| [GIT MASTER] 035968c78e798aa6fb81ceb45d06a44412a00912
Date: Wed, 19 Jul 2023 17:57:41 -0700 (PDT) [thread overview]
Message-ID: <64b88685.0c0a0220.c9d49.9543SMTPIN_ADDED_MISSING@mx.google.com> (raw)
_Testing PASS_
Branch: dpdk
035968c78e798aa6fb81ceb45d06a44412a00912 --> testing pass
Test environment and result as below:
+-----------------+----------+
| Environment | abi_test |
+=================+==========+
| Ubuntu 22.04 | PASS |
+-----------------+----------+
| Debian Bullseye | PASS |
+-----------------+----------+
| RHEL 7 | PASS |
+-----------------+----------+
| RHEL8 | PASS |
+-----------------+----------+
Ubuntu 22.04
Kernel: 4.18.0-240.10.1.el8_3.x86_64
Compiler: gcc 11.3.0
Debian Bullseye
Kernel: 5.4.0-122-generic
Compiler: gcc 10.2.1-6
RHEL 7
Kernel: 4.18.0-240.10.1.el8_3.x86_64
Compiler: gcc 4.8.5 20150623 (Red Hat 4.8.5-44)
RHEL8
Kernel: 4.18.0-240.10.1.el8_3.x86_64
Compiler: gcc 8.3.1 20191121 (Red Hat 8.3.1-5)
To view detailed results, visit:
https://lab.dpdk.org/results/dashboard/tarballs/25540/
UNH-IOL DPDK Community Lab
To manage your email subscriptions, visit:
https://lab.dpdk.org/results/dashboard/preferences/subscriptions/
next reply other threads:[~2023-07-20 0:57 UTC|newest]
Thread overview: 30+ messages / expand[flat|nested] mbox.gz Atom feed top
2023-07-20 0:57 dpdklab [this message]
-- strict thread matches above, loose matches on Subject: below --
2023-07-20 3:46 dpdklab
2023-07-20 2:17 dpdklab
2023-07-20 2:16 dpdklab
2023-07-20 2:04 dpdklab
2023-07-20 1:56 dpdklab
2023-07-20 1:55 dpdklab
2023-07-20 1:49 dpdklab
2023-07-20 1:41 dpdklab
2023-07-20 1:39 dpdklab
2023-07-20 1:35 dpdklab
2023-07-20 1:34 dpdklab
2023-07-20 1:29 dpdklab
2023-07-20 1:24 dpdklab
2023-07-20 1:19 dpdklab
2023-07-20 1:19 dpdklab
2023-07-20 1:16 dpdklab
2023-07-20 1:16 dpdklab
2023-07-20 1:10 dpdklab
2023-07-20 1:07 dpdklab
2023-07-20 1:06 dpdklab
2023-07-20 1:05 dpdklab
2023-07-20 1:04 dpdklab
2023-07-20 1:02 dpdklab
2023-07-20 0:58 dpdklab
2023-07-20 0:58 dpdklab
2023-07-20 0:58 dpdklab
2023-07-20 0:57 dpdklab
2023-07-20 0:57 dpdklab
2023-07-20 0:57 dpdklab
Reply instructions:
You may reply publicly to this message via plain-text email
using any one of the following methods:
* Save the following mbox file, import it into your mail client,
and reply-to-all from there: mbox
Avoid top-posting and favor interleaved quoting:
https://en.wikipedia.org/wiki/Posting_style#Interleaved_style
* Reply using the --to, --cc, and --in-reply-to
switches of git-send-email(1):
git send-email \
--in-reply-to=64b88685.0c0a0220.c9d49.9543SMTPIN_ADDED_MISSING@mx.google.com \
--to=dpdklab@iol.unh.edu \
--cc=dpdk-test-reports@iol.unh.edu \
--cc=test-report@dpdk.org \
/path/to/YOUR_REPLY
https://kernel.org/pub/software/scm/git/docs/git-send-email.html
* If your mail client supports setting the In-Reply-To header
via mailto: links, try the mailto: link
Be sure your reply has a Subject: header at the top and a blank line
before the message body.
This is a public inbox, see mirroring instructions
for how to clone and mirror all data and code used for this inbox;
as well as URLs for NNTP newsgroup(s).