From mboxrd@z Thu Jan  1 00:00:00 1970
Return-Path: <test-report-bounces@dpdk.org>
Received: from mails.dpdk.org (mails.dpdk.org [217.70.189.124])
	by inbox.dpdk.org (Postfix) with ESMTP id D969E42EEE
	for <public@inbox.dpdk.org>; Sat, 22 Jul 2023 19:42:03 +0200 (CEST)
Received: from mails.dpdk.org (localhost [127.0.0.1])
	by mails.dpdk.org (Postfix) with ESMTP id DFC5C40698;
	Sat, 22 Jul 2023 19:42:02 +0200 (CEST)
Received: from mail-pj1-f97.google.com (mail-pj1-f97.google.com
 [209.85.216.97]) by mails.dpdk.org (Postfix) with ESMTP id B735740698
 for <test-report@dpdk.org>; Sat, 22 Jul 2023 19:42:01 +0200 (CEST)
Received: by mail-pj1-f97.google.com with SMTP id
 98e67ed59e1d1-267c41caa06so1836998a91.2
 for <test-report@dpdk.org>; Sat, 22 Jul 2023 10:42:01 -0700 (PDT)
DKIM-Signature: v=1; a=rsa-sha256; c=relaxed/relaxed;
 d=iol.unh.edu; s=unh-iol; t=1690047721; x=1690652521;
 h=cc:to:from:subject:message-id:date:from:to:cc:subject:date
 :message-id:reply-to;
 bh=Sxqa82Z9QCEsg0df8rjW6T5KP813r27w30gDY6K9/nc=;
 b=UQxYsR3nvnFaYLpkxdQRWUi8x5TziR70ICHs7JYzgpT4kNf0SKSc7qydx3ndhiLCZF
 RIEAHPXgugj/fp15qXTIMTW9dyWM2I1OG6qo4ksGoBSq0JThXLpQ3mgk79ninFocyqKS
 vnye4r/k6ziFZRicCYLTEuuKs7nT8e4te6ZKU=
X-Google-DKIM-Signature: v=1; a=rsa-sha256; c=relaxed/relaxed;
 d=1e100.net; s=20221208; t=1690047721; x=1690652521;
 h=cc:to:from:subject:message-id:date:x-gm-message-state:from:to:cc
 :subject:date:message-id:reply-to;
 bh=Sxqa82Z9QCEsg0df8rjW6T5KP813r27w30gDY6K9/nc=;
 b=Fp5jtRjvIf5ONsz6+Fj8h4Lm/aBl9TSQyl8+8cJ6+i8RmksLl7tf+czQUjsL9tgJDl
 AWkYFwoyabM9BR2cMdRpzi0ZbeJxIoVGafOzZ3eXjAhgH7wichx345TB93CCPYzdLugG
 lp4N77zxuaKTZud+ceMAbB8hznKbGUbHP8avxzzKYvvHkq6VVquyg+5Jc/dxCLcgmY1M
 tpljYneYLgGDrgID8P30S9JKr4AXVecSECAOfW/Xy5Yy7t1CWza2u7q0uLg5cezHjAas
 42SXzzbSJmmOSP//W6DJCh9A03VIB93vBztJ3nS4L7yjnAw44OawvcvBKcslM//kw46I
 hJfA==
X-Gm-Message-State: ABy/qLbvjYeE+4pcNaacoV0G1KGz0rKhhrunHjRiN8GBv3X9GKZfX2hs
 WVBsKJM+V4P7fpharpTE7u10iZttWsPMrkTCbUwwP8HQdNZRHBU2FtFX0YdQBAZmOEbR4D95ww=
 =
X-Google-Smtp-Source: APBJJlFqqeSqwXZ3MJnxsARvTY2HatA7q69Hqf1lcqFAfJa3A8CLBcTZerm3UbN1lo/NbkoaEk83BCjW3VMw
X-Received: by 2002:a17:90a:86c2:b0:263:25f9:6603 with SMTP id
 y2-20020a17090a86c200b0026325f96603mr5395108pjv.13.1690047720823; 
 Sat, 22 Jul 2023 10:42:00 -0700 (PDT)
Received: from postal.iol.unh.edu (postal.iol.unh.edu.
 [2606:4100:3880:1234::84]) by smtp-relay.gmail.com with ESMTPS id
 rm3-20020a17090b3ec300b0026316cbea67sm447240pjb.15.2023.07.22.10.42.00
 (version=TLS1_2 cipher=ECDHE-ECDSA-AES128-GCM-SHA256 bits=128/128);
 Sat, 22 Jul 2023 10:42:00 -0700 (PDT)
X-Relaying-Domain: iol.unh.edu
Date: Sat, 22 Jul 2023 10:42:00 -0700 (PDT)
Message-ID: <64bc14e8.170a0220.b4d06.0e50SMTPIN_ADDED_MISSING@mx.google.com>
Received: from [172.21.0.2] (unknown [172.18.0.240])
 by postal.iol.unh.edu (Postfix) with ESMTP id 6C3DD605246B;
 Sat, 22 Jul 2023 13:41:59 -0400 (EDT)
Subject: |SUCCESS| pw129692 [PATCH] [v4] tap: fix build of TAP BPF program
From: dpdklab@iol.unh.edu
To: Test Report <test-report@dpdk.org>
Cc: dpdk-test-reports@iol.unh.edu
Content-Type: text/plain
X-BeenThere: test-report@dpdk.org
X-Mailman-Version: 2.1.29
Precedence: list
List-Id: automatic DPDK test reports <test-report.dpdk.org>
List-Unsubscribe: <https://mails.dpdk.org/options/test-report>,
 <mailto:test-report-request@dpdk.org?subject=unsubscribe>
List-Archive: <http://mails.dpdk.org/archives/test-report/>
List-Post: <mailto:test-report@dpdk.org>
List-Help: <mailto:test-report-request@dpdk.org?subject=help>
List-Subscribe: <https://mails.dpdk.org/listinfo/test-report>,
 <mailto:test-report-request@dpdk.org?subject=subscribe>
Errors-To: test-report-bounces@dpdk.org

Test-Label: iol-abi-testing
Test-Status: SUCCESS
http://dpdk.org/patch/129692

_Testing PASS_

Submitter: Stephen Hemminger <stephen@networkplumber.org>
Date: Saturday, July 22 2023 16:32:59 
DPDK git baseline: Repo:dpdk
  Branch: master
  CommitID:fbafb3676c482dab60c0b5465b47f2ea33893a36

129692 --> testing pass

Test environment and result as below:

+------------------+----------+
|   Environment    | abi_test |
+==================+==========+
| Ubuntu 22.04     | PASS     |
+------------------+----------+
| RHEL 7           | PASS     |
+------------------+----------+
| Debian Bullseye  | PASS     |
+------------------+----------+
| Debian Buster    | PASS     |
+------------------+----------+
| Fedora 38        | PASS     |
+------------------+----------+
| openSUSE Leap 15 | PASS     |
+------------------+----------+
| CentOS Stream 8  | PASS     |
+------------------+----------+
| Fedora 37        | PASS     |
+------------------+----------+
| CentOS Stream 9  | PASS     |
+------------------+----------+


Ubuntu 22.04
	Kernel: 4.18.0-240.10.1.el8_3.x86_64
	Compiler: gcc 11.3.0

RHEL 7
	Kernel: 4.18.0-240.10.1.el8_3.x86_64
	Compiler: gcc 4.8.5 20150623 (Red Hat 4.8.5-44)

Debian Bullseye
	Kernel: 5.4.0-122-generic
	Compiler: gcc 10.2.1-6

Debian Buster
	Kernel: 5.4.0-122-generic
	Compiler: gcc 8.3.0-6

Fedora 38
	Kernel: Depends on container host
	Compiler: clang 16.0.3

openSUSE Leap 15
	Kernel: 4.18.0-240.10.1.el8_3.x86_64
	Compiler: gcc 7.5.0

CentOS Stream 8
	Kernel: 4.18.0-240.10.1.el8_3.x86_64
	Compiler: gcc 8.4.1 20200928

Fedora 37
	Kernel: Depends on container host system
	Compiler: gcc 12.3.1

CentOS Stream 9
	Kernel: 4.18.0-240.10.1.el8_3.x86_64
	Compiler: gcc 11.3.1 20220421

To view detailed results, visit:
https://lab.dpdk.org/results/dashboard/patchsets/27130/

UNH-IOL DPDK Community Lab

To manage your email subscriptions, visit: 
https://lab.dpdk.org/results/dashboard/preferences/subscriptions/