From mboxrd@z Thu Jan  1 00:00:00 1970
Return-Path: <test-report-bounces@dpdk.org>
Received: from mails.dpdk.org (mails.dpdk.org [217.70.189.124])
	by inbox.dpdk.org (Postfix) with ESMTP id 9926B42F6C
	for <public@inbox.dpdk.org>; Fri, 28 Jul 2023 17:15:04 +0200 (CEST)
Received: from mails.dpdk.org (localhost [127.0.0.1])
	by mails.dpdk.org (Postfix) with ESMTP id 95B3F4021E;
	Fri, 28 Jul 2023 17:15:04 +0200 (CEST)
Received: from mail-qv1-f98.google.com (mail-qv1-f98.google.com
 [209.85.219.98]) by mails.dpdk.org (Postfix) with ESMTP id 0D4E44021E
 for <test-report@dpdk.org>; Fri, 28 Jul 2023 17:15:03 +0200 (CEST)
Received: by mail-qv1-f98.google.com with SMTP id
 6a1803df08f44-6378cec43ddso13269056d6.2
 for <test-report@dpdk.org>; Fri, 28 Jul 2023 08:15:03 -0700 (PDT)
DKIM-Signature: v=1; a=rsa-sha256; c=relaxed/relaxed;
 d=iol.unh.edu; s=unh-iol; t=1690557302; x=1691162102;
 h=cc:to:from:subject:message-id:date:from:to:cc:subject:date
 :message-id:reply-to;
 bh=IDZCx3s3h3e2r7iMys8qdVX5tY6S2QCSTMFNsRfW5qA=;
 b=NBDVWIY1cboqZFY7vtuu9stmg88hL/4rtZsFyMyUvk8Ov7LEIsaKIGBkTl/0Ga9ZYt
 OEzeFhVGZI4apy8LpJdU0nUuO2ow3Flm5Z9FKSCNMaTu5nQfWe3VcK2xTkU9YzPDoDLh
 3Rkke77rpTIAP0GKnzLXvthTaS0y83/N5mk6Y=
X-Google-DKIM-Signature: v=1; a=rsa-sha256; c=relaxed/relaxed;
 d=1e100.net; s=20221208; t=1690557302; x=1691162102;
 h=cc:to:from:subject:message-id:date:x-gm-message-state:from:to:cc
 :subject:date:message-id:reply-to;
 bh=IDZCx3s3h3e2r7iMys8qdVX5tY6S2QCSTMFNsRfW5qA=;
 b=fJE4HmjPzXN5l/i6BwJMyAbD+3vxLQh5SoNkJ6lNT27GgoN7Jlm+GloA0H7vdsSKG6
 xgfLjQfrJe6KKoAH9YuzT05bwqR7IOc0Bid1Djq/aEPn4356RB9uVP1cpk+obtLGmEVc
 31eiyBTHXUiFaF7gA1nMXV3JnWGaXLFAVlitt6PNhMR4hUJ56CDpFeijeXBKQATnvuLS
 GG2jrrDxGKy5fbIZIFMcSFd4MHFsV1Iw8myhjGCzNFtcK061zPUepOxNVp1tcm4dcEbP
 VrL7dqoo+6TbsW5jDYKmxl6+nEddcElkvvLxA9xDEQxghOtdE17KIP2tSFrKNPhff+iT
 75Pg==
X-Gm-Message-State: ABy/qLZZYLaQQLyu15E93StQ2b3HMxZxt1YOSbuGp98chmSwNTGdPNQk
 WtdLB2GouupkvZg/sdqgRernOhsC+d8obME2iFSY3ajx5fTd7SWlPVOYBQ==
X-Google-Smtp-Source: APBJJlGjU+m+EZezMP/GpedeMy1tKRSpHaSS3O3Hekxb8Dx1VwfkI3E2DaIhI7CqtRtDEcJmsxlsVT7eKvDP
X-Received: by 2002:a0c:a692:0:b0:63c:fc45:aed with SMTP id
 t18-20020a0ca692000000b0063cfc450aedmr2192200qva.65.1690557302214; 
 Fri, 28 Jul 2023 08:15:02 -0700 (PDT)
Received: from postal.iol.unh.edu (postal.iol.unh.edu. [132.177.123.84])
 by smtp-relay.gmail.com with ESMTPS id
 k10-20020a0cf28a000000b0063d2c0f3a9dsm189361qvl.60.2023.07.28.08.15.02
 (version=TLS1_2 cipher=ECDHE-ECDSA-AES128-GCM-SHA256 bits=128/128);
 Fri, 28 Jul 2023 08:15:02 -0700 (PDT)
X-Relaying-Domain: iol.unh.edu
Date: Fri, 28 Jul 2023 08:15:02 -0700 (PDT)
Message-ID: <64c3db76.0c0a0220.c0608.4ca2SMTPIN_ADDED_MISSING@mx.google.com>
Received: from [172.21.0.2] (unknown [172.18.0.240])
 by postal.iol.unh.edu (Postfix) with ESMTP id 5469E6052471;
 Fri, 28 Jul 2023 11:15:01 -0400 (EDT)
Subject: |SUCCESS| pw129721 [PATCH] doc: announce new major ABI version
From: dpdklab@iol.unh.edu
To: Test Report <test-report@dpdk.org>
Cc: dpdk-test-reports@iol.unh.edu
Content-Type: text/plain
X-BeenThere: test-report@dpdk.org
X-Mailman-Version: 2.1.29
Precedence: list
List-Id: automatic DPDK test reports <test-report.dpdk.org>
List-Unsubscribe: <https://mails.dpdk.org/options/test-report>,
 <mailto:test-report-request@dpdk.org?subject=unsubscribe>
List-Archive: <http://mails.dpdk.org/archives/test-report/>
List-Post: <mailto:test-report@dpdk.org>
List-Help: <mailto:test-report-request@dpdk.org?subject=help>
List-Subscribe: <https://mails.dpdk.org/listinfo/test-report>,
 <mailto:test-report-request@dpdk.org?subject=subscribe>
Errors-To: test-report-bounces@dpdk.org

Test-Label: iol-abi-testing
Test-Status: SUCCESS
http://dpdk.org/patch/129721

_Testing PASS_

Submitter: Thomas Monjalon <thomas@monjalon.net>
Date: Friday, July 28 2023 14:29:46 
DPDK git baseline: Repo:dpdk
  Branch: master
  CommitID:4334b7b405500254b8a3ddb056f78c5b4745f1ef

129721 --> testing pass

Test environment and result as below:

+-----------------+----------+
|   Environment   | abi_test |
+=================+==========+
| CentOS Stream 8 | PASS     |
+-----------------+----------+
| Debian Buster   | PASS     |
+-----------------+----------+
| Fedora 37       | PASS     |
+-----------------+----------+


CentOS Stream 8
	Kernel: 4.18.0-240.10.1.el8_3.x86_64
	Compiler: gcc 8.4.1 20200928

Debian Buster
	Kernel: 5.4.0-122-generic
	Compiler: gcc 8.3.0-6

Fedora 37
	Kernel: Depends on container host system
	Compiler: gcc 12.3.1

To view detailed results, visit:
https://lab.dpdk.org/results/dashboard/patchsets/27153/

UNH-IOL DPDK Community Lab

To manage your email subscriptions, visit: 
https://lab.dpdk.org/results/dashboard/preferences/subscriptions/