From mboxrd@z Thu Jan  1 00:00:00 1970
Return-Path: <test-report-bounces@dpdk.org>
Received: from mails.dpdk.org (mails.dpdk.org [217.70.189.124])
	by inbox.dpdk.org (Postfix) with ESMTP id 8360142F6C
	for <public@inbox.dpdk.org>; Fri, 28 Jul 2023 18:35:59 +0200 (CEST)
Received: from mails.dpdk.org (localhost [127.0.0.1])
	by mails.dpdk.org (Postfix) with ESMTP id 5FB134021E;
	Fri, 28 Jul 2023 18:35:59 +0200 (CEST)
Received: from mail-pg1-f227.google.com (mail-pg1-f227.google.com
 [209.85.215.227])
 by mails.dpdk.org (Postfix) with ESMTP id C5D3A4021E
 for <test-report@dpdk.org>; Fri, 28 Jul 2023 18:35:57 +0200 (CEST)
Received: by mail-pg1-f227.google.com with SMTP id
 41be03b00d2f7-563e6524aaeso1302153a12.0
 for <test-report@dpdk.org>; Fri, 28 Jul 2023 09:35:57 -0700 (PDT)
DKIM-Signature: v=1; a=rsa-sha256; c=relaxed/relaxed;
 d=iol.unh.edu; s=unh-iol; t=1690562157; x=1691166957;
 h=cc:to:from:subject:message-id:date:from:to:cc:subject:date
 :message-id:reply-to;
 bh=VfA0oDUE+2+frm+ktCtjZRdakneFE1Y+oSBWRPBGKpQ=;
 b=DvL3S2BKDnVKHjUDEP8EcclFgXV5S5LwUnD+I+Fvd+yeokf7dFJF+Vj+53GEM/e9hw
 RJS1xw1BOb/nAx5JnZtcO72nor7UH5YgHr3LxPD1KIyYibcjyk9fDsTEn3kijsthcr5s
 fsOGCrQ83d/eptlIlxiSDs0vXiPW8xKyjsUFY=
X-Google-DKIM-Signature: v=1; a=rsa-sha256; c=relaxed/relaxed;
 d=1e100.net; s=20221208; t=1690562157; x=1691166957;
 h=cc:to:from:subject:message-id:date:x-gm-message-state:from:to:cc
 :subject:date:message-id:reply-to;
 bh=VfA0oDUE+2+frm+ktCtjZRdakneFE1Y+oSBWRPBGKpQ=;
 b=RozynkGv7FMlrxvuEeaOMOIehLYBiw4ayelVCS4x6oe8kXZkAlIuAfXN5yMyskCQ1F
 SO4N+sbul2NlzkUNjBilyaDKC0DBW8CCaxNoYNgpMwywTPKRbSA80O0B0zVKI8zfFPBT
 sNRhOZhXz/WKNC5DwJP0RRE2F7PEeEezyCxa4ZfN754k3t71Pv24BrSg+/Xgyy6wm9Hf
 GCZ2N2nL4FsaPfFFuFG6mT2W7VOiBWce92RNFuLqNWIpVkxzPAE2RuASNek8SlZOtU+J
 cCrMNNx2S0fFPG6BdjmBAvdlPPyL3hC0hH40ZIlxIjuPXhGXyr21PflPiDJs6fa+vIv+
 ZblQ==
X-Gm-Message-State: ABy/qLZ2a3hKPLeX94a9W/yCRSLkZjeUO278jwz02W2n3eUxSBriVmRU
 XDAR1je12TWVKlQtS7c1qzfltc2bBtlP1Cz1aL5m8F+l7kWL2jG4+gXKmg==
X-Google-Smtp-Source: APBJJlGWSbS2OwPEY88Srh6Sfkmosb5b5V0feN3bUEcY54POEyMWsEIUVHeeVysUk3IiNNMl4FAFU5hn07jl
X-Received: by 2002:a17:90a:46c7:b0:262:e742:f40a with SMTP id
 x7-20020a17090a46c700b00262e742f40amr1616055pjg.44.1690562156946; 
 Fri, 28 Jul 2023 09:35:56 -0700 (PDT)
Received: from postal.iol.unh.edu (postal.iol.unh.edu. [132.177.123.84])
 by smtp-relay.gmail.com with ESMTPS id
 lw4-20020a17090b180400b00262f5a3f790sm1389884pjb.1.2023.07.28.09.35.56
 (version=TLS1_2 cipher=ECDHE-ECDSA-AES128-GCM-SHA256 bits=128/128);
 Fri, 28 Jul 2023 09:35:56 -0700 (PDT)
X-Relaying-Domain: iol.unh.edu
Date: Fri, 28 Jul 2023 09:35:56 -0700 (PDT)
Message-ID: <64c3ee6c.170a0220.b763c.d7ffSMTPIN_ADDED_MISSING@mx.google.com>
Received: from [172.21.0.2] (unknown [172.18.0.240])
 by postal.iol.unh.edu (Postfix) with ESMTP id 0FE8F6052471;
 Fri, 28 Jul 2023 12:35:56 -0400 (EDT)
Subject: |SUCCESS| pw129722 [PATCH] [v2] doc: announce new major ABI version
From: dpdklab@iol.unh.edu
To: Test Report <test-report@dpdk.org>
Cc: dpdk-test-reports@iol.unh.edu
Content-Type: text/plain
X-BeenThere: test-report@dpdk.org
X-Mailman-Version: 2.1.29
Precedence: list
List-Id: automatic DPDK test reports <test-report.dpdk.org>
List-Unsubscribe: <https://mails.dpdk.org/options/test-report>,
 <mailto:test-report-request@dpdk.org?subject=unsubscribe>
List-Archive: <http://mails.dpdk.org/archives/test-report/>
List-Post: <mailto:test-report@dpdk.org>
List-Help: <mailto:test-report-request@dpdk.org?subject=help>
List-Subscribe: <https://mails.dpdk.org/listinfo/test-report>,
 <mailto:test-report-request@dpdk.org?subject=subscribe>
Errors-To: test-report-bounces@dpdk.org

Test-Label: iol-abi-testing
Test-Status: SUCCESS
http://dpdk.org/patch/129722

_Testing PASS_

Submitter: Thomas Monjalon <thomas@monjalon.net>
Date: Friday, July 28 2023 15:18:40 
DPDK git baseline: Repo:dpdk
  Branch: master
  CommitID:4334b7b405500254b8a3ddb056f78c5b4745f1ef

129722 --> testing pass

Test environment and result as below:

+------------------+----------+
|   Environment    | abi_test |
+==================+==========+
| RHEL 7           | PASS     |
+------------------+----------+
| Debian Buster    | PASS     |
+------------------+----------+
| CentOS Stream 9  | PASS     |
+------------------+----------+
| Debian Bullseye  | PASS     |
+------------------+----------+
| Fedora 37        | PASS     |
+------------------+----------+
| Fedora 38        | PASS     |
+------------------+----------+
| CentOS Stream 8  | PASS     |
+------------------+----------+
| openSUSE Leap 15 | PASS     |
+------------------+----------+


RHEL 7
	Kernel: 4.18.0-240.10.1.el8_3.x86_64
	Compiler: gcc 4.8.5 20150623 (Red Hat 4.8.5-44)

Debian Buster
	Kernel: 5.4.0-122-generic
	Compiler: gcc 8.3.0-6

CentOS Stream 9
	Kernel: 4.18.0-240.10.1.el8_3.x86_64
	Compiler: gcc 11.3.1 20220421

Debian Bullseye
	Kernel: 5.4.0-122-generic
	Compiler: gcc 10.2.1-6

Fedora 37
	Kernel: Depends on container host system
	Compiler: gcc 12.3.1

Fedora 38
	Kernel: Depends on container host
	Compiler: clang 16.0.3

CentOS Stream 8
	Kernel: 4.18.0-240.10.1.el8_3.x86_64
	Compiler: gcc 8.4.1 20200928

openSUSE Leap 15
	Kernel: 4.18.0-240.10.1.el8_3.x86_64
	Compiler: gcc 7.5.0

To view detailed results, visit:
https://lab.dpdk.org/results/dashboard/patchsets/27154/

UNH-IOL DPDK Community Lab

To manage your email subscriptions, visit: 
https://lab.dpdk.org/results/dashboard/preferences/subscriptions/