From mboxrd@z Thu Jan  1 00:00:00 1970
Return-Path: <test-report-bounces@dpdk.org>
Received: from mails.dpdk.org (mails.dpdk.org [217.70.189.124])
	by inbox.dpdk.org (Postfix) with ESMTP id CDABE42F6C
	for <public@inbox.dpdk.org>; Fri, 28 Jul 2023 18:38:57 +0200 (CEST)
Received: from mails.dpdk.org (localhost [127.0.0.1])
	by mails.dpdk.org (Postfix) with ESMTP id AB97C4021E;
	Fri, 28 Jul 2023 18:38:57 +0200 (CEST)
Received: from mail-io1-f98.google.com (mail-io1-f98.google.com
 [209.85.166.98]) by mails.dpdk.org (Postfix) with ESMTP id 72B334021E
 for <test-report@dpdk.org>; Fri, 28 Jul 2023 18:38:56 +0200 (CEST)
Received: by mail-io1-f98.google.com with SMTP id
 ca18e2360f4ac-7836272f36eso93940639f.1
 for <test-report@dpdk.org>; Fri, 28 Jul 2023 09:38:56 -0700 (PDT)
DKIM-Signature: v=1; a=rsa-sha256; c=relaxed/relaxed;
 d=iol.unh.edu; s=unh-iol; t=1690562335; x=1691167135;
 h=cc:to:from:subject:message-id:date:from:to:cc:subject:date
 :message-id:reply-to;
 bh=fH83CNkOnPdSrLN7P234iSMkcBlxEptihO1F148TIxk=;
 b=OdOCvaLGpv4T7sNkOXKD34Bv9Qt3/F2Z/68VcAOFMBv4sB6j9Pclhhosf4gx8e8Eqd
 5OxrhrrXigidMkQA/qkKH5gDQlCHs808L9VJQUJKcB4fcN4syTlo42+VrnoJUjwOOvif
 dgAmlSz1zgYK8eS7yu88VWtOspPAOxpy+yBtA=
X-Google-DKIM-Signature: v=1; a=rsa-sha256; c=relaxed/relaxed;
 d=1e100.net; s=20221208; t=1690562335; x=1691167135;
 h=cc:to:from:subject:message-id:date:x-gm-message-state:from:to:cc
 :subject:date:message-id:reply-to;
 bh=fH83CNkOnPdSrLN7P234iSMkcBlxEptihO1F148TIxk=;
 b=dpyilI9W9FRVMMZoHNJQE4DcT5e5GYfEdT8V3JdB87bhbqE0LQbjIkaQMEhgwGmBN6
 jWquAMewp8cfsahLBSBJD40XuVWWoi69Kv7gEnh9PwtD9tGd+II6F3yRMiTaNmOa8bg3
 Z7HmNRbHfRo1X+LEfUC+dPo0Y5L8PIiNOPyvy8jOnDgLmdYEgtUEutU/Otr7cBuzLLA+
 OVmPLFkMqJxsXnke4rJQf2ggJl1CRXP1OkCSg19cqZImF1eqxKV8lA7vdc538A0StCwi
 nQRl13HwoNeLcAMvb3byY+eWvTGjNS6clsoLX9hZjenpsukB/kP9W3QQhxH8bLER/vCA
 3PQw==
X-Gm-Message-State: ABy/qLb7pe4D/0ik0PEXLh7Qh6x3O6WPMPrjpde2YxwFGaT0kajR1DIR
 BW8libMyp2orhK4PZ/JDV7BL3u1JbAi0rIRJGSNe/GbU2X2P8kNYjM8dcQ==
X-Google-Smtp-Source: APBJJlFlIlTH233df/Izl27310izXnMycnMPCCow/Mi0puMV1Qlobav5GbPU1H7rpF7kgPK5n60DJd84Zub7
X-Received: by 2002:a5d:9358:0:b0:783:6906:a333 with SMTP id
 i24-20020a5d9358000000b007836906a333mr76369ioo.17.1690562335766; 
 Fri, 28 Jul 2023 09:38:55 -0700 (PDT)
Received: from postal.iol.unh.edu (postal.iol.unh.edu. [132.177.123.84])
 by smtp-relay.gmail.com with ESMTPS id
 s18-20020a6bdc12000000b0078703dde5d3sm240203ioc.8.2023.07.28.09.38.55
 (version=TLS1_2 cipher=ECDHE-ECDSA-AES128-GCM-SHA256 bits=128/128);
 Fri, 28 Jul 2023 09:38:55 -0700 (PDT)
X-Relaying-Domain: iol.unh.edu
Date: Fri, 28 Jul 2023 09:38:55 -0700 (PDT)
Message-ID: <64c3ef1f.6b0a0220.74fd6.8121SMTPIN_ADDED_MISSING@mx.google.com>
Received: from [172.21.0.2] (unknown [172.18.0.240])
 by postal.iol.unh.edu (Postfix) with ESMTP id 3F21E6052471;
 Fri, 28 Jul 2023 12:38:55 -0400 (EDT)
Subject: |SUCCESS| pw129722 [PATCH] [v2] doc: announce new major ABI version
From: dpdklab@iol.unh.edu
To: Test Report <test-report@dpdk.org>
Cc: dpdk-test-reports@iol.unh.edu
Content-Type: text/plain
X-BeenThere: test-report@dpdk.org
X-Mailman-Version: 2.1.29
Precedence: list
List-Id: automatic DPDK test reports <test-report.dpdk.org>
List-Unsubscribe: <https://mails.dpdk.org/options/test-report>,
 <mailto:test-report-request@dpdk.org?subject=unsubscribe>
List-Archive: <http://mails.dpdk.org/archives/test-report/>
List-Post: <mailto:test-report@dpdk.org>
List-Help: <mailto:test-report-request@dpdk.org?subject=help>
List-Subscribe: <https://mails.dpdk.org/listinfo/test-report>,
 <mailto:test-report-request@dpdk.org?subject=subscribe>
Errors-To: test-report-bounces@dpdk.org

Test-Label: iol-abi-testing
Test-Status: SUCCESS
http://dpdk.org/patch/129722

_Testing PASS_

Submitter: Thomas Monjalon <thomas@monjalon.net>
Date: Friday, July 28 2023 15:18:40 
DPDK git baseline: Repo:dpdk
  Branch: master
  CommitID:4334b7b405500254b8a3ddb056f78c5b4745f1ef

129722 --> testing pass

Test environment and result as below:

+------------------+----------+
|   Environment    | abi_test |
+==================+==========+
| RHEL 7           | PASS     |
+------------------+----------+
| Debian Buster    | PASS     |
+------------------+----------+
| CentOS Stream 9  | PASS     |
+------------------+----------+
| Debian Bullseye  | PASS     |
+------------------+----------+
| Fedora 37        | PASS     |
+------------------+----------+
| Fedora 38        | PASS     |
+------------------+----------+
| CentOS Stream 8  | PASS     |
+------------------+----------+
| openSUSE Leap 15 | PASS     |
+------------------+----------+
| RHEL8            | PASS     |
+------------------+----------+


RHEL 7
	Kernel: 4.18.0-240.10.1.el8_3.x86_64
	Compiler: gcc 4.8.5 20150623 (Red Hat 4.8.5-44)

Debian Buster
	Kernel: 5.4.0-122-generic
	Compiler: gcc 8.3.0-6

CentOS Stream 9
	Kernel: 4.18.0-240.10.1.el8_3.x86_64
	Compiler: gcc 11.3.1 20220421

Debian Bullseye
	Kernel: 5.4.0-122-generic
	Compiler: gcc 10.2.1-6

Fedora 37
	Kernel: Depends on container host system
	Compiler: gcc 12.3.1

Fedora 38
	Kernel: Depends on container host
	Compiler: clang 16.0.3

CentOS Stream 8
	Kernel: 4.18.0-240.10.1.el8_3.x86_64
	Compiler: gcc 8.4.1 20200928

openSUSE Leap 15
	Kernel: 4.18.0-240.10.1.el8_3.x86_64
	Compiler: gcc 7.5.0

RHEL8
	Kernel: 4.18.0-240.10.1.el8_3.x86_64
	Compiler: gcc 8.3.1 20191121 (Red Hat 8.3.1-5)

To view detailed results, visit:
https://lab.dpdk.org/results/dashboard/patchsets/27154/

UNH-IOL DPDK Community Lab

To manage your email subscriptions, visit: 
https://lab.dpdk.org/results/dashboard/preferences/subscriptions/