From mboxrd@z Thu Jan  1 00:00:00 1970
Return-Path: <test-report-bounces@dpdk.org>
Received: from mails.dpdk.org (mails.dpdk.org [217.70.189.124])
	by inbox.dpdk.org (Postfix) with ESMTP id 16B8142FA8
	for <public@inbox.dpdk.org>; Mon, 31 Jul 2023 18:47:41 +0200 (CEST)
Received: from mails.dpdk.org (localhost [127.0.0.1])
	by mails.dpdk.org (Postfix) with ESMTP id EAD0D4067B;
	Mon, 31 Jul 2023 18:47:40 +0200 (CEST)
Received: from mail-io1-f98.google.com (mail-io1-f98.google.com
 [209.85.166.98]) by mails.dpdk.org (Postfix) with ESMTP id BE06B4067B
 for <test-report@dpdk.org>; Mon, 31 Jul 2023 18:47:39 +0200 (CEST)
Received: by mail-io1-f98.google.com with SMTP id
 ca18e2360f4ac-78363cc070aso258589039f.1
 for <test-report@dpdk.org>; Mon, 31 Jul 2023 09:47:39 -0700 (PDT)
DKIM-Signature: v=1; a=rsa-sha256; c=relaxed/relaxed;
 d=iol.unh.edu; s=unh-iol; t=1690822059; x=1691426859;
 h=cc:to:from:subject:message-id:date:from:to:cc:subject:date
 :message-id:reply-to;
 bh=kgR748RHFKETMZhizNKCqm/QTZwBcwcudfnFmwdZUMA=;
 b=EGlu3z++ZRsSuGuZo7OeLaKShViTCfo6WBiHupi2gzCzwJ4/9NL1bDpPWu5FiXtmi9
 O49BN36UIOIgBEY/EU8GIyRxvHwnvw9Pq3JWCERht56Dn5qGbJtB5tYdDPnzzj4/eM+7
 MQfMVx6nycBin+ZRAmyLQCmshGtQ7DpEvZmh4=
X-Google-DKIM-Signature: v=1; a=rsa-sha256; c=relaxed/relaxed;
 d=1e100.net; s=20221208; t=1690822059; x=1691426859;
 h=cc:to:from:subject:message-id:date:x-gm-message-state:from:to:cc
 :subject:date:message-id:reply-to;
 bh=kgR748RHFKETMZhizNKCqm/QTZwBcwcudfnFmwdZUMA=;
 b=hgmY332xBHX+VqHhasDXCFYhTEqUy2wcnBoPzhpASKVRnqSxWqk+HsKJl8vws7dt+L
 XEa3ra7HHEP1Fcmbw6LhW0TUTOAj1vwCvDyV4cfYLfkTZXTGnUfNk3agIEL26OrckVax
 dbwPqGm9doIq2MbddqkqSAA7EN2AfMe85htukp9AUUKSwb7FsBwvcpVXuTFI67P06Dvu
 //MrJwsrYqnz318eLmSzXrpQjr2ypmqTGGgoclx9R2dbazg1QgZG/paeDJs8AdDG5dMs
 XH5CTmwX8KxECfZy6cgPypf6VdF4ySLRxkm+o2LETAaMjLkXl3R2SEIqqnks+g+6kZab
 JhHw==
X-Gm-Message-State: ABy/qLZgHjmymI6ajgzP1bhyrvPjiA78j8TfPejt3/aEEtS+QZ40PpyE
 hBVzqFTr8ImpSEuK8L4mK04KHXbBwEqGnfk8JajlxTHuibJp+GFdTkULHw==
X-Google-Smtp-Source: APBJJlGSUAPmuRr3KYGYhrx5sxiqBgaHAzsb35gJSCXW/DUHLgRn/CNNWsef37t2+aJQc8Fxbm5E3WtcM3Wj
X-Received: by 2002:a92:c5cc:0:b0:349:2c2c:e60f with SMTP id
 s12-20020a92c5cc000000b003492c2ce60fmr942432ilt.17.1690822059026; 
 Mon, 31 Jul 2023 09:47:39 -0700 (PDT)
Received: from postal.iol.unh.edu (postal.iol.unh.edu. [132.177.123.84])
 by smtp-relay.gmail.com with ESMTPS id
 s2-20020a92cb02000000b003465218cc84sm566444ilo.3.2023.07.31.09.47.38
 (version=TLS1_2 cipher=ECDHE-ECDSA-AES128-GCM-SHA256 bits=128/128);
 Mon, 31 Jul 2023 09:47:39 -0700 (PDT)
X-Relaying-Domain: iol.unh.edu
Date: Mon, 31 Jul 2023 09:47:39 -0700 (PDT)
Message-ID: <64c7e5ab.920a0220.19a0.5998SMTPIN_ADDED_MISSING@mx.google.com>
Received: from [172.21.0.2] (unknown [172.18.0.240])
 by postal.iol.unh.edu (Postfix) with ESMTP id 6C59C6052471;
 Mon, 31 Jul 2023 12:47:38 -0400 (EDT)
Subject: |SUCCESS| pw129748 [PATCH] test/event: remove timer state check
From: dpdklab@iol.unh.edu
To: Test Report <test-report@dpdk.org>
Cc: dpdk-test-reports@iol.unh.edu
Content-Type: text/plain
X-BeenThere: test-report@dpdk.org
X-Mailman-Version: 2.1.29
Precedence: list
List-Id: automatic DPDK test reports <test-report.dpdk.org>
List-Unsubscribe: <https://mails.dpdk.org/options/test-report>,
 <mailto:test-report-request@dpdk.org?subject=unsubscribe>
List-Archive: <http://mails.dpdk.org/archives/test-report/>
List-Post: <mailto:test-report@dpdk.org>
List-Help: <mailto:test-report-request@dpdk.org?subject=help>
List-Subscribe: <https://mails.dpdk.org/listinfo/test-report>,
 <mailto:test-report-request@dpdk.org?subject=subscribe>
Errors-To: test-report-bounces@dpdk.org

Test-Label: iol-unit-testing
Test-Status: SUCCESS
http://dpdk.org/patch/129748

_Testing PASS_

Submitter: Pavan Nikhilesh Bhagavatula <pbhagavatula@marvell.com>
Date: Monday, July 31 2023 13:29:13 
DPDK git baseline: Repo:dpdk
  Branch: master
  CommitID:12fcafcd62286933e6b167b14856d21f642efa5f

129748 --> testing pass

Test environment and result as below:

+--------------------------+----------------+
|       Environment        | dpdk_unit_test |
+==========================+================+
| CentOS Stream 9 (ARM)    | PASS           |
+--------------------------+----------------+
| Fedora 37 (ARM)          | PASS           |
+--------------------------+----------------+
| CentOS Stream 8          | PASS           |
+--------------------------+----------------+
| CentOS Stream 9          | PASS           |
+--------------------------+----------------+
| Fedora 38 (ARM)          | PASS           |
+--------------------------+----------------+
| Debian Bullseye          | PASS           |
+--------------------------+----------------+
| Debian Buster            | PASS           |
+--------------------------+----------------+
| Fedora 38                | PASS           |
+--------------------------+----------------+
| Fedora 37                | PASS           |
+--------------------------+----------------+
| Debian 11 (Buster) (ARM) | PASS           |
+--------------------------+----------------+
| Ubuntu 20.04 (ARM)       | PASS           |
+--------------------------+----------------+
| Ubuntu 20.04             | PASS           |
+--------------------------+----------------+
| openSUSE Leap 15         | PASS           |
+--------------------------+----------------+
| Ubuntu 22.04             | PASS           |
+--------------------------+----------------+
| RHEL 7                   | PASS           |
+--------------------------+----------------+
| RHEL8                    | PASS           |
+--------------------------+----------------+
| Fedora 38 (ARM Clang)    | PASS           |
+--------------------------+----------------+


CentOS Stream 9 (ARM)
	Kernel: Container Host Kernel
	Compiler: gcc 11.3.1

Fedora 37 (ARM)
	Kernel: Depends on container host
	Compiler: gcc 12.3.1

CentOS Stream 8
	Kernel: 4.18.0-240.10.1.el8_3.x86_64
	Compiler: gcc 8.4.1 20200928

CentOS Stream 9
	Kernel: 4.18.0-240.10.1.el8_3.x86_64
	Compiler: gcc 11.3.1 20220421

Fedora 38 (ARM)
	Kernel: Depends on container host
	Compiler: gcc 13.1.1

Debian Bullseye
	Kernel: 5.4.0-122-generic
	Compiler: gcc 10.2.1-6

Debian Buster
	Kernel: 5.4.0-122-generic
	Compiler: gcc 8.3.0-6

Fedora 38
	Kernel: Depends on container host
	Compiler: gcc 13.1.1

Fedora 37
	Kernel: Depends on container host system
	Compiler: gcc 12.3.1

Debian 11 (Buster) (ARM)
	Kernel: Container Host Kernel
	Compiler: gcc 10.2.1

Ubuntu 20.04 (ARM)
	Kernel: Container Host Kernel
	Compiler: gcc 9.4.0

Ubuntu 20.04
	Kernel: 4.18.0-240.10.1.el8_3.x86_64
	Compiler: gcc 9.3.0-17ubuntu1~20.04

openSUSE Leap 15
	Kernel: 4.18.0-240.10.1.el8_3.x86_64
	Compiler: gcc 7.5.0

Ubuntu 22.04
	Kernel: 4.18.0-240.10.1.el8_3.x86_64
	Compiler: gcc 11.3.0

RHEL 7
	Kernel: 4.18.0-240.10.1.el8_3.x86_64
	Compiler: gcc 4.8.5 20150623 (Red Hat 4.8.5-44)

RHEL8
	Kernel: 4.18.0-240.10.1.el8_3.x86_64
	Compiler: gcc 8.3.1 20191121 (Red Hat 8.3.1-5)

Fedora 38 (ARM Clang)
	Kernel: Depends on container host
	Compiler: clang 16.0.3

To view detailed results, visit:
https://lab.dpdk.org/results/dashboard/patchsets/27166/

UNH-IOL DPDK Community Lab

To manage your email subscriptions, visit: 
https://lab.dpdk.org/results/dashboard/preferences/subscriptions/