From mboxrd@z Thu Jan  1 00:00:00 1970
Return-Path: <test-report-bounces@dpdk.org>
Received: from mails.dpdk.org (mails.dpdk.org [217.70.189.124])
	by inbox.dpdk.org (Postfix) with ESMTP id 7052343014
	for <public@inbox.dpdk.org>; Wed,  9 Aug 2023 06:35:19 +0200 (CEST)
Received: from mails.dpdk.org (localhost [127.0.0.1])
	by mails.dpdk.org (Postfix) with ESMTP id 14288400D6;
	Wed,  9 Aug 2023 06:35:19 +0200 (CEST)
Received: from mail-vk1-f228.google.com (mail-vk1-f228.google.com
 [209.85.221.228])
 by mails.dpdk.org (Postfix) with ESMTP id 70A27400D6
 for <test-report@dpdk.org>; Wed,  9 Aug 2023 06:35:18 +0200 (CEST)
Received: by mail-vk1-f228.google.com with SMTP id
 71dfb90a1353d-48719fc6b18so1816016e0c.1
 for <test-report@dpdk.org>; Tue, 08 Aug 2023 21:35:18 -0700 (PDT)
DKIM-Signature: v=1; a=rsa-sha256; c=relaxed/relaxed;
 d=iol.unh.edu; s=unh-iol; t=1691555718; x=1692160518;
 h=cc:to:from:subject:message-id:date:from:to:cc:subject:date
 :message-id:reply-to;
 bh=gwxxVWsKg0NU7DKFi1cdSxM+u7mVhMZrNDFt6t+Doi4=;
 b=DW6QUKOwcDnnZZ5aWQ3XuuGSPNW0lF7RvLAhIpGAVWbXESWUl/SkUR2GYS3qoZSl60
 1GTsRySlKVSyHnCHzpWkosFdrn4bc/WnkRlpr46D942ckCQuUM5M7P9mFvWFvHJizP3z
 uPAmXKOD0qonx/72ljZQtjlM8GQnysirwBi4A=
X-Google-DKIM-Signature: v=1; a=rsa-sha256; c=relaxed/relaxed;
 d=1e100.net; s=20221208; t=1691555718; x=1692160518;
 h=cc:to:from:subject:message-id:date:x-gm-message-state:from:to:cc
 :subject:date:message-id:reply-to;
 bh=gwxxVWsKg0NU7DKFi1cdSxM+u7mVhMZrNDFt6t+Doi4=;
 b=UV1uHxuICOwLvN3wOaWFaXgEOZuRe0EpzfNbStzljPx2Wm0gJHbMDT7C9E1Y/XVpuv
 36qeDLdaLHcDZz/tJhVsFvCXtIj56IlxCROZ2uA4pxOHWbB5Nm3k00d//IJSDnq2O+lw
 miQXeWs4FPtnEdvYUnFSi+PZKu5cwDqDCwJbCHz2c6moT2PW/zAo9ohF2Fk2NqY3/v7D
 Fbff4RbJQJ2fuYuLc2qJiNR8NwBPF6ynt+Wm0LS3J06tXeIrRapVvyevmy7I8kN2ZhlG
 YSLxbmKLQiUVSslf7Uocl0VxsfUHACmd+jzqSuV1btv9iSn08M7R3XT819ma0p6l8g6m
 Hcdg==
X-Gm-Message-State: AOJu0YxNKDQhjuhuHUR1YYkqJ7TUI0yxRXLuf4J0cVPGrCPcSRgw+1EU
 EpDQXqbTXfsz0VcxOPOi93AZ2E3trGGVOB39r24zfdIUeCR85UakOsIN6UarjKB5mZA161w+Sg=
 =
X-Google-Smtp-Source: AGHT+IGngd9BaVRL/6mEzZamWt7nFZyIPm/iugHyzvf2toS3tjvqzFeQ41ZYL7dVq5Rj1cMrvolv8stgQuwo
X-Received: by 2002:a1f:450c:0:b0:481:5793:9ca8 with SMTP id
 s12-20020a1f450c000000b0048157939ca8mr2413099vka.1.1691555717895; 
 Tue, 08 Aug 2023 21:35:17 -0700 (PDT)
Received: from postal.iol.unh.edu (postal.iol.unh.edu.
 [2606:4100:3880:1234::84]) by smtp-relay.gmail.com with ESMTPS id
 k15-20020ab0538f000000b0079a295c7996sm1149518uaa.14.2023.08.08.21.35.17
 (version=TLS1_2 cipher=ECDHE-ECDSA-AES128-GCM-SHA256 bits=128/128);
 Tue, 08 Aug 2023 21:35:17 -0700 (PDT)
X-Relaying-Domain: iol.unh.edu
Date: Tue, 08 Aug 2023 21:35:17 -0700 (PDT)
Message-ID: <64d31785.b00a0220.1e10c.053fSMTPIN_ADDED_MISSING@mx.google.com>
Received: from [172.21.0.2] (unknown [172.18.0.240])
 by postal.iol.unh.edu (Postfix) with ESMTP id 8F6D76052471;
 Wed,  9 Aug 2023 00:35:17 -0400 (EDT)
Subject: |SUCCESS| pw130009 [PATCH] net/i40e: add new X722 device
From: dpdklab@iol.unh.edu
To: Test Report <test-report@dpdk.org>
Cc: dpdk-test-reports@iol.unh.edu
Content-Type: text/plain
X-BeenThere: test-report@dpdk.org
X-Mailman-Version: 2.1.29
Precedence: list
List-Id: automatic DPDK test reports <test-report.dpdk.org>
List-Unsubscribe: <https://mails.dpdk.org/options/test-report>,
 <mailto:test-report-request@dpdk.org?subject=unsubscribe>
List-Archive: <http://mails.dpdk.org/archives/test-report/>
List-Post: <mailto:test-report@dpdk.org>
List-Help: <mailto:test-report-request@dpdk.org?subject=help>
List-Subscribe: <https://mails.dpdk.org/listinfo/test-report>,
 <mailto:test-report-request@dpdk.org?subject=subscribe>
Errors-To: test-report-bounces@dpdk.org

Test-Label: iol-aarch64-compile-testing
Test-Status: SUCCESS
http://dpdk.org/patch/130009

_Testing PASS_

Submitter: Qiming Yang <qiming.yang@intel.com>
Date: Wednesday, August 09 2023 02:23:46 
DPDK git baseline: Repo:dpdk
  Branch: master
  CommitID:70b6941e4e22d67bc10495d1638234a7e974f582

130009 --> testing pass

Test environment and result as below:

+----------------------------------------+--------------------+
|              Environment               | dpdk_meson_compile |
+========================================+====================+
| Ubuntu 20.04 (ARM)                     | PASS               |
+----------------------------------------+--------------------+
| Fedora 37 (ARM)                        | PASS               |
+----------------------------------------+--------------------+
| Debian 11 (Buster) (ARM)               | PASS               |
+----------------------------------------+--------------------+
| Ubuntu 20.04 aarch32 GCC Cross Compile | PASS               |
+----------------------------------------+--------------------+
| Fedora 38 (ARM)                        | PASS               |
+----------------------------------------+--------------------+
| Ubuntu 20.04 ARM Clang Cross Compile   | PASS               |
+----------------------------------------+--------------------+
| Ubuntu 20.04 ARM SVE                   | PASS               |
+----------------------------------------+--------------------+
| CentOS Stream 9 (ARM)                  | PASS               |
+----------------------------------------+--------------------+
| Ubuntu 20.04 ARM GCC Cross Compile     | PASS               |
+----------------------------------------+--------------------+
| Fedora 38 (ARM Clang)                  | PASS               |
+----------------------------------------+--------------------+


Ubuntu 20.04 (ARM)
	Kernel: Container Host Kernel
	Compiler: gcc 9.4.0

Fedora 37 (ARM)
	Kernel: Depends on container host
	Compiler: gcc 12.3.1

Debian 11 (Buster) (ARM)
	Kernel: Container Host Kernel
	Compiler: gcc 10.2.1

Ubuntu 20.04 aarch32 GCC Cross Compile
	Kernel: 5.4.0-72-generic
	Compiler: gcc 9.3.0

Fedora 38 (ARM)
	Kernel: Depends on container host
	Compiler: gcc 13.1.1

Ubuntu 20.04 ARM Clang Cross Compile
	Kernel: 5.4.0-72-generic
	Compiler: clang version 10.0.0-4ubuntu1

Ubuntu 20.04 ARM SVE
	Kernel: 5.4.0-80-generic
	Compiler: gcc 10.3.0 (Ubuntu 10.3.0-1ubuntu1~20.04)

CentOS Stream 9 (ARM)
	Kernel: Container Host Kernel
	Compiler: gcc 11.3.1

Ubuntu 20.04 ARM GCC Cross Compile
	Kernel: 5.4.0-72-generic
	Compiler: aarch64-linux-gnu-gcc (Ubuntu 9.3.0-17ubuntu1~20.04) 9.3.0

Fedora 38 (ARM Clang)
	Kernel: Depends on container host
	Compiler: clang 16.0.3

To view detailed results, visit:
https://lab.dpdk.org/results/dashboard/patchsets/27256/

UNH-IOL DPDK Community Lab

To manage your email subscriptions, visit: 
https://lab.dpdk.org/results/dashboard/preferences/subscriptions/