From mboxrd@z Thu Jan  1 00:00:00 1970
Return-Path: <test-report-bounces@dpdk.org>
Received: from mails.dpdk.org (mails.dpdk.org [217.70.189.124])
	by inbox.dpdk.org (Postfix) with ESMTP id B2C6C4302E
	for <public@inbox.dpdk.org>; Fri, 11 Aug 2023 00:41:09 +0200 (CEST)
Received: from mails.dpdk.org (localhost [127.0.0.1])
	by mails.dpdk.org (Postfix) with ESMTP id ADD2740E03;
	Fri, 11 Aug 2023 00:41:09 +0200 (CEST)
Received: from mail-il1-f227.google.com (mail-il1-f227.google.com
 [209.85.166.227])
 by mails.dpdk.org (Postfix) with ESMTP id 50F7F40E03
 for <test-report@dpdk.org>; Fri, 11 Aug 2023 00:41:08 +0200 (CEST)
Received: by mail-il1-f227.google.com with SMTP id
 e9e14a558f8ab-34993351b2cso3164145ab.1
 for <test-report@dpdk.org>; Thu, 10 Aug 2023 15:41:08 -0700 (PDT)
DKIM-Signature: v=1; a=rsa-sha256; c=relaxed/relaxed;
 d=iol.unh.edu; s=unh-iol; t=1691707267; x=1692312067;
 h=cc:to:from:subject:message-id:date:from:to:cc:subject:date
 :message-id:reply-to;
 bh=tBpbZzhdebTQ7rQ24GOVDCoLy6jRyCchgFHie5QL0zQ=;
 b=dIX/vkcEkt+/pvUkVJvXf06DNaHBzU8PmNnb7rXfWsks0QL8/g9iipQkL8Hc29FgQE
 auj9swkOgGe5lR4KyJNkSGaExbTTV1aj9N1hRwM8Fvk9eHRyK24085TMpU4evL43hZ+C
 60wghJWhpfqfVAY/u2hofuSIphxKDLI0tv5LA=
X-Google-DKIM-Signature: v=1; a=rsa-sha256; c=relaxed/relaxed;
 d=1e100.net; s=20221208; t=1691707267; x=1692312067;
 h=cc:to:from:subject:message-id:date:x-gm-message-state:from:to:cc
 :subject:date:message-id:reply-to;
 bh=tBpbZzhdebTQ7rQ24GOVDCoLy6jRyCchgFHie5QL0zQ=;
 b=KWI64pmyBOPeq9Pz6D5suGaY/z7Rus/hs7JVD5Y1EIv0sp6vs2BUoHzGahWoLSWp88
 FL6FfcNTc6Atd7NRSTaIDOohU2EcAof0T+X2+FyL8GGgHXwK+U0lnXx51uEwVtw2ZO1p
 hHJ8uTmmuWrXw75Td3vvKfuQSq7LGTtMM+w4noOOAi5Zd0XZyEvj32S5/00tqXJmiSkm
 SWGcrAg9LQ6gaSNBxk+1jsltBKhESSW/lRLVwbfm+SfWVzZtP7x/46ilk57LvZwQlXHx
 laZIPYdJAAWrc1Ni4SnKmvEjgNUWi++vuAdwRUd7AeiUV2dz3dPhVYFpZMaTATvQUh33
 Gn3Q==
X-Gm-Message-State: AOJu0YzKLNNty+GgtzVK052N6eSuX4OmUQvrwuQd+er0vCpx8sGqIsqK
 YXI8Cpe1rpgDrCLRXL8GqIsNDXPgib9Q0EPNCwQvi5EsQIB7Hq6fcTWNMg==
X-Google-Smtp-Source: AGHT+IFKYM+9khU4IcYmPtt+SKj3j0uP+a9i5vkZDQqCCq4nAarlfej6MoG2B9Eb3m/V1NPYJEOmsXHlVJwV
X-Received: by 2002:a05:6e02:1d0d:b0:349:862e:a863 with SMTP id
 i13-20020a056e021d0d00b00349862ea863mr134973ila.15.1691707267773; 
 Thu, 10 Aug 2023 15:41:07 -0700 (PDT)
Received: from postal.iol.unh.edu (postal.iol.unh.edu. [132.177.123.84])
 by smtp-relay.gmail.com with ESMTPS id
 o3-20020a92d383000000b00348ccb6cc84sm111594ilo.43.2023.08.10.15.41.07
 (version=TLS1_2 cipher=ECDHE-ECDSA-AES128-GCM-SHA256 bits=128/128);
 Thu, 10 Aug 2023 15:41:07 -0700 (PDT)
X-Relaying-Domain: iol.unh.edu
Date: Thu, 10 Aug 2023 15:41:07 -0700 (PDT)
Message-ID: <64d56783.920a0220.67b97.57b5SMTPIN_ADDED_MISSING@mx.google.com>
Received: from [172.21.0.3] (unknown [172.18.0.240])
 by postal.iol.unh.edu (Postfix) with ESMTP id 4ECDF6052471;
 Thu, 10 Aug 2023 18:41:07 -0400 (EDT)
Subject: |SUCCESS| pw130078-130081 [PATCH] [4/4] test/dma: enable cnxk tests
From: dpdklab@iol.unh.edu
To: Test Report <test-report@dpdk.org>
Cc: dpdk-test-reports@iol.unh.edu
Content-Type: text/plain
X-BeenThere: test-report@dpdk.org
X-Mailman-Version: 2.1.29
Precedence: list
List-Id: automatic DPDK test reports <test-report.dpdk.org>
List-Unsubscribe: <https://mails.dpdk.org/options/test-report>,
 <mailto:test-report-request@dpdk.org?subject=unsubscribe>
List-Archive: <http://mails.dpdk.org/archives/test-report/>
List-Post: <mailto:test-report@dpdk.org>
List-Help: <mailto:test-report-request@dpdk.org?subject=help>
List-Subscribe: <https://mails.dpdk.org/listinfo/test-report>,
 <mailto:test-report-request@dpdk.org?subject=subscribe>
Errors-To: test-report-bounces@dpdk.org

Test-Label: iol-unit-amd64-testing
Test-Status: SUCCESS
http://dpdk.org/patch/130081

_Testing PASS_

Submitter: Gowrishankar Muthukrishnan <gmuthukrishn@marvell.com>
Date: Thursday, August 10 2023 12:21:11 
DPDK git baseline: Repo:dpdk
  Branch: master
  CommitID:70b6941e4e22d67bc10495d1638234a7e974f582

130078-130081 --> testing pass

Test environment and result as below:

+------------------+----------------+
|   Environment    | dpdk_unit_test |
+==================+================+
| CentOS Stream 8  | PASS           |
+------------------+----------------+
| CentOS Stream 9  | PASS           |
+------------------+----------------+
| Debian Buster    | PASS           |
+------------------+----------------+
| Debian Bullseye  | PASS           |
+------------------+----------------+
| Fedora 37        | PASS           |
+------------------+----------------+
| Fedora 38        | PASS           |
+------------------+----------------+
| RHEL8            | PASS           |
+------------------+----------------+
| openSUSE Leap 15 | PASS           |
+------------------+----------------+
| Ubuntu 20.04     | PASS           |
+------------------+----------------+
| Ubuntu 22.04     | PASS           |
+------------------+----------------+


CentOS Stream 8
	Kernel: 4.18.0-240.10.1.el8_3.x86_64
	Compiler: gcc 8.4.1 20200928

CentOS Stream 9
	Kernel: 4.18.0-240.10.1.el8_3.x86_64
	Compiler: gcc 11.3.1 20220421

Debian Buster
	Kernel: 5.4.0-122-generic
	Compiler: gcc 8.3.0-6

Debian Bullseye
	Kernel: 5.4.0-122-generic
	Compiler: gcc 10.2.1-6

Fedora 37
	Kernel: Depends on container host system
	Compiler: gcc 12.3.1

Fedora 38
	Kernel: Depends on container host
	Compiler: gcc 13.1.1

RHEL8
	Kernel: 4.18.0-240.10.1.el8_3.x86_64
	Compiler: gcc 8.3.1 20191121 (Red Hat 8.3.1-5)

openSUSE Leap 15
	Kernel: 4.18.0-240.10.1.el8_3.x86_64
	Compiler: gcc 7.5.0

Ubuntu 20.04
	Kernel: 5.4.0-153-generic
	Compiler: gcc 9.4.0-1ubuntu1~20.04.1

Ubuntu 22.04
	Kernel: 4.18.0-240.10.1.el8_3.x86_64
	Compiler: gcc 11.3.0

To view detailed results, visit:
https://lab.dpdk.org/results/dashboard/patchsets/27277/

UNH-IOL DPDK Community Lab

To manage your email subscriptions, visit: 
https://lab.dpdk.org/results/dashboard/preferences/subscriptions/