From mboxrd@z Thu Jan  1 00:00:00 1970
Return-Path: <test-report-bounces@dpdk.org>
Received: from mails.dpdk.org (mails.dpdk.org [217.70.189.124])
	by inbox.dpdk.org (Postfix) with ESMTP id 07E5F4302E
	for <public@inbox.dpdk.org>; Fri, 11 Aug 2023 00:41:52 +0200 (CEST)
Received: from mails.dpdk.org (localhost [127.0.0.1])
	by mails.dpdk.org (Postfix) with ESMTP id 0303F40DFB;
	Fri, 11 Aug 2023 00:41:52 +0200 (CEST)
Received: from mail-yw1-f226.google.com (mail-yw1-f226.google.com
 [209.85.128.226])
 by mails.dpdk.org (Postfix) with ESMTP id 15B1B40DFB
 for <test-report@dpdk.org>; Fri, 11 Aug 2023 00:41:51 +0200 (CEST)
Received: by mail-yw1-f226.google.com with SMTP id
 00721157ae682-589a6c2c020so21777157b3.1
 for <test-report@dpdk.org>; Thu, 10 Aug 2023 15:41:51 -0700 (PDT)
DKIM-Signature: v=1; a=rsa-sha256; c=relaxed/relaxed;
 d=iol.unh.edu; s=unh-iol; t=1691707310; x=1692312110;
 h=cc:to:from:subject:message-id:date:from:to:cc:subject:date
 :message-id:reply-to;
 bh=tBpbZzhdebTQ7rQ24GOVDCoLy6jRyCchgFHie5QL0zQ=;
 b=LnHq9+fLExE6sofG3RPo0+4gvJnfP8QoxQwXu9MVkzFCB8+IPro96kVqg+xnqoQ0Hb
 CzTK9gX8n+b0xCGlL72/Su76rIJPiwiCrx3HY/WLsRWha2YlmyTrrxjup0FerejrBRZP
 XFfeBn/kLY1nCdX13y3L8CLnvS+aBWmbPUcYs=
X-Google-DKIM-Signature: v=1; a=rsa-sha256; c=relaxed/relaxed;
 d=1e100.net; s=20221208; t=1691707310; x=1692312110;
 h=cc:to:from:subject:message-id:date:x-gm-message-state:from:to:cc
 :subject:date:message-id:reply-to;
 bh=tBpbZzhdebTQ7rQ24GOVDCoLy6jRyCchgFHie5QL0zQ=;
 b=enu+eOx2CkTsrES2LNzzVXVJrt4UvblaPHoqFu/0ne4fubMuorpEUiTep45RY0IhFm
 no24mSMZQK41RSjo4RqTVuqjM/fEDxx8h7kmLQX4fZg1K9AX87D4+YeyxXx4/u2+h0uT
 m2UnQj75URkQ5JchjfjDjtK/NfZDor9Yo7xeBeRRkISOaR8zuUpf3iexXBvsvu0FrkrS
 y94CoaP5uMCU8wZ13YwByaLQ57MONNNYUs9FUazwIKG8Ri1VwyAWI59HD+l9LhenRyp2
 GaCGx7zAhY7oY5vV3Z/3n0ZMq4ImNEYD/46ylWyD0sKbAyxcRnZp76w2o7HtP2vyGAhu
 HLCQ==
X-Gm-Message-State: AOJu0YwevRK9wBIHyuqXtUdivZ6NEUGVdkVr9UlHsfZB+0ZsfjZnS8kO
 Pe9RULApdb3vgNH5W3LLhi3JsLJwvUCkWjqItKNkVHOK/zg0kB56/wQdOw==
X-Google-Smtp-Source: AGHT+IFkr8iGzl+HKsbxMw9MDlLXlN3cG/f4R3yld2jP44HuULAUq1OvfxGNMs73WPDHqoGlkm3EJHN679N0
X-Received: by 2002:a0d:d705:0:b0:586:9384:ffd7 with SMTP id
 z5-20020a0dd705000000b005869384ffd7mr3777945ywd.9.1691707310519; 
 Thu, 10 Aug 2023 15:41:50 -0700 (PDT)
Received: from postal.iol.unh.edu (postal.iol.unh.edu. [132.177.123.84])
 by smtp-relay.gmail.com with ESMTPS id
 k185-20020a0dc8c2000000b00583b281d435sm192382ywd.26.2023.08.10.15.41.50
 (version=TLS1_2 cipher=ECDHE-ECDSA-AES128-GCM-SHA256 bits=128/128);
 Thu, 10 Aug 2023 15:41:50 -0700 (PDT)
X-Relaying-Domain: iol.unh.edu
Date: Thu, 10 Aug 2023 15:41:50 -0700 (PDT)
Message-ID: <64d567ae.0d0a0220.b7f5e.a08fSMTPIN_ADDED_MISSING@mx.google.com>
Received: from [172.21.0.3] (unknown [172.18.0.240])
 by postal.iol.unh.edu (Postfix) with ESMTP id 2EA066052471;
 Thu, 10 Aug 2023 18:41:50 -0400 (EDT)
Subject: |SUCCESS| pw130078-130081 [PATCH] [4/4] test/dma: enable cnxk tests
From: dpdklab@iol.unh.edu
To: Test Report <test-report@dpdk.org>
Cc: dpdk-test-reports@iol.unh.edu
Content-Type: text/plain
X-BeenThere: test-report@dpdk.org
X-Mailman-Version: 2.1.29
Precedence: list
List-Id: automatic DPDK test reports <test-report.dpdk.org>
List-Unsubscribe: <https://mails.dpdk.org/options/test-report>,
 <mailto:test-report-request@dpdk.org?subject=unsubscribe>
List-Archive: <http://mails.dpdk.org/archives/test-report/>
List-Post: <mailto:test-report@dpdk.org>
List-Help: <mailto:test-report-request@dpdk.org?subject=help>
List-Subscribe: <https://mails.dpdk.org/listinfo/test-report>,
 <mailto:test-report-request@dpdk.org?subject=subscribe>
Errors-To: test-report-bounces@dpdk.org

Test-Label: iol-unit-amd64-testing
Test-Status: SUCCESS
http://dpdk.org/patch/130081

_Testing PASS_

Submitter: Gowrishankar Muthukrishnan <gmuthukrishn@marvell.com>
Date: Thursday, August 10 2023 12:21:11 
DPDK git baseline: Repo:dpdk
  Branch: master
  CommitID:70b6941e4e22d67bc10495d1638234a7e974f582

130078-130081 --> testing pass

Test environment and result as below:

+------------------+----------------+
|   Environment    | dpdk_unit_test |
+==================+================+
| CentOS Stream 8  | PASS           |
+------------------+----------------+
| CentOS Stream 9  | PASS           |
+------------------+----------------+
| Debian Buster    | PASS           |
+------------------+----------------+
| Debian Bullseye  | PASS           |
+------------------+----------------+
| Fedora 37        | PASS           |
+------------------+----------------+
| Fedora 38        | PASS           |
+------------------+----------------+
| RHEL8            | PASS           |
+------------------+----------------+
| openSUSE Leap 15 | PASS           |
+------------------+----------------+
| Ubuntu 20.04     | PASS           |
+------------------+----------------+
| Ubuntu 22.04     | PASS           |
+------------------+----------------+


CentOS Stream 8
	Kernel: 4.18.0-240.10.1.el8_3.x86_64
	Compiler: gcc 8.4.1 20200928

CentOS Stream 9
	Kernel: 4.18.0-240.10.1.el8_3.x86_64
	Compiler: gcc 11.3.1 20220421

Debian Buster
	Kernel: 5.4.0-122-generic
	Compiler: gcc 8.3.0-6

Debian Bullseye
	Kernel: 5.4.0-122-generic
	Compiler: gcc 10.2.1-6

Fedora 37
	Kernel: Depends on container host system
	Compiler: gcc 12.3.1

Fedora 38
	Kernel: Depends on container host
	Compiler: gcc 13.1.1

RHEL8
	Kernel: 4.18.0-240.10.1.el8_3.x86_64
	Compiler: gcc 8.3.1 20191121 (Red Hat 8.3.1-5)

openSUSE Leap 15
	Kernel: 4.18.0-240.10.1.el8_3.x86_64
	Compiler: gcc 7.5.0

Ubuntu 20.04
	Kernel: 5.4.0-153-generic
	Compiler: gcc 9.4.0-1ubuntu1~20.04.1

Ubuntu 22.04
	Kernel: 4.18.0-240.10.1.el8_3.x86_64
	Compiler: gcc 11.3.0

To view detailed results, visit:
https://lab.dpdk.org/results/dashboard/patchsets/27277/

UNH-IOL DPDK Community Lab

To manage your email subscriptions, visit: 
https://lab.dpdk.org/results/dashboard/preferences/subscriptions/