From mboxrd@z Thu Jan  1 00:00:00 1970
Return-Path: <test-report-bounces@dpdk.org>
Received: from mails.dpdk.org (mails.dpdk.org [217.70.189.124])
	by inbox.dpdk.org (Postfix) with ESMTP id 2030B4302E
	for <public@inbox.dpdk.org>; Fri, 11 Aug 2023 00:41:59 +0200 (CEST)
Received: from mails.dpdk.org (localhost [127.0.0.1])
	by mails.dpdk.org (Postfix) with ESMTP id 1B69540DFB;
	Fri, 11 Aug 2023 00:41:59 +0200 (CEST)
Received: from mail-io1-f98.google.com (mail-io1-f98.google.com
 [209.85.166.98]) by mails.dpdk.org (Postfix) with ESMTP id 8B33240DFB
 for <test-report@dpdk.org>; Fri, 11 Aug 2023 00:41:58 +0200 (CEST)
Received: by mail-io1-f98.google.com with SMTP id
 ca18e2360f4ac-790ba9cf42aso48478939f.3
 for <test-report@dpdk.org>; Thu, 10 Aug 2023 15:41:58 -0700 (PDT)
DKIM-Signature: v=1; a=rsa-sha256; c=relaxed/relaxed;
 d=iol.unh.edu; s=unh-iol; t=1691707318; x=1692312118;
 h=cc:to:from:subject:message-id:date:from:to:cc:subject:date
 :message-id:reply-to;
 bh=CWeSFLSRFXUmpyUZml9QhBb1+Gg3bE9iBq3Wk/MfFps=;
 b=Ea8aA4R+pvXezeLM0RjBM2HDnX/m+RTMwqEy2Ni1G5BMEhBUahuRoonHqXJuUSW9u7
 QizxJeAZe6/vSM/sEyoqv9lCkYo0hGxXxaHmTADkEh4cRTHAG229p5G9lUNutmCwFIyB
 1INFObcTFko0BH85ClZlkEpEeymgVjLxBIBAg=
X-Google-DKIM-Signature: v=1; a=rsa-sha256; c=relaxed/relaxed;
 d=1e100.net; s=20221208; t=1691707318; x=1692312118;
 h=cc:to:from:subject:message-id:date:x-gm-message-state:from:to:cc
 :subject:date:message-id:reply-to;
 bh=CWeSFLSRFXUmpyUZml9QhBb1+Gg3bE9iBq3Wk/MfFps=;
 b=ln5lHKbde9oVomRfUm+95CsH4R+vIWH7TMIcYFA4ch7YstXwI3xM0MhMuSLAPk+Op4
 MuUTlT9HNPjCW7qQmVw/4htJnFIeu7PdvPM0p1JeLw8qyD+/Ow7B6shD72VkUc71KnP+
 0RfD0tpCvOxXtbTo33TA5eEakpyp3HgzqMai4KRfWXqPrrlrSDVmjf4d8wZU6GHBVG8w
 VxeNa5SqIVKGp4IwIug4/MH1o0zczww+356k5CjaJeMvfIWoa+x9G9CpPhUpbbJPjpl8
 6mt/iwRY5HSIvnm0eDGBrSMUbXN02F8NB8o6AmYtATIVnZxqTsKg0PXjKGGfTuEudbU3
 KtZg==
X-Gm-Message-State: AOJu0YzDveRMtAA5lkVqRvXgblinjJKgvvMVQC6VCI+KHE7JP5C+lh4/
 fssguDrituhdUKXLowUlGhEdL1jF7V4xTu8CH8o9HDfwsEIi8uCLtoEp0g==
X-Google-Smtp-Source: AGHT+IFyg7JfzdPQQmuNtRZi0lvyEhNxGon7NWgNo2vknfcmftHyu5/dJqnuxoiJhNhs279LlD/GoT29SvLz
X-Received: by 2002:a5e:c90e:0:b0:790:fc73:6e3c with SMTP id
 z14-20020a5ec90e000000b00790fc736e3cmr454118iol.8.1691707317966; 
 Thu, 10 Aug 2023 15:41:57 -0700 (PDT)
Received: from postal.iol.unh.edu (postal.iol.unh.edu. [132.177.123.84])
 by smtp-relay.gmail.com with ESMTPS id
 m25-20020a5d8999000000b007864d53b8bdsm113078iol.30.2023.08.10.15.41.57
 (version=TLS1_2 cipher=ECDHE-ECDSA-AES128-GCM-SHA256 bits=128/128);
 Thu, 10 Aug 2023 15:41:57 -0700 (PDT)
X-Relaying-Domain: iol.unh.edu
Date: Thu, 10 Aug 2023 15:41:57 -0700 (PDT)
Message-ID: <64d567b5.5d0a0220.57be3.60e4SMTPIN_ADDED_MISSING@mx.google.com>
Received: from [172.21.0.5] (unknown [172.18.0.240])
 by postal.iol.unh.edu (Postfix) with ESMTP id 79C796052471;
 Thu, 10 Aug 2023 18:41:57 -0400 (EDT)
Subject: |SUCCESS| pw130094 [PATCH] graph: mark API's as stable
From: dpdklab@iol.unh.edu
To: Test Report <test-report@dpdk.org>
Cc: dpdk-test-reports@iol.unh.edu
Content-Type: text/plain
X-BeenThere: test-report@dpdk.org
X-Mailman-Version: 2.1.29
Precedence: list
List-Id: automatic DPDK test reports <test-report.dpdk.org>
List-Unsubscribe: <https://mails.dpdk.org/options/test-report>,
 <mailto:test-report-request@dpdk.org?subject=unsubscribe>
List-Archive: <http://mails.dpdk.org/archives/test-report/>
List-Post: <mailto:test-report@dpdk.org>
List-Help: <mailto:test-report-request@dpdk.org?subject=help>
List-Subscribe: <https://mails.dpdk.org/listinfo/test-report>,
 <mailto:test-report-request@dpdk.org?subject=subscribe>
Errors-To: test-report-bounces@dpdk.org

Test-Label: iol-compile-amd64-testing
Test-Status: SUCCESS
http://dpdk.org/patch/130094

_Testing PASS_

Submitter: Stephen Hemminger <stephen@networkplumber.org>
Date: Thursday, August 10 2023 18:05:15 
DPDK git baseline: Repo:dpdk
  Branch: master
  CommitID:70b6941e4e22d67bc10495d1638234a7e974f582

130094 --> testing pass

Test environment and result as below:

+------------------+--------------------+
|   Environment    | dpdk_meson_compile |
+==================+====================+
| FreeBSD 13       | PASS               |
+------------------+--------------------+
| Debian Buster    | PASS               |
+------------------+--------------------+
| CentOS Stream 8  | PASS               |
+------------------+--------------------+
| CentOS Stream 9  | PASS               |
+------------------+--------------------+
| Ubuntu 20.04     | PASS               |
+------------------+--------------------+
| Debian Bullseye  | PASS               |
+------------------+--------------------+
| Fedora 38        | PASS               |
+------------------+--------------------+
| Fedora 37        | PASS               |
+------------------+--------------------+
| Ubuntu 22.04     | PASS               |
+------------------+--------------------+
| openSUSE Leap 15 | PASS               |
+------------------+--------------------+
| Alpine           | PASS               |
+------------------+--------------------+


FreeBSD 13
	Kernel: 13.0
	Compiler: clang 11.0.1

Debian Buster
	Kernel: 5.4.0-122-generic
	Compiler: gcc 8.3.0-6

CentOS Stream 8
	Kernel: 4.18.0-240.10.1.el8_3.x86_64
	Compiler: gcc 8.4.1 20200928

CentOS Stream 9
	Kernel: 4.18.0-240.10.1.el8_3.x86_64
	Compiler: gcc 11.3.1 20220421

Ubuntu 20.04
	Kernel: 5.4.0-153-generic
	Compiler: gcc 9.4.0-1ubuntu1~20.04.1

Debian Bullseye
	Kernel: 5.4.0-122-generic
	Compiler: gcc 10.2.1-6

Fedora 38
	Kernel: Depends on container host
	Compiler: gcc 13.1.1

Fedora 37
	Kernel: Depends on container host system
	Compiler: gcc 12.3.1

Ubuntu 22.04
	Kernel: 4.18.0-240.10.1.el8_3.x86_64
	Compiler: gcc 11.3.0

openSUSE Leap 15
	Kernel: 4.18.0-240.10.1.el8_3.x86_64
	Compiler: gcc 7.5.0

Alpine
	Kernel: 5.4.0-73-generic
	Compiler: gcc (Alpine 10.3.1_git20210424) 10.3.1 20210424

To view detailed results, visit:
https://lab.dpdk.org/results/dashboard/patchsets/27287/

UNH-IOL DPDK Community Lab

To manage your email subscriptions, visit: 
https://lab.dpdk.org/results/dashboard/preferences/subscriptions/