From mboxrd@z Thu Jan  1 00:00:00 1970
Return-Path: <test-report-bounces@dpdk.org>
Received: from mails.dpdk.org (mails.dpdk.org [217.70.189.124])
	by inbox.dpdk.org (Postfix) with ESMTP id 86FD94302E
	for <public@inbox.dpdk.org>; Fri, 11 Aug 2023 01:09:34 +0200 (CEST)
Received: from mails.dpdk.org (localhost [127.0.0.1])
	by mails.dpdk.org (Postfix) with ESMTP id 8226F40DFB;
	Fri, 11 Aug 2023 01:09:34 +0200 (CEST)
Received: from mail-oa1-f97.google.com (mail-oa1-f97.google.com
 [209.85.160.97]) by mails.dpdk.org (Postfix) with ESMTP id 15B4A40DFB
 for <test-report@dpdk.org>; Fri, 11 Aug 2023 01:09:33 +0200 (CEST)
Received: by mail-oa1-f97.google.com with SMTP id
 586e51a60fabf-1bf0c4489feso1297545fac.0
 for <test-report@dpdk.org>; Thu, 10 Aug 2023 16:09:33 -0700 (PDT)
DKIM-Signature: v=1; a=rsa-sha256; c=relaxed/relaxed;
 d=iol.unh.edu; s=unh-iol; t=1691708972; x=1692313772;
 h=cc:to:from:subject:message-id:date:from:to:cc:subject:date
 :message-id:reply-to;
 bh=HIey8hSv73aFiIjJ2Fn7U52zT/vdGlVI69QiTTRM7/w=;
 b=NdZqcycowCoqKmNhM/qnvqR9Go3ocPVipDUARP5FrIQ3AToFbD/OUmtY393V74UyZx
 Fe2L7JatBzKoMCQfmfseoZo3euFEp6BDX2vvQAcTFhmCb4xaK9aO3RX7b4rGoaNE1VYO
 qCEVab4rCwzIqCFTpWPKpY9V09TA7G2zi/pGI=
X-Google-DKIM-Signature: v=1; a=rsa-sha256; c=relaxed/relaxed;
 d=1e100.net; s=20221208; t=1691708972; x=1692313772;
 h=cc:to:from:subject:message-id:date:x-gm-message-state:from:to:cc
 :subject:date:message-id:reply-to;
 bh=HIey8hSv73aFiIjJ2Fn7U52zT/vdGlVI69QiTTRM7/w=;
 b=gF9aizUmXuklG+f2+exG3Ht6pMkrtX7hwfgP9K7RjILhhfZRiKsk23+hE2O1sD11es
 rOp1rhKssP8EJACo/VnSnFqgmpw3ZUutPqg5pTvcX3QDyRxUW0DsA1VlL2whfmrhBQhC
 saIv6V97n/l//ade/E8+69wSyBwgDjlqJBCJVng2Ekgs/qNWkGvUnxPATEpTfW2XYuQa
 F4tGfAPa6ImKEpiqqppOesVOwq89y3vJdH4d1XWDVxbiF7AER9mMTPbOAPSd6ov3OXWZ
 yJmY2AifuJoHrppQeTDdaUbzoXhJ6Lcm7wFSgNFw4PMzImmFBcm/pNOV8zkABlbI52XT
 J1Kg==
X-Gm-Message-State: AOJu0YwgyyT/6lAnlREVpBPBvXYUAgBNuXO+XZIRhQhfF3xWkEyqHImK
 bmgZEWEO3iEkStnIZu2ac7csNkDjdpcLQu9JaVlOR0uL4az6zXo4f1FUzDfcRNhXuN0SHFU/Ow=
 =
X-Google-Smtp-Source: AGHT+IE9g2VGKJS21598HRkbEAjciES64gpHfuqy5G2iUnz74exDiqZQ3evRYwIG+hMeiqXCT7CB0VmHB1IE
X-Received: by 2002:a05:6870:9110:b0:1b4:66e6:cf51 with SMTP id
 o16-20020a056870911000b001b466e6cf51mr246204oae.15.1691708972501; 
 Thu, 10 Aug 2023 16:09:32 -0700 (PDT)
Received: from postal.iol.unh.edu (postal.iol.unh.edu.
 [2606:4100:3880:1234::84]) by smtp-relay.gmail.com with ESMTPS id
 h39-20020a056870172700b001bb7c732792sm185805oae.11.2023.08.10.16.09.32
 (version=TLS1_2 cipher=ECDHE-ECDSA-AES128-GCM-SHA256 bits=128/128);
 Thu, 10 Aug 2023 16:09:32 -0700 (PDT)
X-Relaying-Domain: iol.unh.edu
Date: Thu, 10 Aug 2023 16:09:32 -0700 (PDT)
Message-ID: <64d56e2c.050a0220.970c3.9d4aSMTPIN_ADDED_MISSING@mx.google.com>
Received: from [172.21.0.2] (unknown [172.18.0.240])
 by postal.iol.unh.edu (Postfix) with ESMTP id 10B4B6052471;
 Thu, 10 Aug 2023 19:09:32 -0400 (EDT)
Subject: |SUCCESS| pw130094 [PATCH] graph: mark API's as stable
From: dpdklab@iol.unh.edu
To: Test Report <test-report@dpdk.org>
Cc: Stephen Hemminger <stephen@networkplumber.org>,
 dpdk-test-reports@iol.unh.edu
Content-Type: text/plain
X-BeenThere: test-report@dpdk.org
X-Mailman-Version: 2.1.29
Precedence: list
List-Id: automatic DPDK test reports <test-report.dpdk.org>
List-Unsubscribe: <https://mails.dpdk.org/options/test-report>,
 <mailto:test-report-request@dpdk.org?subject=unsubscribe>
List-Archive: <http://mails.dpdk.org/archives/test-report/>
List-Post: <mailto:test-report@dpdk.org>
List-Help: <mailto:test-report-request@dpdk.org?subject=help>
List-Subscribe: <https://mails.dpdk.org/listinfo/test-report>,
 <mailto:test-report-request@dpdk.org?subject=subscribe>
Errors-To: test-report-bounces@dpdk.org

Test-Label: iol-unit-arm64-testing
Test-Status: SUCCESS
http://dpdk.org/patch/130094

_Testing PASS_

Submitter: Stephen Hemminger <stephen@networkplumber.org>
Date: Thursday, August 10 2023 18:05:15 
DPDK git baseline: Repo:dpdk
  Branch: master
  CommitID:70b6941e4e22d67bc10495d1638234a7e974f582

130094 --> testing pass

Test environment and result as below:

+--------------------------+----------------+---------------------------+------------------------------+
|       Environment        | dpdk_unit_test | cryptodev_sw_zuc_autotest | cryptodev_sw_snow3g_autotest |
+==========================+================+===========================+==============================+
| Fedora 37 (ARM)          | PASS           | SKIPPED                   | SKIPPED                      |
+--------------------------+----------------+---------------------------+------------------------------+
| CentOS Stream 9 (ARM)    | PASS           | SKIPPED                   | SKIPPED                      |
+--------------------------+----------------+---------------------------+------------------------------+
| Debian 11 (Buster) (ARM) | PASS           | SKIPPED                   | SKIPPED                      |
+--------------------------+----------------+---------------------------+------------------------------+
| Ubuntu 20.04 (ARM)       | PASS           | SKIPPED                   | SKIPPED                      |
+--------------------------+----------------+---------------------------+------------------------------+
| Fedora 38 (ARM)          | PASS           | SKIPPED                   | SKIPPED                      |
+--------------------------+----------------+---------------------------+------------------------------+
| Debian 11 (arm)          | SKIPPED        | PASS                      | PASS                         |
+--------------------------+----------------+---------------------------+------------------------------+


Fedora 37 (ARM)
	Kernel: Depends on container host
	Compiler: gcc 12.3.1

CentOS Stream 9 (ARM)
	Kernel: Container Host Kernel
	Compiler: gcc 11.3.1

Debian 11 (Buster) (ARM)
	Kernel: Container Host Kernel
	Compiler: gcc 10.2.1

Ubuntu 20.04 (ARM)
	Kernel: Container Host Kernel
	Compiler: gcc 9.4.0

Fedora 38 (ARM)
	Kernel: Depends on container host
	Compiler: gcc 13.1.1

Debian 11 (arm)
	Kernel: Container Host Kernel
	Compiler: gcc 10.2.1

To view detailed results, visit:
https://lab.dpdk.org/results/dashboard/patchsets/27287/

UNH-IOL DPDK Community Lab

To manage your email subscriptions, visit: 
https://lab.dpdk.org/results/dashboard/preferences/subscriptions/