From mboxrd@z Thu Jan  1 00:00:00 1970
Return-Path: <test-report-bounces@dpdk.org>
Received: from mails.dpdk.org (mails.dpdk.org [217.70.189.124])
	by inbox.dpdk.org (Postfix) with ESMTP id E29DF43027
	for <public@inbox.dpdk.org>; Fri, 11 Aug 2023 01:34:21 +0200 (CEST)
Received: from mails.dpdk.org (localhost [127.0.0.1])
	by mails.dpdk.org (Postfix) with ESMTP id DEBB340DFB;
	Fri, 11 Aug 2023 01:34:21 +0200 (CEST)
Received: from mail-yw1-f226.google.com (mail-yw1-f226.google.com
 [209.85.128.226])
 by mails.dpdk.org (Postfix) with ESMTP id 998F540DFB
 for <test-report@dpdk.org>; Fri, 11 Aug 2023 01:34:20 +0200 (CEST)
Received: by mail-yw1-f226.google.com with SMTP id
 00721157ae682-584243f84eeso16883627b3.0
 for <test-report@dpdk.org>; Thu, 10 Aug 2023 16:34:20 -0700 (PDT)
DKIM-Signature: v=1; a=rsa-sha256; c=relaxed/relaxed;
 d=iol.unh.edu; s=unh-iol; t=1691710460; x=1692315260;
 h=cc:to:from:subject:message-id:date:from:to:cc:subject:date
 :message-id:reply-to;
 bh=fbhlgr9peOpxA2vMA/HYoQ27Y8GZY7R2AoIeDkcvYCs=;
 b=iL8wZdT/thLKf//i8yzSp5KU27yUCsaKs8XfqOsQZlcQHUWPbxi86KzRyZHtIjj7lh
 6Beuq340sGw4A8wiMeC4iM8FLXbNDO3FCrwQucCYYRw4h0kL9GcAMuZrsglrZk50i0L8
 Rd6CvZ5uBKTwPX3f7QzBBbBNq9+VQlJ3raBQs=
X-Google-DKIM-Signature: v=1; a=rsa-sha256; c=relaxed/relaxed;
 d=1e100.net; s=20221208; t=1691710460; x=1692315260;
 h=cc:to:from:subject:message-id:date:x-gm-message-state:from:to:cc
 :subject:date:message-id:reply-to;
 bh=fbhlgr9peOpxA2vMA/HYoQ27Y8GZY7R2AoIeDkcvYCs=;
 b=lNtxFVYowUSv1Y085hYOhaEjc9fciMuCtJHAXT73mPgF5hDpgv5ljBKJ/5qisCkWZm
 qqqozfPftu4yY67jU5ZMMUnkh1MnhOHRS2LCmRQ7+5yUp+dPHeBKJ/YYo+GBv9E0dw0K
 z96WzYcGMeVycckRBd0+YGR7JexGtm+1T8Ln9xQ+NxhtUk+iAw9dRMgvz/ilWR/x28EI
 xN4WiSkqW5Ns9mwgbn0gpznJolLHuR0VZapC/ScKk0e7+YjrvJp4x5/bkIRlg/itoTSV
 rykQLb2tZUULYEfD9pfidc8Ojv++AyQK1691pj34JQn6HQQ+OXU51vtzsf4237xfGNrh
 Aong==
X-Gm-Message-State: AOJu0Yxw5DRmZmKf/vWTNq/r2faXot9tjNVMsZuGXNNMYAHa5ZoZJ/ir
 c4ifxhhQofLkYHsIiZO3HPUVR2onBZTjOnfDMkdEZTydkwwINGUnk3WPWp1sdQT2i3oLOJCjnQ=
 =
X-Google-Smtp-Source: AGHT+IFvplG8/uds1QD23+L2vhx9WoRSwjU8B6Co93AnPL7dOD5etQMPlJmMb72lftHG3LAguXPE1qjva+10
X-Received: by 2002:a81:83d0:0:b0:586:a199:91f1 with SMTP id
 t199-20020a8183d0000000b00586a19991f1mr400894ywf.24.1691710459948; 
 Thu, 10 Aug 2023 16:34:19 -0700 (PDT)
Received: from postal.iol.unh.edu (postal.iol.unh.edu.
 [2606:4100:3880:1234::84]) by smtp-relay.gmail.com with ESMTPS id
 s63-20020a817742000000b005841a4aef33sm197261ywc.34.2023.08.10.16.34.19
 (version=TLS1_2 cipher=ECDHE-ECDSA-AES128-GCM-SHA256 bits=128/128);
 Thu, 10 Aug 2023 16:34:19 -0700 (PDT)
X-Relaying-Domain: iol.unh.edu
Date: Thu, 10 Aug 2023 16:34:19 -0700 (PDT)
Message-ID: <64d573fb.810a0220.21ca5.a7d7SMTPIN_ADDED_MISSING@mx.google.com>
Received: from [172.21.0.2] (unknown [172.18.0.240])
 by postal.iol.unh.edu (Postfix) with ESMTP id 99C506052471;
 Thu, 10 Aug 2023 19:34:19 -0400 (EDT)
Subject: |SUCCESS| pw130078-130081 [PATCH] [4/4] test/dma: enable cnxk tests
From: dpdklab@iol.unh.edu
To: Test Report <test-report@dpdk.org>
Cc: dpdk-test-reports@iol.unh.edu
Content-Type: text/plain
X-BeenThere: test-report@dpdk.org
X-Mailman-Version: 2.1.29
Precedence: list
List-Id: automatic DPDK test reports <test-report.dpdk.org>
List-Unsubscribe: <https://mails.dpdk.org/options/test-report>,
 <mailto:test-report-request@dpdk.org?subject=unsubscribe>
List-Archive: <http://mails.dpdk.org/archives/test-report/>
List-Post: <mailto:test-report@dpdk.org>
List-Help: <mailto:test-report-request@dpdk.org?subject=help>
List-Subscribe: <https://mails.dpdk.org/listinfo/test-report>,
 <mailto:test-report-request@dpdk.org?subject=subscribe>
Errors-To: test-report-bounces@dpdk.org

Test-Label: iol-compile-arm64-testing
Test-Status: SUCCESS
http://dpdk.org/patch/130081

_Testing PASS_

Submitter: Gowrishankar Muthukrishnan <gmuthukrishn@marvell.com>
Date: Thursday, August 10 2023 12:21:11 
DPDK git baseline: Repo:dpdk
  Branch: master
  CommitID:70b6941e4e22d67bc10495d1638234a7e974f582

130078-130081 --> testing pass

Test environment and result as below:

+--------------------------------------+--------------------+
|             Environment              | dpdk_meson_compile |
+======================================+====================+
| Ubuntu 20.04 ARM Clang Cross Compile | PASS               |
+--------------------------------------+--------------------+
| Fedora 37 (ARM)                      | PASS               |
+--------------------------------------+--------------------+
| Ubuntu 20.04 (ARM)                   | PASS               |
+--------------------------------------+--------------------+
| Fedora 38 (ARM)                      | PASS               |
+--------------------------------------+--------------------+
| CentOS Stream 9 (ARM)                | PASS               |
+--------------------------------------+--------------------+
| Debian 11 (Buster) (ARM)             | PASS               |
+--------------------------------------+--------------------+
| Fedora 38 (ARM Clang)                | PASS               |
+--------------------------------------+--------------------+


Ubuntu 20.04 ARM Clang Cross Compile
	Kernel: 5.4.0-72-generic
	Compiler: clang version 10.0.0-4ubuntu1

Fedora 37 (ARM)
	Kernel: Depends on container host
	Compiler: gcc 12.3.1

Ubuntu 20.04 (ARM)
	Kernel: Container Host Kernel
	Compiler: gcc 9.4.0

Fedora 38 (ARM)
	Kernel: Depends on container host
	Compiler: gcc 13.1.1

CentOS Stream 9 (ARM)
	Kernel: Container Host Kernel
	Compiler: gcc 11.3.1

Debian 11 (Buster) (ARM)
	Kernel: Container Host Kernel
	Compiler: gcc 10.2.1

Fedora 38 (ARM Clang)
	Kernel: Depends on container host
	Compiler: clang 16.0.3

To view detailed results, visit:
https://lab.dpdk.org/results/dashboard/patchsets/27277/

UNH-IOL DPDK Community Lab

To manage your email subscriptions, visit: 
https://lab.dpdk.org/results/dashboard/preferences/subscriptions/