From mboxrd@z Thu Jan  1 00:00:00 1970
Return-Path: <test-report-bounces@dpdk.org>
Received: from mails.dpdk.org (mails.dpdk.org [217.70.189.124])
	by inbox.dpdk.org (Postfix) with ESMTP id 2E43043028
	for <public@inbox.dpdk.org>; Fri, 11 Aug 2023 04:55:18 +0200 (CEST)
Received: from mails.dpdk.org (localhost [127.0.0.1])
	by mails.dpdk.org (Postfix) with ESMTP id 2998B40F17;
	Fri, 11 Aug 2023 04:55:18 +0200 (CEST)
Received: from mail-io1-f99.google.com (mail-io1-f99.google.com
 [209.85.166.99]) by mails.dpdk.org (Postfix) with ESMTP id DF2F340E03
 for <test-report@dpdk.org>; Fri, 11 Aug 2023 04:55:16 +0200 (CEST)
Received: by mail-io1-f99.google.com with SMTP id
 ca18e2360f4ac-791262638ffso54720639f.1
 for <test-report@dpdk.org>; Thu, 10 Aug 2023 19:55:16 -0700 (PDT)
DKIM-Signature: v=1; a=rsa-sha256; c=relaxed/relaxed;
 d=iol.unh.edu; s=unh-iol; t=1691722516; x=1692327316;
 h=cc:to:from:subject:message-id:date:from:to:cc:subject:date
 :message-id:reply-to;
 bh=54RZKFD00j2KwDSH6w/Lmcy+6RpeePhCbG2AaCy8T2w=;
 b=ICtTCvHvIKsKhOqr+mnH4MTbbQMF6rlluVp4kcaovlRhYngs+VUN1oY8vUYGXXlIRP
 ZyPsMs5bIhdfo5YDWLyQBu94fAARPLleJSyocNJ4+J5ZQjCGW2SmKMuaBbyCE00O8bIo
 EJ95r0dEEh03lZzcDZkxxHq/Z4zloFSHtnQDs=
X-Google-DKIM-Signature: v=1; a=rsa-sha256; c=relaxed/relaxed;
 d=1e100.net; s=20221208; t=1691722516; x=1692327316;
 h=cc:to:from:subject:message-id:date:x-gm-message-state:from:to:cc
 :subject:date:message-id:reply-to;
 bh=54RZKFD00j2KwDSH6w/Lmcy+6RpeePhCbG2AaCy8T2w=;
 b=bp9hb4gbRGwXWLXeZ87bshQsuqWgsX3t72nU4/MVGwGK2DfMq533dl1J7dBzewLYfQ
 uGlU7WN9QLjpmOXMOaIdyGd80TeQwrN51ygCC/IpB95Ba1ENUd0EXf1OkSdET7ftrm4q
 AhFkBPDLiNapcwi3VF/JjJGXcvZktT7hjvFwDs5vuycvEticX/lNR03e9FKh/nqpeDbh
 qH7lJEea2KE6us+qQcXj6cUgoMrqm8XHnso8miRTp6HqYCMklOgRtneZJrQaDTiiiSVH
 rWj8YUjBorm1EmzEGkHdmgKOM1pYDpWxvb6VEaEemPflvbRMUoHdIU/ctLVu9dIh/ZFd
 B4WQ==
X-Gm-Message-State: AOJu0Ywe/apDHPUQaAIIPYW2ZjW0jHTqqWQorQrcGdKaFGrCVMY0Zv+A
 aSmJhsArY2BQ9qPpomo/IwuMya3JfxylvUTNVi2A6aR7VMHY75j4afZxw02kYkYsCq9AGWT+mA=
 =
X-Google-Smtp-Source: AGHT+IH4+yC/IBOmP14Y9D7/fdeKppWZ4IV25BkPLvRtlGiroQdHLBf2NxLPfGoHUP1DZPDxQYFdEuDhUc3U
X-Received: by 2002:a6b:d90b:0:b0:786:fff8:13c2 with SMTP id
 r11-20020a6bd90b000000b00786fff813c2mr1175006ioc.11.1691722516322; 
 Thu, 10 Aug 2023 19:55:16 -0700 (PDT)
Received: from postal.iol.unh.edu (postal.iol.unh.edu.
 [2606:4100:3880:1234::84]) by smtp-relay.gmail.com with ESMTPS id
 fq17-20020a056638651100b00430428f9edbsm113712jab.77.2023.08.10.19.55.16
 (version=TLS1_2 cipher=ECDHE-ECDSA-AES128-GCM-SHA256 bits=128/128);
 Thu, 10 Aug 2023 19:55:16 -0700 (PDT)
X-Relaying-Domain: iol.unh.edu
Date: Thu, 10 Aug 2023 19:55:16 -0700 (PDT)
Message-ID: <64d5a314.050a0220.a0de2.5ba2SMTPIN_ADDED_MISSING@mx.google.com>
Received: from [172.17.0.4] (unknown [172.18.0.215])
 by postal.iol.unh.edu (Postfix) with ESMTP id BC60B6052471;
 Thu, 10 Aug 2023 22:55:15 -0400 (EDT)
Subject: |SUCCESS| pw130078-130081 [PATCH] [4/4] test/dma: enable cnxk tests
From: dpdklab@iol.unh.edu
To: Test Report <test-report@dpdk.org>
Cc: dpdk-test-reports@iol.unh.edu
Content-Type: text/plain
X-BeenThere: test-report@dpdk.org
X-Mailman-Version: 2.1.29
Precedence: list
List-Id: automatic DPDK test reports <test-report.dpdk.org>
List-Unsubscribe: <https://mails.dpdk.org/options/test-report>,
 <mailto:test-report-request@dpdk.org?subject=unsubscribe>
List-Archive: <http://mails.dpdk.org/archives/test-report/>
List-Post: <mailto:test-report@dpdk.org>
List-Help: <mailto:test-report-request@dpdk.org?subject=help>
List-Subscribe: <https://mails.dpdk.org/listinfo/test-report>,
 <mailto:test-report-request@dpdk.org?subject=subscribe>
Errors-To: test-report-bounces@dpdk.org

Test-Label: iol-unit-amd64-testing
Test-Status: SUCCESS
http://dpdk.org/patch/130081

_Testing PASS_

Submitter: Gowrishankar Muthukrishnan <gmuthukrishn@marvell.com>
Date: Thursday, August 10 2023 12:21:11 
DPDK git baseline: Repo:dpdk
  Branch: master
  CommitID:70b6941e4e22d67bc10495d1638234a7e974f582

130078-130081 --> testing pass

Test environment and result as below:

+---------------------+----------------+
|     Environment     | dpdk_unit_test |
+=====================+================+
| CentOS Stream 8     | PASS           |
+---------------------+----------------+
| CentOS Stream 9     | PASS           |
+---------------------+----------------+
| Debian Buster       | PASS           |
+---------------------+----------------+
| Debian Bullseye     | PASS           |
+---------------------+----------------+
| Fedora 37           | PASS           |
+---------------------+----------------+
| Fedora 38           | PASS           |
+---------------------+----------------+
| RHEL8               | PASS           |
+---------------------+----------------+
| openSUSE Leap 15    | PASS           |
+---------------------+----------------+
| Ubuntu 20.04        | PASS           |
+---------------------+----------------+
| Ubuntu 22.04        | PASS           |
+---------------------+----------------+
| Windows Server 2019 | PASS           |
+---------------------+----------------+


CentOS Stream 8
	Kernel: 4.18.0-240.10.1.el8_3.x86_64
	Compiler: gcc 8.4.1 20200928

CentOS Stream 9
	Kernel: 4.18.0-240.10.1.el8_3.x86_64
	Compiler: gcc 11.3.1 20220421

Debian Buster
	Kernel: 5.4.0-122-generic
	Compiler: gcc 8.3.0-6

Debian Bullseye
	Kernel: 5.4.0-122-generic
	Compiler: gcc 10.2.1-6

Fedora 37
	Kernel: Depends on container host system
	Compiler: gcc 12.3.1

Fedora 38
	Kernel: Depends on container host
	Compiler: gcc 13.1.1

RHEL8
	Kernel: 4.18.0-240.10.1.el8_3.x86_64
	Compiler: gcc 8.3.1 20191121 (Red Hat 8.3.1-5)

openSUSE Leap 15
	Kernel: 4.18.0-240.10.1.el8_3.x86_64
	Compiler: gcc 7.5.0

Ubuntu 20.04
	Kernel: 5.4.0-153-generic
	Compiler: gcc 9.4.0-1ubuntu1~20.04.1

Ubuntu 22.04
	Kernel: 4.18.0-240.10.1.el8_3.x86_64
	Compiler: gcc 11.3.0

Windows Server 2019
	Kernel: 10.0
	Compiler: clang 14.0 and gcc 8.1.0 (MinGW)

To view detailed results, visit:
https://lab.dpdk.org/results/dashboard/patchsets/27277/

UNH-IOL DPDK Community Lab

To manage your email subscriptions, visit: 
https://lab.dpdk.org/results/dashboard/preferences/subscriptions/