From mboxrd@z Thu Jan  1 00:00:00 1970
Return-Path: <test-report-bounces@dpdk.org>
Received: from mails.dpdk.org (mails.dpdk.org [217.70.189.124])
	by inbox.dpdk.org (Postfix) with ESMTP id CEE0343034
	for <public@inbox.dpdk.org>; Fri, 11 Aug 2023 14:57:00 +0200 (CEST)
Received: from mails.dpdk.org (localhost [127.0.0.1])
	by mails.dpdk.org (Postfix) with ESMTP id AD00C40E03;
	Fri, 11 Aug 2023 14:57:00 +0200 (CEST)
Received: from mail-qt1-f227.google.com (mail-qt1-f227.google.com
 [209.85.160.227])
 by mails.dpdk.org (Postfix) with ESMTP id 8D7D840E03
 for <test-report@dpdk.org>; Fri, 11 Aug 2023 14:56:59 +0200 (CEST)
Received: by mail-qt1-f227.google.com with SMTP id
 d75a77b69052e-40fda409ca7so12913301cf.3
 for <test-report@dpdk.org>; Fri, 11 Aug 2023 05:56:59 -0700 (PDT)
DKIM-Signature: v=1; a=rsa-sha256; c=relaxed/relaxed;
 d=iol.unh.edu; s=unh-iol; t=1691758619; x=1692363419;
 h=cc:to:from:subject:message-id:date:from:to:cc:subject:date
 :message-id:reply-to;
 bh=OXJle+YrP1VU4CKCKC/2E7F1HdX35Ez4B3gcD9SyvrQ=;
 b=HEQIo3pCEAxXI/TuJDvozdmB22yf2rMZyMz9DizuPjPuAJ7PxE8v4Y9Sd+73RXqudf
 O06A7fgrIkmqdIBRj/flXOb56tgm7ugZyN0+eUADcKsyAjZD8Y7uWrcE2PPUyi0MV/vi
 DH0/92Cdv+ZctpWwWO3HAPAmF7g4ZSvOIqjIw=
X-Google-DKIM-Signature: v=1; a=rsa-sha256; c=relaxed/relaxed;
 d=1e100.net; s=20221208; t=1691758619; x=1692363419;
 h=cc:to:from:subject:message-id:date:x-gm-message-state:from:to:cc
 :subject:date:message-id:reply-to;
 bh=OXJle+YrP1VU4CKCKC/2E7F1HdX35Ez4B3gcD9SyvrQ=;
 b=cTjBzLIMz1XrydxIq+V0444ExnJxfZATkS0DLad96/AMmIvBiwZCLABtywQ+7zzdRf
 P0phqr1Q5YD1Lyr9VoE2xwrkh7uYVSp52Ux8u+cephG2Kb8ZXUvha/2OPIHzkREDeALi
 QFNMcLDF2IkesglKcuYrShtmSlTF/RJbilycR0KTVblNX22og2EN4S9d/vKJ4gT45QU2
 Smcw92koz56XV62vDftnajrE92QxQ9e2peWTFht1EgqAVKCjegNlnw2IJZJM6zwO/1pE
 2CLJEkKd9NhtlLHZr7hYtylTOEGI0HvHiCaW8rQRCqfxDlM1QkxNz997H10J+FnBDrBQ
 uffQ==
X-Gm-Message-State: AOJu0YwdFVMnNwfBvk0/W1ozIweye8I7Szzo2zw00q1bIbEuXpdy/hRb
 IpYr9lfFb/9BaTQPm1pfno2ltd/OumrkgXrF2jLOFXeJhpr1MmV8u95yBA==
X-Google-Smtp-Source: AGHT+IGkM7q4GhKR4yqssATOEYf3f8+XTBR7v0UsPeJAYU54YfhwBr/AqPQYQr3Fq2UFPUmD06cNd9dxI6On
X-Received: by 2002:ac8:5c03:0:b0:410:684:c3cf with SMTP id
 i3-20020ac85c03000000b004100684c3cfmr1881493qti.11.1691758618828; 
 Fri, 11 Aug 2023 05:56:58 -0700 (PDT)
Received: from postal.iol.unh.edu (postal.iol.unh.edu. [132.177.123.84])
 by smtp-relay.gmail.com with ESMTPS id
 jr7-20020a05622a800700b00403c9e2ff2bsm145227qtb.24.2023.08.11.05.56.58
 (version=TLS1_2 cipher=ECDHE-ECDSA-AES128-GCM-SHA256 bits=128/128);
 Fri, 11 Aug 2023 05:56:58 -0700 (PDT)
X-Relaying-Domain: iol.unh.edu
Date: Fri, 11 Aug 2023 05:56:58 -0700 (PDT)
Message-ID: <64d6301a.050a0220.a957a.7535SMTPIN_ADDED_MISSING@mx.google.com>
Received: from [172.21.0.2] (unknown [172.18.0.240])
 by postal.iol.unh.edu (Postfix) with ESMTP id 7BA8F6052471;
 Fri, 11 Aug 2023 08:56:58 -0400 (EDT)
Subject: |SUCCESS| pw130104 [PATCH] dma/idxd: add reset in the init routine
From: dpdklab@iol.unh.edu
To: Test Report <test-report@dpdk.org>
Cc: dpdk-test-reports@iol.unh.edu
Content-Type: text/plain
X-BeenThere: test-report@dpdk.org
X-Mailman-Version: 2.1.29
Precedence: list
List-Id: automatic DPDK test reports <test-report.dpdk.org>
List-Unsubscribe: <https://mails.dpdk.org/options/test-report>,
 <mailto:test-report-request@dpdk.org?subject=unsubscribe>
List-Archive: <http://mails.dpdk.org/archives/test-report/>
List-Post: <mailto:test-report@dpdk.org>
List-Help: <mailto:test-report-request@dpdk.org?subject=help>
List-Subscribe: <https://mails.dpdk.org/listinfo/test-report>,
 <mailto:test-report-request@dpdk.org?subject=subscribe>
Errors-To: test-report-bounces@dpdk.org

Test-Label: iol-compile-arm64-testing
Test-Status: SUCCESS
http://dpdk.org/patch/130104

_Testing PASS_

Submitter: Frank Du <frank.du@intel.com>
Date: Friday, August 11 2023 02:10:54 
DPDK git baseline: Repo:dpdk
  Branch: master
  CommitID:70b6941e4e22d67bc10495d1638234a7e974f582

130104 --> testing pass

Test environment and result as below:

+--------------------------------------+--------------------+
|             Environment              | dpdk_meson_compile |
+======================================+====================+
| Fedora 37 (ARM)                      | PASS               |
+--------------------------------------+--------------------+
| CentOS Stream 9 (ARM)                | PASS               |
+--------------------------------------+--------------------+
| Fedora 38 (ARM)                      | PASS               |
+--------------------------------------+--------------------+
| Ubuntu 20.04 (ARM)                   | PASS               |
+--------------------------------------+--------------------+
| Debian 11 (Buster) (ARM)             | PASS               |
+--------------------------------------+--------------------+
| Ubuntu 20.04 ARM Clang Cross Compile | PASS               |
+--------------------------------------+--------------------+
| Fedora 38 (ARM Clang)                | PASS               |
+--------------------------------------+--------------------+


Fedora 37 (ARM)
	Kernel: Depends on container host
	Compiler: gcc 12.3.1

CentOS Stream 9 (ARM)
	Kernel: Container Host Kernel
	Compiler: gcc 11.3.1

Fedora 38 (ARM)
	Kernel: Depends on container host
	Compiler: gcc 13.1.1

Ubuntu 20.04 (ARM)
	Kernel: Container Host Kernel
	Compiler: gcc 9.4.0

Debian 11 (Buster) (ARM)
	Kernel: Container Host Kernel
	Compiler: gcc 10.2.1

Ubuntu 20.04 ARM Clang Cross Compile
	Kernel: 5.4.0-72-generic
	Compiler: clang version 10.0.0-4ubuntu1

Fedora 38 (ARM Clang)
	Kernel: Depends on container host
	Compiler: clang 16.0.3

To view detailed results, visit:
https://lab.dpdk.org/results/dashboard/patchsets/27291/

UNH-IOL DPDK Community Lab

To manage your email subscriptions, visit: 
https://lab.dpdk.org/results/dashboard/preferences/subscriptions/