From mboxrd@z Thu Jan  1 00:00:00 1970
Return-Path: <test-report-bounces@dpdk.org>
Received: from mails.dpdk.org (mails.dpdk.org [217.70.189.124])
	by inbox.dpdk.org (Postfix) with ESMTP id F411143034
	for <public@inbox.dpdk.org>; Fri, 11 Aug 2023 15:40:23 +0200 (CEST)
Received: from mails.dpdk.org (localhost [127.0.0.1])
	by mails.dpdk.org (Postfix) with ESMTP id EF47540E03;
	Fri, 11 Aug 2023 15:40:23 +0200 (CEST)
Received: from mail-ua1-f97.google.com (mail-ua1-f97.google.com
 [209.85.222.97]) by mails.dpdk.org (Postfix) with ESMTP id 40BA740E03
 for <test-report@dpdk.org>; Fri, 11 Aug 2023 15:40:22 +0200 (CEST)
Received: by mail-ua1-f97.google.com with SMTP id
 a1e0cc1a2514c-78f1210e27fso644721241.1
 for <test-report@dpdk.org>; Fri, 11 Aug 2023 06:40:22 -0700 (PDT)
DKIM-Signature: v=1; a=rsa-sha256; c=relaxed/relaxed;
 d=iol.unh.edu; s=unh-iol; t=1691761221; x=1692366021;
 h=cc:to:from:subject:message-id:date:from:to:cc:subject:date
 :message-id:reply-to;
 bh=BruedEbBO8643KD9b9R2Z1Lr1rbbpsWBUEWwXIHfv8w=;
 b=K7FAGzhBNGgxJT8+jsNaFvUrBFBoENT2KcUhEzjK/XSa9jv3WwPMOURMlGuLFpzFer
 QJBQmqlkd9mKc+tOJKasrGFo8kXZPC2/60G0IAU2OeF7PK4iqw/AREPvKf4SoenYBgrx
 oL7BBu1eEhtBFsD1y/UByRTgc+UuvbyDO6aMU=
X-Google-DKIM-Signature: v=1; a=rsa-sha256; c=relaxed/relaxed;
 d=1e100.net; s=20221208; t=1691761221; x=1692366021;
 h=cc:to:from:subject:message-id:date:x-gm-message-state:from:to:cc
 :subject:date:message-id:reply-to;
 bh=BruedEbBO8643KD9b9R2Z1Lr1rbbpsWBUEWwXIHfv8w=;
 b=ZcYOQdC59NXW8tLtSgD20pJUFmYdm98pswuWZYvwRNlPxNy0Qcdh/gbPmfe+aCpzxS
 MagrUtVTEhG2r3rpheqjCEj55huMuhl+7WiS66+XzLGznA/eW22NSXbjNufcZjtux//Q
 LnLMxq56fPvT/sjQ6naDbYMWPwyNswAU1XtiJNJ203zzsuzyd21xzA5Rlopdmxuvi01P
 MAOxPMdgbzOw+o3NZxsSjHC2JuCoMXoBrMsd/uqBuxvVjL6h1/nOtx3/u2K9nsCqBax3
 3/x3v7gRMJKtuIpf5wcAJSAsz8AhmUH1G4NnT3vF/3o4P2QLxH5Gnl5+QQzrmV3mTKV7
 PfDg==
X-Gm-Message-State: AOJu0Ywq6fUTFw290eASK5TZT3aacpsGyniTjTtURA3Ws0KABJpKnk03
 ykLH7nPJhGC+nfwVhjjNy7UgSMdimApFgG7/jbGU6+jRvllVuH6cjqQ5V8XmmHftHMI1d0rEwA=
 =
X-Google-Smtp-Source: AGHT+IEZWLe8YIp1t4K7R9N3FrdGDEYQK9CIB06NvPfCv7yn0XCbzfARrUlNOrPJ4rhXJaTdrea885xjs4fF
X-Received: by 2002:a67:be01:0:b0:443:5ff0:bab2 with SMTP id
 x1-20020a67be01000000b004435ff0bab2mr1418266vsq.22.1691761221563; 
 Fri, 11 Aug 2023 06:40:21 -0700 (PDT)
Received: from postal.iol.unh.edu (postal.iol.unh.edu.
 [2606:4100:3880:1234::84]) by smtp-relay.gmail.com with ESMTPS id
 v17-20020a0561020f1100b00447b7c88565sm294705vss.4.2023.08.11.06.40.21
 (version=TLS1_2 cipher=ECDHE-ECDSA-AES128-GCM-SHA256 bits=128/128);
 Fri, 11 Aug 2023 06:40:21 -0700 (PDT)
X-Relaying-Domain: iol.unh.edu
Date: Fri, 11 Aug 2023 06:40:21 -0700 (PDT)
Message-ID: <64d63a45.050a0220.6968.dd37SMTPIN_ADDED_MISSING@mx.google.com>
Received: from [172.21.0.2] (unknown [172.18.0.240])
 by postal.iol.unh.edu (Postfix) with ESMTP id 3AACF6052471;
 Fri, 11 Aug 2023 09:40:21 -0400 (EDT)
Subject: |SUCCESS| pw130150 [PATCH] app/test: add external mbuf IPsec tests
From: dpdklab@iol.unh.edu
To: Test Report <test-report@dpdk.org>
Cc: dpdk-test-reports@iol.unh.edu
Content-Type: text/plain
X-BeenThere: test-report@dpdk.org
X-Mailman-Version: 2.1.29
Precedence: list
List-Id: automatic DPDK test reports <test-report.dpdk.org>
List-Unsubscribe: <https://mails.dpdk.org/options/test-report>,
 <mailto:test-report-request@dpdk.org?subject=unsubscribe>
List-Archive: <http://mails.dpdk.org/archives/test-report/>
List-Post: <mailto:test-report@dpdk.org>
List-Help: <mailto:test-report-request@dpdk.org?subject=help>
List-Subscribe: <https://mails.dpdk.org/listinfo/test-report>,
 <mailto:test-report-request@dpdk.org?subject=subscribe>
Errors-To: test-report-bounces@dpdk.org

Test-Label: iol-compile-amd64-testing
Test-Status: SUCCESS
http://dpdk.org/patch/130150

_Testing PASS_

Submitter: Tejasree Kondoj <ktejasree@marvell.com>
Date: Friday, August 11 2023 09:42:37 
DPDK git baseline: Repo:dpdk
  Branch: master
  CommitID:70b6941e4e22d67bc10495d1638234a7e974f582

130150 --> testing pass

Test environment and result as below:

+---------------------+--------------------+
|     Environment     | dpdk_meson_compile |
+=====================+====================+
| CentOS Stream 8     | PASS               |
+---------------------+--------------------+
| Debian Bullseye     | PASS               |
+---------------------+--------------------+
| Debian Buster       | PASS               |
+---------------------+--------------------+
| CentOS Stream 9     | PASS               |
+---------------------+--------------------+
| FreeBSD 13          | PASS               |
+---------------------+--------------------+
| Fedora 37           | PASS               |
+---------------------+--------------------+
| Fedora 38           | PASS               |
+---------------------+--------------------+
| openSUSE Leap 15    | PASS               |
+---------------------+--------------------+
| Ubuntu 22.04        | PASS               |
+---------------------+--------------------+
| RHEL8               | PASS               |
+---------------------+--------------------+
| Ubuntu 20.04        | PASS               |
+---------------------+--------------------+
| Alpine              | PASS               |
+---------------------+--------------------+
| Windows Server 2019 | PASS               |
+---------------------+--------------------+


CentOS Stream 8
	Kernel: 4.18.0-240.10.1.el8_3.x86_64
	Compiler: gcc 8.4.1 20200928

Debian Bullseye
	Kernel: 5.4.0-122-generic
	Compiler: gcc 10.2.1-6

Debian Buster
	Kernel: 5.4.0-122-generic
	Compiler: gcc 8.3.0-6

CentOS Stream 9
	Kernel: 4.18.0-240.10.1.el8_3.x86_64
	Compiler: gcc 11.3.1 20220421

FreeBSD 13
	Kernel: 13.0
	Compiler: clang 11.0.1

Fedora 37
	Kernel: Depends on container host system
	Compiler: gcc 12.3.1

Fedora 38
	Kernel: Depends on container host
	Compiler: gcc 13.1.1

openSUSE Leap 15
	Kernel: 4.18.0-240.10.1.el8_3.x86_64
	Compiler: gcc 7.5.0

Ubuntu 22.04
	Kernel: 4.18.0-240.10.1.el8_3.x86_64
	Compiler: gcc 11.3.0

RHEL8
	Kernel: 4.18.0-240.10.1.el8_3.x86_64
	Compiler: gcc 8.3.1 20191121 (Red Hat 8.3.1-5)

Ubuntu 20.04
	Kernel: 5.4.0-153-generic
	Compiler: gcc 9.4.0-1ubuntu1~20.04.1

Alpine
	Kernel: 5.4.0-73-generic
	Compiler: gcc (Alpine 10.3.1_git20210424) 10.3.1 20210424

Windows Server 2019
	Kernel: 10.0
	Compiler: clang 14.0 and gcc 8.1.0 (MinGW)

To view detailed results, visit:
https://lab.dpdk.org/results/dashboard/patchsets/27299/

UNH-IOL DPDK Community Lab

To manage your email subscriptions, visit: 
https://lab.dpdk.org/results/dashboard/preferences/subscriptions/