From mboxrd@z Thu Jan  1 00:00:00 1970
Return-Path: <test-report-bounces@dpdk.org>
Received: from mails.dpdk.org (mails.dpdk.org [217.70.189.124])
	by inbox.dpdk.org (Postfix) with ESMTP id 911BA43034
	for <public@inbox.dpdk.org>; Fri, 11 Aug 2023 15:42:38 +0200 (CEST)
Received: from mails.dpdk.org (localhost [127.0.0.1])
	by mails.dpdk.org (Postfix) with ESMTP id 8B64E40E03;
	Fri, 11 Aug 2023 15:42:38 +0200 (CEST)
Received: from mail-qv1-f100.google.com (mail-qv1-f100.google.com
 [209.85.219.100])
 by mails.dpdk.org (Postfix) with ESMTP id 6676340E03
 for <test-report@dpdk.org>; Fri, 11 Aug 2023 15:42:36 +0200 (CEST)
Received: by mail-qv1-f100.google.com with SMTP id
 6a1803df08f44-6418d8a659fso3664326d6.0
 for <test-report@dpdk.org>; Fri, 11 Aug 2023 06:42:36 -0700 (PDT)
DKIM-Signature: v=1; a=rsa-sha256; c=relaxed/relaxed;
 d=iol.unh.edu; s=unh-iol; t=1691761356; x=1692366156;
 h=cc:to:from:subject:message-id:date:from:to:cc:subject:date
 :message-id:reply-to;
 bh=vq4uIaOYgyd8hqoPkjr2dyyLryKF/kWcNs+EaJVT3dc=;
 b=Ty1RYdycClc0OQQL9fYM5vQLfurjqrqM+zVrRias3GvGrhsQ1O6cT8qPac1q3Ph+4r
 S0D7mzPLtM6Rk6Yz0cJhZ5EFrajWF+3VG4dtze5TXCavpbt1ilSDinT8Dl6A5yHnaRT5
 1sCJmUubEEoXDoqg2IsX8Kdh5dOInyJwZut8w=
X-Google-DKIM-Signature: v=1; a=rsa-sha256; c=relaxed/relaxed;
 d=1e100.net; s=20221208; t=1691761356; x=1692366156;
 h=cc:to:from:subject:message-id:date:x-gm-message-state:from:to:cc
 :subject:date:message-id:reply-to;
 bh=vq4uIaOYgyd8hqoPkjr2dyyLryKF/kWcNs+EaJVT3dc=;
 b=Qss2IEQmmFudWivOvSVqBx7u/gYK3Hq07DTKL65UjecYNDWRZuLqjiGrTmQ1gd1PQ+
 b/Lb5RdSnLie8V7DIu6VyAbxa/73Vme3FUXf8RSf5hUZM2lIEveXlk4NjTakGwD2kk/C
 g3L6etGJdo8pZOIGtySgwQaA+9Yp2v7j3GTfa1wB2MEe7i6xRLbuwCCjL0ZIt7W4Ze+1
 A+a0ggHEwBiKf75DcimQWCpJZ+Dcp4FpAhHluipA2cu0UUy0mXqeVlDSi+6yxLEanlhq
 FesZFLlwgrtUzY3Sy8RcF7D/VbkENSZOEw277MMwl5Qx+GCGtGAjNsl+1kjiDTbjs/qp
 Wjuw==
X-Gm-Message-State: AOJu0YxeTp3wv8drGXSu13aRjTdYwjDJgsDYbMKwETIxJysGw1peS0O8
 k/es6t5yGcwK1746KUOpeZSWbYscOu+wJzWpkgNRrbhao/90WQcINv6hVQ==
X-Google-Smtp-Source: AGHT+IHvhAhm9v5v73YBCdPQkGoaX2chAY/PisD9Ghf8WlW7ySd2JV2qeyXK4ZRN48BJyDVKx00N51a8z7AJ
X-Received: by 2002:a05:6214:4a5a:b0:641:8c22:37be with SMTP id
 ph26-20020a0562144a5a00b006418c2237bemr1448296qvb.42.1691761355863; 
 Fri, 11 Aug 2023 06:42:35 -0700 (PDT)
Received: from postal.iol.unh.edu (postal.iol.unh.edu. [132.177.123.84])
 by smtp-relay.gmail.com with ESMTPS id
 a9-20020a0c8bc9000000b0063d7740f04esm177288qvc.39.2023.08.11.06.42.35
 (version=TLS1_2 cipher=ECDHE-ECDSA-AES128-GCM-SHA256 bits=128/128);
 Fri, 11 Aug 2023 06:42:35 -0700 (PDT)
X-Relaying-Domain: iol.unh.edu
Date: Fri, 11 Aug 2023 06:42:35 -0700 (PDT)
Message-ID: <64d63acb.0c0a0220.1a22e.998cSMTPIN_ADDED_MISSING@mx.google.com>
Received: from [172.21.0.2] (unknown [172.18.0.240])
 by postal.iol.unh.edu (Postfix) with ESMTP id 914936052471;
 Fri, 11 Aug 2023 09:42:35 -0400 (EDT)
Subject: |SUCCESS| pw130104 [PATCH] dma/idxd: add reset in the init routine
From: dpdklab@iol.unh.edu
To: Test Report <test-report@dpdk.org>
Cc: dpdk-test-reports@iol.unh.edu
Content-Type: text/plain
X-BeenThere: test-report@dpdk.org
X-Mailman-Version: 2.1.29
Precedence: list
List-Id: automatic DPDK test reports <test-report.dpdk.org>
List-Unsubscribe: <https://mails.dpdk.org/options/test-report>,
 <mailto:test-report-request@dpdk.org?subject=unsubscribe>
List-Archive: <http://mails.dpdk.org/archives/test-report/>
List-Post: <mailto:test-report@dpdk.org>
List-Help: <mailto:test-report-request@dpdk.org?subject=help>
List-Subscribe: <https://mails.dpdk.org/listinfo/test-report>,
 <mailto:test-report-request@dpdk.org?subject=subscribe>
Errors-To: test-report-bounces@dpdk.org

Test-Label: iol-unit-amd64-testing
Test-Status: SUCCESS
http://dpdk.org/patch/130104

_Testing PASS_

Submitter: Frank Du <frank.du@intel.com>
Date: Friday, August 11 2023 02:10:54 
DPDK git baseline: Repo:dpdk
  Branch: master
  CommitID:70b6941e4e22d67bc10495d1638234a7e974f582

130104 --> testing pass

Test environment and result as below:

+---------------------+----------------+
|     Environment     | dpdk_unit_test |
+=====================+================+
| Windows Server 2019 | PASS           |
+---------------------+----------------+
| CentOS Stream 9     | PASS           |
+---------------------+----------------+
| Debian Bullseye     | PASS           |
+---------------------+----------------+
| CentOS Stream 8     | PASS           |
+---------------------+----------------+
| Debian Buster       | PASS           |
+---------------------+----------------+
| Fedora 37           | PASS           |
+---------------------+----------------+
| Fedora 38           | PASS           |
+---------------------+----------------+
| openSUSE Leap 15    | PASS           |
+---------------------+----------------+
| RHEL8               | PASS           |
+---------------------+----------------+


Windows Server 2019
	Kernel: 10.0
	Compiler: clang 14.0 and gcc 8.1.0 (MinGW)

CentOS Stream 9
	Kernel: 4.18.0-240.10.1.el8_3.x86_64
	Compiler: gcc 11.3.1 20220421

Debian Bullseye
	Kernel: 5.4.0-122-generic
	Compiler: gcc 10.2.1-6

CentOS Stream 8
	Kernel: 4.18.0-240.10.1.el8_3.x86_64
	Compiler: gcc 8.4.1 20200928

Debian Buster
	Kernel: 5.4.0-122-generic
	Compiler: gcc 8.3.0-6

Fedora 37
	Kernel: Depends on container host system
	Compiler: gcc 12.3.1

Fedora 38
	Kernel: Depends on container host
	Compiler: gcc 13.1.1

openSUSE Leap 15
	Kernel: 4.18.0-240.10.1.el8_3.x86_64
	Compiler: gcc 7.5.0

RHEL8
	Kernel: 4.18.0-240.10.1.el8_3.x86_64
	Compiler: gcc 8.3.1 20191121 (Red Hat 8.3.1-5)

To view detailed results, visit:
https://lab.dpdk.org/results/dashboard/patchsets/27291/

UNH-IOL DPDK Community Lab

To manage your email subscriptions, visit: 
https://lab.dpdk.org/results/dashboard/preferences/subscriptions/