From mboxrd@z Thu Jan  1 00:00:00 1970
Return-Path: <test-report-bounces@dpdk.org>
Received: from mails.dpdk.org (mails.dpdk.org [217.70.189.124])
	by inbox.dpdk.org (Postfix) with ESMTP id A08BB43034
	for <public@inbox.dpdk.org>; Fri, 11 Aug 2023 15:42:57 +0200 (CEST)
Received: from mails.dpdk.org (localhost [127.0.0.1])
	by mails.dpdk.org (Postfix) with ESMTP id 9C5E140E03;
	Fri, 11 Aug 2023 15:42:57 +0200 (CEST)
Received: from mail-io1-f99.google.com (mail-io1-f99.google.com
 [209.85.166.99]) by mails.dpdk.org (Postfix) with ESMTP id A736A40E03
 for <test-report@dpdk.org>; Fri, 11 Aug 2023 15:42:55 +0200 (CEST)
Received: by mail-io1-f99.google.com with SMTP id
 ca18e2360f4ac-790c6d966e0so70321239f.0
 for <test-report@dpdk.org>; Fri, 11 Aug 2023 06:42:55 -0700 (PDT)
DKIM-Signature: v=1; a=rsa-sha256; c=relaxed/relaxed;
 d=iol.unh.edu; s=unh-iol; t=1691761375; x=1692366175;
 h=cc:to:from:subject:message-id:date:from:to:cc:subject:date
 :message-id:reply-to;
 bh=BruedEbBO8643KD9b9R2Z1Lr1rbbpsWBUEWwXIHfv8w=;
 b=g9igydcyGgVorbR7LSFvnz2saDT9owrX5sLsR5hW8WxZEWetMkQ0o7TcAhgg2YskFb
 OoXzZqeEY13p5OeJmbNQe1WD/QckYFerUzPurpx91yv2au/P9wjO/1YMuH35IeNdyqRl
 sCEeDcP3oD6+yMewpe/Rr49usoQHfmaVtqJHA=
X-Google-DKIM-Signature: v=1; a=rsa-sha256; c=relaxed/relaxed;
 d=1e100.net; s=20221208; t=1691761375; x=1692366175;
 h=cc:to:from:subject:message-id:date:x-gm-message-state:from:to:cc
 :subject:date:message-id:reply-to;
 bh=BruedEbBO8643KD9b9R2Z1Lr1rbbpsWBUEWwXIHfv8w=;
 b=fB58Hg3DoUbTU+sRET39/XpDz8McXImNRYJpqyesn0GYtGwYJw83JA3XC2pFB8rcSW
 tpRWcsTZOdI9gW2vHOeEyJiJeR6lb0BAlRrHTleOvM+AbK31/AykfS17+qnAumcHWmHq
 uAF7Zbppvou9k424iyoATijstZgJ+g4p7SlbMngNDMhHl4eU2tkG7qRYgZKj5z6E0rxO
 +AlFjsyp8k+4ZSBxV7/Hk4RP7nRW4YTTSVG+VHaowLMIjY97LsT10/enSQYfueE5uR+h
 F5Uwe5JM4vZdBL4U42osGeg7Zlw7C/1vOOpFYRI9khdD7FB0BN60dHAko6Zp/bxqWZZY
 nsUQ==
X-Gm-Message-State: AOJu0YyEPXfS6n03UpKUEigoMfescCS8n9iy47tijdbbmViK3ZlOLFf7
 FVauR+/kz2QiKA1ni3cmBYv/QQ6iKfsHrzXsoRYPSvozCx/tQMewl4RdulhwpSz3U5ilXYfdBQ=
 =
X-Google-Smtp-Source: AGHT+IFtlOHGNkNof3cbQntoWE74FkOs5MnwkKQFTEKrgYhfqoAmSEYFHvPD8QqGJrZ370Sagh5kQXUkUN3m
X-Received: by 2002:a6b:5904:0:b0:786:2878:9593 with SMTP id
 n4-20020a6b5904000000b0078628789593mr2352871iob.0.1691761375084; 
 Fri, 11 Aug 2023 06:42:55 -0700 (PDT)
Received: from postal.iol.unh.edu (postal.iol.unh.edu.
 [2606:4100:3880:1234::84]) by smtp-relay.gmail.com with ESMTPS id
 ep3-20020a0566384e0300b0042bbc94596fsm143728jab.52.2023.08.11.06.42.54
 (version=TLS1_2 cipher=ECDHE-ECDSA-AES128-GCM-SHA256 bits=128/128);
 Fri, 11 Aug 2023 06:42:55 -0700 (PDT)
X-Relaying-Domain: iol.unh.edu
Date: Fri, 11 Aug 2023 06:42:55 -0700 (PDT)
Message-ID: <64d63adf.050a0220.cc264.751eSMTPIN_ADDED_MISSING@mx.google.com>
Received: from [172.21.0.2] (unknown [172.18.0.240])
 by postal.iol.unh.edu (Postfix) with ESMTP id 94B676052471;
 Fri, 11 Aug 2023 09:42:54 -0400 (EDT)
Subject: |SUCCESS| pw130150 [PATCH] app/test: add external mbuf IPsec tests
From: dpdklab@iol.unh.edu
To: Test Report <test-report@dpdk.org>
Cc: dpdk-test-reports@iol.unh.edu
Content-Type: text/plain
X-BeenThere: test-report@dpdk.org
X-Mailman-Version: 2.1.29
Precedence: list
List-Id: automatic DPDK test reports <test-report.dpdk.org>
List-Unsubscribe: <https://mails.dpdk.org/options/test-report>,
 <mailto:test-report-request@dpdk.org?subject=unsubscribe>
List-Archive: <http://mails.dpdk.org/archives/test-report/>
List-Post: <mailto:test-report@dpdk.org>
List-Help: <mailto:test-report-request@dpdk.org?subject=help>
List-Subscribe: <https://mails.dpdk.org/listinfo/test-report>,
 <mailto:test-report-request@dpdk.org?subject=subscribe>
Errors-To: test-report-bounces@dpdk.org

Test-Label: iol-compile-amd64-testing
Test-Status: SUCCESS
http://dpdk.org/patch/130150

_Testing PASS_

Submitter: Tejasree Kondoj <ktejasree@marvell.com>
Date: Friday, August 11 2023 09:42:37 
DPDK git baseline: Repo:dpdk
  Branch: master
  CommitID:70b6941e4e22d67bc10495d1638234a7e974f582

130150 --> testing pass

Test environment and result as below:

+---------------------+--------------------+
|     Environment     | dpdk_meson_compile |
+=====================+====================+
| CentOS Stream 8     | PASS               |
+---------------------+--------------------+
| Debian Bullseye     | PASS               |
+---------------------+--------------------+
| Debian Buster       | PASS               |
+---------------------+--------------------+
| CentOS Stream 9     | PASS               |
+---------------------+--------------------+
| FreeBSD 13          | PASS               |
+---------------------+--------------------+
| Fedora 37           | PASS               |
+---------------------+--------------------+
| Fedora 38           | PASS               |
+---------------------+--------------------+
| openSUSE Leap 15    | PASS               |
+---------------------+--------------------+
| Ubuntu 22.04        | PASS               |
+---------------------+--------------------+
| RHEL8               | PASS               |
+---------------------+--------------------+
| Ubuntu 20.04        | PASS               |
+---------------------+--------------------+
| Alpine              | PASS               |
+---------------------+--------------------+
| Windows Server 2019 | PASS               |
+---------------------+--------------------+


CentOS Stream 8
	Kernel: 4.18.0-240.10.1.el8_3.x86_64
	Compiler: gcc 8.4.1 20200928

Debian Bullseye
	Kernel: 5.4.0-122-generic
	Compiler: gcc 10.2.1-6

Debian Buster
	Kernel: 5.4.0-122-generic
	Compiler: gcc 8.3.0-6

CentOS Stream 9
	Kernel: 4.18.0-240.10.1.el8_3.x86_64
	Compiler: gcc 11.3.1 20220421

FreeBSD 13
	Kernel: 13.0
	Compiler: clang 11.0.1

Fedora 37
	Kernel: Depends on container host system
	Compiler: gcc 12.3.1

Fedora 38
	Kernel: Depends on container host
	Compiler: gcc 13.1.1

openSUSE Leap 15
	Kernel: 4.18.0-240.10.1.el8_3.x86_64
	Compiler: gcc 7.5.0

Ubuntu 22.04
	Kernel: 4.18.0-240.10.1.el8_3.x86_64
	Compiler: gcc 11.3.0

RHEL8
	Kernel: 4.18.0-240.10.1.el8_3.x86_64
	Compiler: gcc 8.3.1 20191121 (Red Hat 8.3.1-5)

Ubuntu 20.04
	Kernel: 5.4.0-153-generic
	Compiler: gcc 9.4.0-1ubuntu1~20.04.1

Alpine
	Kernel: 5.4.0-73-generic
	Compiler: gcc (Alpine 10.3.1_git20210424) 10.3.1 20210424

Windows Server 2019
	Kernel: 10.0
	Compiler: clang 14.0 and gcc 8.1.0 (MinGW)

To view detailed results, visit:
https://lab.dpdk.org/results/dashboard/patchsets/27299/

UNH-IOL DPDK Community Lab

To manage your email subscriptions, visit: 
https://lab.dpdk.org/results/dashboard/preferences/subscriptions/