From mboxrd@z Thu Jan  1 00:00:00 1970
Return-Path: <test-report-bounces@dpdk.org>
Received: from mails.dpdk.org (mails.dpdk.org [217.70.189.124])
	by inbox.dpdk.org (Postfix) with ESMTP id C416643035
	for <public@inbox.dpdk.org>; Fri, 11 Aug 2023 16:02:12 +0200 (CEST)
Received: from mails.dpdk.org (localhost [127.0.0.1])
	by mails.dpdk.org (Postfix) with ESMTP id BE48A40E03;
	Fri, 11 Aug 2023 16:02:12 +0200 (CEST)
Received: from mail-oo1-f98.google.com (mail-oo1-f98.google.com
 [209.85.161.98]) by mails.dpdk.org (Postfix) with ESMTP id ACDB940E03
 for <test-report@dpdk.org>; Fri, 11 Aug 2023 16:02:11 +0200 (CEST)
Received: by mail-oo1-f98.google.com with SMTP id
 006d021491bc7-56d0d7300d9so1595400eaf.1
 for <test-report@dpdk.org>; Fri, 11 Aug 2023 07:02:11 -0700 (PDT)
DKIM-Signature: v=1; a=rsa-sha256; c=relaxed/relaxed;
 d=iol.unh.edu; s=unh-iol; t=1691762531; x=1692367331;
 h=cc:to:from:subject:message-id:date:from:to:cc:subject:date
 :message-id:reply-to;
 bh=ZbJLe5j41R1OrYSUbg4Z6i6h/Qa6eHr0bjn9QmrDSJQ=;
 b=NXYzpPljgLJK2/IgYOewhwNDLCNu7101IcuvR2fRG8qDWtY0Np5rlrajSpJzbhzG4D
 MITcyG12tWZwg7VylPekNNp78OFl0/o3ehFFwMOh+oduDh186bmchAUImQQG+u8JVsBv
 z8tat+hrB3eK9rgES4yy6hSB0VVo3Eh9Zo5T0=
X-Google-DKIM-Signature: v=1; a=rsa-sha256; c=relaxed/relaxed;
 d=1e100.net; s=20221208; t=1691762531; x=1692367331;
 h=cc:to:from:subject:message-id:date:x-gm-message-state:from:to:cc
 :subject:date:message-id:reply-to;
 bh=ZbJLe5j41R1OrYSUbg4Z6i6h/Qa6eHr0bjn9QmrDSJQ=;
 b=ExNOWgh27t5/TidBn3tNLyP/NAYCq2cdfW/k+iWgEDmkjiQeEuXM3SEoBhYbrDThzW
 zD1QWhHjnLFn7NK7e81U8IM1KkjiYbGPPUzYJg9tI/+Zas6h3EDRx4xRW3n5vy4obvhO
 LeSgpMnHsxjLwDsyKH28hexT5UkVGmR/kF5nSMHkIjz4Q3+zNl44OC6wW5toSoYn4/WJ
 mRbHAqijhrokORIyeWjGDoNLH9O36Ei1NOm3LYSf5/4jamoko0jia+kVj+7RYsrEZhED
 M/tIebpSKHUW8CQu38lP72FzHB8QT7IVcpY1wR23zvpepzdZ3f+lu/DovZblWnpCwt12
 J8SQ==
X-Gm-Message-State: AOJu0YygX3SnoWsJE9xRUttCTs7qEYm0fPyhrhzJDCPAGkrptAg9hPSS
 B1YtTA4NJMJYMTwtgaWQCksj2JzMLScTDcH5o6WsSrPHtf2ToTRmg4LNOg==
X-Google-Smtp-Source: AGHT+IFxDA+hViBFwB2eGjCa5YPWJzbcdeUXO5v8wpOkknT6AL2qBPe7DCTA5pQkhybKXTe9Y50gcoqqvj6d
X-Received: by 2002:a4a:d1db:0:b0:56c:e4b7:2c0d with SMTP id
 a27-20020a4ad1db000000b0056ce4b72c0dmr1446202oos.1.1691762530955; 
 Fri, 11 Aug 2023 07:02:10 -0700 (PDT)
Received: from postal.iol.unh.edu (postal.iol.unh.edu. [132.177.123.84])
 by smtp-relay.gmail.com with ESMTPS id
 k187-20020a4a4ac4000000b0056cd455542fsm248290oob.0.2023.08.11.07.02.10
 (version=TLS1_2 cipher=ECDHE-ECDSA-AES128-GCM-SHA256 bits=128/128);
 Fri, 11 Aug 2023 07:02:10 -0700 (PDT)
X-Relaying-Domain: iol.unh.edu
Date: Fri, 11 Aug 2023 07:02:10 -0700 (PDT)
Message-ID: <64d63f62.4a0a0220.18966.cc23SMTPIN_ADDED_MISSING@mx.google.com>
Received: from [172.21.0.2] (unknown [172.18.0.240])
 by postal.iol.unh.edu (Postfix) with ESMTP id 6E9626052471;
 Fri, 11 Aug 2023 10:02:10 -0400 (EDT)
Subject: |SUCCESS| pw130104 [PATCH] dma/idxd: add reset in the init routine
From: dpdklab@iol.unh.edu
To: Test Report <test-report@dpdk.org>
Cc: dpdk-test-reports@iol.unh.edu
Content-Type: text/plain
X-BeenThere: test-report@dpdk.org
X-Mailman-Version: 2.1.29
Precedence: list
List-Id: automatic DPDK test reports <test-report.dpdk.org>
List-Unsubscribe: <https://mails.dpdk.org/options/test-report>,
 <mailto:test-report-request@dpdk.org?subject=unsubscribe>
List-Archive: <http://mails.dpdk.org/archives/test-report/>
List-Post: <mailto:test-report@dpdk.org>
List-Help: <mailto:test-report-request@dpdk.org?subject=help>
List-Subscribe: <https://mails.dpdk.org/listinfo/test-report>,
 <mailto:test-report-request@dpdk.org?subject=subscribe>
Errors-To: test-report-bounces@dpdk.org

Test-Label: iol-unit-amd64-testing
Test-Status: SUCCESS
http://dpdk.org/patch/130104

_Testing PASS_

Submitter: Frank Du <frank.du@intel.com>
Date: Friday, August 11 2023 02:10:54 
DPDK git baseline: Repo:dpdk
  Branch: master
  CommitID:70b6941e4e22d67bc10495d1638234a7e974f582

130104 --> testing pass

Test environment and result as below:

+---------------------+----------------+
|     Environment     | dpdk_unit_test |
+=====================+================+
| Windows Server 2019 | PASS           |
+---------------------+----------------+
| CentOS Stream 9     | PASS           |
+---------------------+----------------+
| Debian Bullseye     | PASS           |
+---------------------+----------------+
| CentOS Stream 8     | PASS           |
+---------------------+----------------+
| Debian Buster       | PASS           |
+---------------------+----------------+
| Fedora 37           | PASS           |
+---------------------+----------------+
| Fedora 38           | PASS           |
+---------------------+----------------+
| openSUSE Leap 15    | PASS           |
+---------------------+----------------+
| RHEL8               | PASS           |
+---------------------+----------------+
| Ubuntu 20.04        | PASS           |
+---------------------+----------------+
| Ubuntu 22.04        | PASS           |
+---------------------+----------------+


Windows Server 2019
	Kernel: 10.0
	Compiler: clang 14.0 and gcc 8.1.0 (MinGW)

CentOS Stream 9
	Kernel: 4.18.0-240.10.1.el8_3.x86_64
	Compiler: gcc 11.3.1 20220421

Debian Bullseye
	Kernel: 5.4.0-122-generic
	Compiler: gcc 10.2.1-6

CentOS Stream 8
	Kernel: 4.18.0-240.10.1.el8_3.x86_64
	Compiler: gcc 8.4.1 20200928

Debian Buster
	Kernel: 5.4.0-122-generic
	Compiler: gcc 8.3.0-6

Fedora 37
	Kernel: Depends on container host system
	Compiler: gcc 12.3.1

Fedora 38
	Kernel: Depends on container host
	Compiler: gcc 13.1.1

openSUSE Leap 15
	Kernel: 4.18.0-240.10.1.el8_3.x86_64
	Compiler: gcc 7.5.0

RHEL8
	Kernel: 4.18.0-240.10.1.el8_3.x86_64
	Compiler: gcc 8.3.1 20191121 (Red Hat 8.3.1-5)

Ubuntu 20.04
	Kernel: 5.4.0-153-generic
	Compiler: gcc 9.4.0-1ubuntu1~20.04.1

Ubuntu 22.04
	Kernel: 4.18.0-240.10.1.el8_3.x86_64
	Compiler: gcc 11.3.0

To view detailed results, visit:
https://lab.dpdk.org/results/dashboard/patchsets/27291/

UNH-IOL DPDK Community Lab

To manage your email subscriptions, visit: 
https://lab.dpdk.org/results/dashboard/preferences/subscriptions/