From mboxrd@z Thu Jan  1 00:00:00 1970
Return-Path: <test-report-bounces@dpdk.org>
Received: from mails.dpdk.org (mails.dpdk.org [217.70.189.124])
	by inbox.dpdk.org (Postfix) with ESMTP id 8143D43035
	for <public@inbox.dpdk.org>; Fri, 11 Aug 2023 16:07:17 +0200 (CEST)
Received: from mails.dpdk.org (localhost [127.0.0.1])
	by mails.dpdk.org (Postfix) with ESMTP id 7B5F740E03;
	Fri, 11 Aug 2023 16:07:17 +0200 (CEST)
Received: from mail-oo1-f98.google.com (mail-oo1-f98.google.com
 [209.85.161.98]) by mails.dpdk.org (Postfix) with ESMTP id 7931F40E03
 for <test-report@dpdk.org>; Fri, 11 Aug 2023 16:07:16 +0200 (CEST)
Received: by mail-oo1-f98.google.com with SMTP id
 006d021491bc7-56cb1e602e7so1625524eaf.1
 for <test-report@dpdk.org>; Fri, 11 Aug 2023 07:07:16 -0700 (PDT)
DKIM-Signature: v=1; a=rsa-sha256; c=relaxed/relaxed;
 d=iol.unh.edu; s=unh-iol; t=1691762836; x=1692367636;
 h=cc:to:from:subject:message-id:date:from:to:cc:subject:date
 :message-id:reply-to;
 bh=ZbJLe5j41R1OrYSUbg4Z6i6h/Qa6eHr0bjn9QmrDSJQ=;
 b=HnUSC8acqgCNQ0lpLer0FiKCGOS7VpQ0OIwjZE2NFORI4JCIhoQGKJ4DG2PrXR7Eg0
 DiYPMVCwbWrBq2zQoP2DNRSP7u+EcSBX5Ox+uXhgqWWf/Hh3SLbDmXzO2Ehr5reELP6n
 k6lTitLcaDQ8TwI1ClYTK1+6JXeRwb/eOjTMk=
X-Google-DKIM-Signature: v=1; a=rsa-sha256; c=relaxed/relaxed;
 d=1e100.net; s=20221208; t=1691762836; x=1692367636;
 h=cc:to:from:subject:message-id:date:x-gm-message-state:from:to:cc
 :subject:date:message-id:reply-to;
 bh=ZbJLe5j41R1OrYSUbg4Z6i6h/Qa6eHr0bjn9QmrDSJQ=;
 b=OWbEJDmrMRJNmezXtcR/9zmKMq0bgB+1nDB2UefzxsfQXCpRohsfqSFo20hu/Dglqd
 zOSoa7g+ke0V6A81BpmsHD/iw6JmFWtXhGnnHh/+kbeD4GsUw9FBOQ00tKxhxZFz1RKd
 pRXYtautOt9pb03rhr1g72iALmuBN809BzDsPgorpNuS9l8kxA28K2N9AzD4IgW7HRvO
 cU3k2O9TDBQFx2ito+an/2umPLHk1QumYYQofpeItwvowuaUp0ChV3q7QbbM6Ln+MCIQ
 51fj4zx+9VqvEk2eXtF4rIJqjHAr/PMH/IWNZbgr5/ICNyNexszocxr8jylhKCxQ6vaN
 jz5Q==
X-Gm-Message-State: AOJu0YwGVxUPsLE2U8eUTclJkFETWQHXIdHunclHFKyNO7bZZLGrSeDn
 BnQ7tinHX2f8xonm26ADAwDFDIlfS2k3twYqWqc9t4YztqM0Dose21a/sXaiTy5rhRP1LuK32Q=
 =
X-Google-Smtp-Source: AGHT+IEu1LeUITfShBIiJhJ5bjubtktX6h2aOG+KpDEJkZprOKgnkA0qggiT1xeldYfV2Pu+roNnR1N3ZotN
X-Received: by 2002:a4a:6c54:0:b0:566:f3f1:5f5c with SMTP id
 u20-20020a4a6c54000000b00566f3f15f5cmr1145364oof.9.1691762835809; 
 Fri, 11 Aug 2023 07:07:15 -0700 (PDT)
Received: from postal.iol.unh.edu (postal.iol.unh.edu.
 [2606:4100:3880:1234::84]) by smtp-relay.gmail.com with ESMTPS id
 r128-20020a4a4e86000000b00565e64ed176sm240109ooa.20.2023.08.11.07.07.15
 (version=TLS1_2 cipher=ECDHE-ECDSA-AES128-GCM-SHA256 bits=128/128);
 Fri, 11 Aug 2023 07:07:15 -0700 (PDT)
X-Relaying-Domain: iol.unh.edu
Date: Fri, 11 Aug 2023 07:07:15 -0700 (PDT)
Message-ID: <64d64093.4a0a0220.6adf6.c3daSMTPIN_ADDED_MISSING@mx.google.com>
Received: from [172.21.0.2] (unknown [172.18.0.240])
 by postal.iol.unh.edu (Postfix) with ESMTP id 4BF5D6052471;
 Fri, 11 Aug 2023 10:07:15 -0400 (EDT)
Subject: |SUCCESS| pw130104 [PATCH] dma/idxd: add reset in the init routine
From: dpdklab@iol.unh.edu
To: Test Report <test-report@dpdk.org>
Cc: dpdk-test-reports@iol.unh.edu
Content-Type: text/plain
X-BeenThere: test-report@dpdk.org
X-Mailman-Version: 2.1.29
Precedence: list
List-Id: automatic DPDK test reports <test-report.dpdk.org>
List-Unsubscribe: <https://mails.dpdk.org/options/test-report>,
 <mailto:test-report-request@dpdk.org?subject=unsubscribe>
List-Archive: <http://mails.dpdk.org/archives/test-report/>
List-Post: <mailto:test-report@dpdk.org>
List-Help: <mailto:test-report-request@dpdk.org?subject=help>
List-Subscribe: <https://mails.dpdk.org/listinfo/test-report>,
 <mailto:test-report-request@dpdk.org?subject=subscribe>
Errors-To: test-report-bounces@dpdk.org

Test-Label: iol-unit-amd64-testing
Test-Status: SUCCESS
http://dpdk.org/patch/130104

_Testing PASS_

Submitter: Frank Du <frank.du@intel.com>
Date: Friday, August 11 2023 02:10:54 
DPDK git baseline: Repo:dpdk
  Branch: master
  CommitID:70b6941e4e22d67bc10495d1638234a7e974f582

130104 --> testing pass

Test environment and result as below:

+---------------------+----------------+
|     Environment     | dpdk_unit_test |
+=====================+================+
| Windows Server 2019 | PASS           |
+---------------------+----------------+
| CentOS Stream 9     | PASS           |
+---------------------+----------------+
| Debian Bullseye     | PASS           |
+---------------------+----------------+
| CentOS Stream 8     | PASS           |
+---------------------+----------------+
| Debian Buster       | PASS           |
+---------------------+----------------+
| Fedora 37           | PASS           |
+---------------------+----------------+
| Fedora 38           | PASS           |
+---------------------+----------------+
| openSUSE Leap 15    | PASS           |
+---------------------+----------------+
| RHEL8               | PASS           |
+---------------------+----------------+
| Ubuntu 20.04        | PASS           |
+---------------------+----------------+
| Ubuntu 22.04        | PASS           |
+---------------------+----------------+


Windows Server 2019
	Kernel: 10.0
	Compiler: clang 14.0 and gcc 8.1.0 (MinGW)

CentOS Stream 9
	Kernel: 4.18.0-240.10.1.el8_3.x86_64
	Compiler: gcc 11.3.1 20220421

Debian Bullseye
	Kernel: 5.4.0-122-generic
	Compiler: gcc 10.2.1-6

CentOS Stream 8
	Kernel: 4.18.0-240.10.1.el8_3.x86_64
	Compiler: gcc 8.4.1 20200928

Debian Buster
	Kernel: 5.4.0-122-generic
	Compiler: gcc 8.3.0-6

Fedora 37
	Kernel: Depends on container host system
	Compiler: gcc 12.3.1

Fedora 38
	Kernel: Depends on container host
	Compiler: gcc 13.1.1

openSUSE Leap 15
	Kernel: 4.18.0-240.10.1.el8_3.x86_64
	Compiler: gcc 7.5.0

RHEL8
	Kernel: 4.18.0-240.10.1.el8_3.x86_64
	Compiler: gcc 8.3.1 20191121 (Red Hat 8.3.1-5)

Ubuntu 20.04
	Kernel: 5.4.0-153-generic
	Compiler: gcc 9.4.0-1ubuntu1~20.04.1

Ubuntu 22.04
	Kernel: 4.18.0-240.10.1.el8_3.x86_64
	Compiler: gcc 11.3.0

To view detailed results, visit:
https://lab.dpdk.org/results/dashboard/patchsets/27291/

UNH-IOL DPDK Community Lab

To manage your email subscriptions, visit: 
https://lab.dpdk.org/results/dashboard/preferences/subscriptions/