From mboxrd@z Thu Jan  1 00:00:00 1970
Return-Path: <test-report-bounces@dpdk.org>
Received: from mails.dpdk.org (mails.dpdk.org [217.70.189.124])
	by inbox.dpdk.org (Postfix) with ESMTP id D98CA43035
	for <public@inbox.dpdk.org>; Fri, 11 Aug 2023 17:28:53 +0200 (CEST)
Received: from mails.dpdk.org (localhost [127.0.0.1])
	by mails.dpdk.org (Postfix) with ESMTP id D3E6740144;
	Fri, 11 Aug 2023 17:28:53 +0200 (CEST)
Received: from mail-qv1-f100.google.com (mail-qv1-f100.google.com
 [209.85.219.100])
 by mails.dpdk.org (Postfix) with ESMTP id 61ABE40144
 for <test-report@dpdk.org>; Fri, 11 Aug 2023 17:28:52 +0200 (CEST)
Received: by mail-qv1-f100.google.com with SMTP id
 6a1803df08f44-6430bf73e1cso2811876d6.0
 for <test-report@dpdk.org>; Fri, 11 Aug 2023 08:28:52 -0700 (PDT)
DKIM-Signature: v=1; a=rsa-sha256; c=relaxed/relaxed;
 d=iol.unh.edu; s=unh-iol; t=1691767732; x=1692372532;
 h=cc:to:from:subject:message-id:date:from:to:cc:subject:date
 :message-id:reply-to;
 bh=E7zekOV2XOPRaSL3GnujTLzXPJ3oeC1aBnITzkDKGSo=;
 b=HWj1GBTjjnFJz0lr/tFqpJza75QVYAswzd5RRBYQeaqjJlv6mBURIS5ZfaM6VbmtSA
 PTGnmdlIvwrDlJdDC8cAu0iTLQPpDRIm8CcYescJU6zNsXvKL6gv7zMlajXpGOS73ZKZ
 Zr8y1jlqYNXcCwb7dvk+73HyVsof7qwiUdgjg=
X-Google-DKIM-Signature: v=1; a=rsa-sha256; c=relaxed/relaxed;
 d=1e100.net; s=20221208; t=1691767732; x=1692372532;
 h=cc:to:from:subject:message-id:date:x-gm-message-state:from:to:cc
 :subject:date:message-id:reply-to;
 bh=E7zekOV2XOPRaSL3GnujTLzXPJ3oeC1aBnITzkDKGSo=;
 b=gZahxjNCBOQAKkyeh1jAbZ7ZJEDcw6/93rLpmdSvOOwMVqXUpdav368QdGvt+Tao6C
 IsoR+wAgfwLhEnjQAB8KD3xvutpOmgZCZ2Rd6lwQfYOfdUE2RVQauNUHdK263Ga4rDDh
 j9t8nohXtsZSx9IcKYEIHnM9LXrOH58kTGLZwdRn+C8Muizvvl1BthhniU509/yzGeSo
 pIc/F9NNY3aOHb0HVriqg+Dyj4y4oYIqGci9zrbp/AE+h4Xfgwqlu9/3p9TftNySU1Ai
 U1evaG4TdGu4Z14sdlywUV5S9GZkgTopy0DG1junGsLyhUlrpCAD8VLemJ2RNE9nwb2N
 F5bg==
X-Gm-Message-State: AOJu0Yz8V5kYOHBYXYRQ8AM3B9iqZXey2Hcfe8T90/5dHBeXoHyYg7UK
 vGYDvo8o5hzEjSnol34kFIWM9CKvPYRikjPvfh4z0jcexhi9hVxixZO+Jw==
X-Google-Smtp-Source: AGHT+IExxz1bzcKKawoE/ic06kEk2yrrPIQ0lGhxVjT8fEOK8nUoWp1ijWfGxowp9QSjZlpNX5baxgetoe6V
X-Received: by 2002:a0c:e1c7:0:b0:63d:572:566 with SMTP id
 v7-20020a0ce1c7000000b0063d05720566mr1863665qvl.46.1691767731883; 
 Fri, 11 Aug 2023 08:28:51 -0700 (PDT)
Received: from postal.iol.unh.edu (postal.iol.unh.edu. [132.177.123.84])
 by smtp-relay.gmail.com with ESMTPS id
 f7-20020a0caa87000000b0063f80a05f8asm183900qvb.14.2023.08.11.08.28.51
 (version=TLS1_2 cipher=ECDHE-ECDSA-AES128-GCM-SHA256 bits=128/128);
 Fri, 11 Aug 2023 08:28:51 -0700 (PDT)
X-Relaying-Domain: iol.unh.edu
Date: Fri, 11 Aug 2023 08:28:51 -0700 (PDT)
Message-ID: <64d653b3.0c0a0220.a320c.9b76SMTPIN_ADDED_MISSING@mx.google.com>
Received: from [172.21.0.3] (unknown [172.18.0.240])
 by postal.iol.unh.edu (Postfix) with ESMTP id 9BA366052471;
 Fri, 11 Aug 2023 11:28:51 -0400 (EDT)
Subject: |SUCCESS| pw130150 [PATCH] app/test: add external mbuf IPsec tests
From: dpdklab@iol.unh.edu
To: Test Report <test-report@dpdk.org>
Cc: dpdk-test-reports@iol.unh.edu
Content-Type: text/plain
X-BeenThere: test-report@dpdk.org
X-Mailman-Version: 2.1.29
Precedence: list
List-Id: automatic DPDK test reports <test-report.dpdk.org>
List-Unsubscribe: <https://mails.dpdk.org/options/test-report>,
 <mailto:test-report-request@dpdk.org?subject=unsubscribe>
List-Archive: <http://mails.dpdk.org/archives/test-report/>
List-Post: <mailto:test-report@dpdk.org>
List-Help: <mailto:test-report-request@dpdk.org?subject=help>
List-Subscribe: <https://mails.dpdk.org/listinfo/test-report>,
 <mailto:test-report-request@dpdk.org?subject=subscribe>
Errors-To: test-report-bounces@dpdk.org

Test-Label: iol-unit-amd64-testing
Test-Status: SUCCESS
http://dpdk.org/patch/130150

_Testing PASS_

Submitter: Tejasree Kondoj <ktejasree@marvell.com>
Date: Friday, August 11 2023 09:42:37 
DPDK git baseline: Repo:dpdk
  Branch: master
  CommitID:70b6941e4e22d67bc10495d1638234a7e974f582

130150 --> testing pass

Test environment and result as below:

+---------------------+----------------+
|     Environment     | dpdk_unit_test |
+=====================+================+
| Windows Server 2019 | PASS           |
+---------------------+----------------+
| CentOS Stream 8     | PASS           |
+---------------------+----------------+
| Debian Buster       | PASS           |
+---------------------+----------------+
| CentOS Stream 9     | PASS           |
+---------------------+----------------+
| Fedora 37           | PASS           |
+---------------------+----------------+
| Debian Bullseye     | PASS           |
+---------------------+----------------+
| RHEL8               | PASS           |
+---------------------+----------------+
| Fedora 38           | PASS           |
+---------------------+----------------+
| openSUSE Leap 15    | PASS           |
+---------------------+----------------+


Windows Server 2019
	Kernel: 10.0
	Compiler: clang 14.0 and gcc 8.1.0 (MinGW)

CentOS Stream 8
	Kernel: 4.18.0-240.10.1.el8_3.x86_64
	Compiler: gcc 8.4.1 20200928

Debian Buster
	Kernel: 5.4.0-122-generic
	Compiler: gcc 8.3.0-6

CentOS Stream 9
	Kernel: 4.18.0-240.10.1.el8_3.x86_64
	Compiler: gcc 11.3.1 20220421

Fedora 37
	Kernel: Depends on container host system
	Compiler: gcc 12.3.1

Debian Bullseye
	Kernel: 5.4.0-122-generic
	Compiler: gcc 10.2.1-6

RHEL8
	Kernel: 4.18.0-240.10.1.el8_3.x86_64
	Compiler: gcc 8.3.1 20191121 (Red Hat 8.3.1-5)

Fedora 38
	Kernel: Depends on container host
	Compiler: gcc 13.1.1

openSUSE Leap 15
	Kernel: 4.18.0-240.10.1.el8_3.x86_64
	Compiler: gcc 7.5.0

To view detailed results, visit:
https://lab.dpdk.org/results/dashboard/patchsets/27299/

UNH-IOL DPDK Community Lab

To manage your email subscriptions, visit: 
https://lab.dpdk.org/results/dashboard/preferences/subscriptions/