From mboxrd@z Thu Jan  1 00:00:00 1970
Return-Path: <test-report-bounces@dpdk.org>
Received: from mails.dpdk.org (mails.dpdk.org [217.70.189.124])
	by inbox.dpdk.org (Postfix) with ESMTP id 48A2B43035
	for <public@inbox.dpdk.org>; Fri, 11 Aug 2023 17:50:39 +0200 (CEST)
Received: from mails.dpdk.org (localhost [127.0.0.1])
	by mails.dpdk.org (Postfix) with ESMTP id 43BF840144;
	Fri, 11 Aug 2023 17:50:39 +0200 (CEST)
Received: from mail-pf1-f226.google.com (mail-pf1-f226.google.com
 [209.85.210.226])
 by mails.dpdk.org (Postfix) with ESMTP id 860CD40144
 for <test-report@dpdk.org>; Fri, 11 Aug 2023 17:50:36 +0200 (CEST)
Received: by mail-pf1-f226.google.com with SMTP id
 d2e1a72fcca58-68706b39c4cso1625300b3a.2
 for <test-report@dpdk.org>; Fri, 11 Aug 2023 08:50:36 -0700 (PDT)
DKIM-Signature: v=1; a=rsa-sha256; c=relaxed/relaxed;
 d=iol.unh.edu; s=unh-iol; t=1691769036; x=1692373836;
 h=cc:to:from:subject:message-id:date:from:to:cc:subject:date
 :message-id:reply-to;
 bh=xY97IRT1F279sDRA1+c1RmF3zmZdWTYVBbigkTFU7JA=;
 b=EwbECCFHueRH4nBW8nI9PXe8WkKoCSO+kvhIOksKFZt7fiTKbUyW5BX/kt34bb8Mbj
 Z1vs0YsEzMC6mf8pxxUrFpWmOKQu5tBoMj2yG+ItL3MebPwOI1XY9yY5D9gSD6bqziHt
 RJ7qwJsBlAkDtrjCf+LgSWVEujXgvrFsJCQ9s=
X-Google-DKIM-Signature: v=1; a=rsa-sha256; c=relaxed/relaxed;
 d=1e100.net; s=20221208; t=1691769036; x=1692373836;
 h=cc:to:from:subject:message-id:date:x-gm-message-state:from:to:cc
 :subject:date:message-id:reply-to;
 bh=xY97IRT1F279sDRA1+c1RmF3zmZdWTYVBbigkTFU7JA=;
 b=EijMbuMqSSEzksACl+QxhmEvX9V1mYQ/tNTo8rSVmcpZFSjdoIb4V8LfdbpurF1GY0
 ZwV87UP+CnO2m3d6MeZo3FNELhLVg6Do0bmBzGOIwnJMJ4ekWjtNoUk9Mx81YkR7gJZs
 UgLfB/mIL9QAdLlC94X9YORzNwobI07MTzbpTO+kF6ohzMzSeWng4POARj3SyOdZBlrH
 XmlhtfzC1hgTfUxg/uzA2L8o8pUFTYSNGW1XMAJ0AJyLYfFgbegx/y6gENQ8bW/BMALH
 pcrW/lfrQZ/sQffY4QhWzPFIfJA3/5v8MG3Ub9n8V/0aFA5bmET/PiUdLPs5E2RTyvIc
 Ubbg==
X-Gm-Message-State: AOJu0Ywab7aZOIql9GwiFW4k29a8Ifgr8IWlCMBf9GDqhL8ciwEj0wc3
 iqler9+Jnobo3GBvzM+UkG0Wnea/raGJU2Ydn+RiFwRRqE4IvJkoGnmDbg==
X-Google-Smtp-Source: AGHT+IG7BAbu+klQ0QtM+yhRAmTEMMikWdr940lOdldga1IvZYQWwJ6YA/pKiZ8E35Ufw8EpYJ0ZVAkyq98D
X-Received: by 2002:a05:6a21:2716:b0:13f:9dbc:e530 with SMTP id
 rm22-20020a056a21271600b0013f9dbce530mr2120931pzb.8.1691769035791; 
 Fri, 11 Aug 2023 08:50:35 -0700 (PDT)
Received: from postal.iol.unh.edu (postal.iol.unh.edu. [132.177.123.84])
 by smtp-relay.gmail.com with ESMTPS id
 x29-20020aa7957d000000b006828d8798dasm242047pfq.7.2023.08.11.08.50.35
 (version=TLS1_2 cipher=ECDHE-ECDSA-AES128-GCM-SHA256 bits=128/128);
 Fri, 11 Aug 2023 08:50:35 -0700 (PDT)
X-Relaying-Domain: iol.unh.edu
Date: Fri, 11 Aug 2023 08:50:35 -0700 (PDT)
Message-ID: <64d658cb.a70a0220.38f72.cbd9SMTPIN_ADDED_MISSING@mx.google.com>
Received: from [172.21.0.2] (unknown [172.18.0.240])
 by postal.iol.unh.edu (Postfix) with ESMTP id 05E7E6052471;
 Fri, 11 Aug 2023 11:50:35 -0400 (EDT)
Subject: |SUCCESS| pw130150 [PATCH] app/test: add external mbuf IPsec tests
From: dpdklab@iol.unh.edu
To: Test Report <test-report@dpdk.org>
Cc: dpdk-test-reports@iol.unh.edu
Content-Type: text/plain
X-BeenThere: test-report@dpdk.org
X-Mailman-Version: 2.1.29
Precedence: list
List-Id: automatic DPDK test reports <test-report.dpdk.org>
List-Unsubscribe: <https://mails.dpdk.org/options/test-report>,
 <mailto:test-report-request@dpdk.org?subject=unsubscribe>
List-Archive: <http://mails.dpdk.org/archives/test-report/>
List-Post: <mailto:test-report@dpdk.org>
List-Help: <mailto:test-report-request@dpdk.org?subject=help>
List-Subscribe: <https://mails.dpdk.org/listinfo/test-report>,
 <mailto:test-report-request@dpdk.org?subject=subscribe>
Errors-To: test-report-bounces@dpdk.org

Test-Label: iol-unit-amd64-testing
Test-Status: SUCCESS
http://dpdk.org/patch/130150

_Testing PASS_

Submitter: Tejasree Kondoj <ktejasree@marvell.com>
Date: Friday, August 11 2023 09:42:37 
DPDK git baseline: Repo:dpdk
  Branch: master
  CommitID:70b6941e4e22d67bc10495d1638234a7e974f582

130150 --> testing pass

Test environment and result as below:

+---------------------+----------------+
|     Environment     | dpdk_unit_test |
+=====================+================+
| Windows Server 2019 | PASS           |
+---------------------+----------------+
| CentOS Stream 8     | PASS           |
+---------------------+----------------+
| Debian Buster       | PASS           |
+---------------------+----------------+
| CentOS Stream 9     | PASS           |
+---------------------+----------------+
| Fedora 37           | PASS           |
+---------------------+----------------+
| Debian Bullseye     | PASS           |
+---------------------+----------------+
| RHEL8               | PASS           |
+---------------------+----------------+
| Fedora 38           | PASS           |
+---------------------+----------------+
| openSUSE Leap 15    | PASS           |
+---------------------+----------------+
| Ubuntu 20.04        | PASS           |
+---------------------+----------------+
| Ubuntu 22.04        | PASS           |
+---------------------+----------------+


Windows Server 2019
	Kernel: 10.0
	Compiler: clang 14.0 and gcc 8.1.0 (MinGW)

CentOS Stream 8
	Kernel: 4.18.0-240.10.1.el8_3.x86_64
	Compiler: gcc 8.4.1 20200928

Debian Buster
	Kernel: 5.4.0-122-generic
	Compiler: gcc 8.3.0-6

CentOS Stream 9
	Kernel: 4.18.0-240.10.1.el8_3.x86_64
	Compiler: gcc 11.3.1 20220421

Fedora 37
	Kernel: Depends on container host system
	Compiler: gcc 12.3.1

Debian Bullseye
	Kernel: 5.4.0-122-generic
	Compiler: gcc 10.2.1-6

RHEL8
	Kernel: 4.18.0-240.10.1.el8_3.x86_64
	Compiler: gcc 8.3.1 20191121 (Red Hat 8.3.1-5)

Fedora 38
	Kernel: Depends on container host
	Compiler: gcc 13.1.1

openSUSE Leap 15
	Kernel: 4.18.0-240.10.1.el8_3.x86_64
	Compiler: gcc 7.5.0

Ubuntu 20.04
	Kernel: 5.4.0-153-generic
	Compiler: gcc 9.4.0-1ubuntu1~20.04.1

Ubuntu 22.04
	Kernel: 4.18.0-240.10.1.el8_3.x86_64
	Compiler: gcc 11.3.0

To view detailed results, visit:
https://lab.dpdk.org/results/dashboard/patchsets/27299/

UNH-IOL DPDK Community Lab

To manage your email subscriptions, visit: 
https://lab.dpdk.org/results/dashboard/preferences/subscriptions/