From mboxrd@z Thu Jan  1 00:00:00 1970
Return-Path: <test-report-bounces@dpdk.org>
Received: from mails.dpdk.org (mails.dpdk.org [217.70.189.124])
	by inbox.dpdk.org (Postfix) with ESMTP id 06EBC43038
	for <public@inbox.dpdk.org>; Sat, 12 Aug 2023 01:43:05 +0200 (CEST)
Received: from mails.dpdk.org (localhost [127.0.0.1])
	by mails.dpdk.org (Postfix) with ESMTP id F3BE9400EF;
	Sat, 12 Aug 2023 01:43:04 +0200 (CEST)
Received: from mail-il1-f226.google.com (mail-il1-f226.google.com
 [209.85.166.226])
 by mails.dpdk.org (Postfix) with ESMTP id 21128400EF
 for <test-report@dpdk.org>; Sat, 12 Aug 2023 01:43:03 +0200 (CEST)
Received: by mail-il1-f226.google.com with SMTP id
 e9e14a558f8ab-3499936a13eso6123945ab.0
 for <test-report@dpdk.org>; Fri, 11 Aug 2023 16:43:03 -0700 (PDT)
DKIM-Signature: v=1; a=rsa-sha256; c=relaxed/relaxed;
 d=iol.unh.edu; s=unh-iol; t=1691797382; x=1692402182;
 h=cc:to:from:subject:message-id:date:from:to:cc:subject:date
 :message-id:reply-to;
 bh=l6SPzM97Cys9Mys5Pmj8GF2D/eOAs0NHcmbYZHJB4EM=;
 b=O+ZT2Qqult8f0x1sAvizXxlhFFbSy9k+TELsx6pmkwLN0UtUBs4V4FuB+9BexndbuK
 BFV9TZdOpRl4l5oij8ETzF88Q0YikkGhcvg5AEnc3KPlAx9K5ENDg4SEmVQvYfKaUVnI
 GkQlKbUxlF85sqOzbYQz49jUs7ZQGSWoSnYgE=
X-Google-DKIM-Signature: v=1; a=rsa-sha256; c=relaxed/relaxed;
 d=1e100.net; s=20221208; t=1691797382; x=1692402182;
 h=cc:to:from:subject:message-id:date:x-gm-message-state:from:to:cc
 :subject:date:message-id:reply-to;
 bh=l6SPzM97Cys9Mys5Pmj8GF2D/eOAs0NHcmbYZHJB4EM=;
 b=V6+tYYnce1ZyWzFBIvWnma2wCkhG5qW/au4o5uj4kjvr/Y6ptrbq2Et9pSBRVhejKA
 sakuzfqSKW8hMudwSf4uPgqRyPfpXhdKeONI4B2RLNvx4cd8I4xXibA5NV+2WLzWOqBw
 mtTw+HwP1eX5C4QIZJgvTkqzR5Lc/J1nQLsSOCJyX174XUOjTZi0KzeJHu2xFxjDYrac
 s468uOlN7Tk+SkdE0x+d0DUqUdhwxQ4uAveI8URSCdsj+dTYi87WhqEw76XAtlPscagL
 H7yMIvUM1ZrMTF/6eS1JkAAgxQWzE72ouACTxCIYjaGjUXzXqtcRuoFhKKxAebCnQgWY
 WdTQ==
X-Gm-Message-State: AOJu0Yy1XGQalv6EUmHEO3bB0ZdiNnV7hfslH0QUYK4whZ1uulxbFD3L
 jcmhyGpCht6ExWW4mdGz5mWNi3VxuwSi1gyeE5qkB1xMN9sfddIrKmOsS2OLwtHReDk4QKnuOw=
 =
X-Google-Smtp-Source: AGHT+IEMU0hp/LDHjpbXaMUeayuFl3CbEbsTHK0gEj4wgkXV81GufDZjjMMVQvlpEfTWa+rK2JcTXLBUN7Pt
X-Received: by 2002:a05:6e02:174a:b0:348:d44a:d6ac with SMTP id
 y10-20020a056e02174a00b00348d44ad6acmr5397616ill.25.1691797382492; 
 Fri, 11 Aug 2023 16:43:02 -0700 (PDT)
Received: from postal.iol.unh.edu (postal.iol.unh.edu.
 [2606:4100:3880:1234::84]) by smtp-relay.gmail.com with ESMTPS id
 d16-20020a92d5d0000000b00349345cfbe4sm205685ilq.48.2023.08.11.16.43.02
 (version=TLS1_2 cipher=ECDHE-ECDSA-AES128-GCM-SHA256 bits=128/128);
 Fri, 11 Aug 2023 16:43:02 -0700 (PDT)
X-Relaying-Domain: iol.unh.edu
Date: Fri, 11 Aug 2023 16:43:02 -0700 (PDT)
Message-ID: <64d6c786.920a0220.63bb5.b718SMTPIN_ADDED_MISSING@mx.google.com>
Received: from [172.21.0.2] (unknown [172.18.0.240])
 by postal.iol.unh.edu (Postfix) with ESMTP id 09C816052471;
 Fri, 11 Aug 2023 19:43:02 -0400 (EDT)
Subject: |SUCCESS| pw130104 [PATCH] dma/idxd: add reset in the init routine
From: dpdklab@iol.unh.edu
To: Test Report <test-report@dpdk.org>
Cc: dpdk-test-reports@iol.unh.edu
Content-Type: text/plain
X-BeenThere: test-report@dpdk.org
X-Mailman-Version: 2.1.29
Precedence: list
List-Id: automatic DPDK test reports <test-report.dpdk.org>
List-Unsubscribe: <https://mails.dpdk.org/options/test-report>,
 <mailto:test-report-request@dpdk.org?subject=unsubscribe>
List-Archive: <http://mails.dpdk.org/archives/test-report/>
List-Post: <mailto:test-report@dpdk.org>
List-Help: <mailto:test-report-request@dpdk.org?subject=help>
List-Subscribe: <https://mails.dpdk.org/listinfo/test-report>,
 <mailto:test-report-request@dpdk.org?subject=subscribe>
Errors-To: test-report-bounces@dpdk.org

Test-Label: iol-compile-arm64-testing
Test-Status: SUCCESS
http://dpdk.org/patch/130104

_Testing PASS_

Submitter: Frank Du <frank.du@intel.com>
Date: Friday, August 11 2023 02:10:54 
DPDK git baseline: Repo:dpdk
  Branch: master
  CommitID:70b6941e4e22d67bc10495d1638234a7e974f582

130104 --> testing pass

Test environment and result as below:

+----------------------------------------+--------------------+
|              Environment               | dpdk_meson_compile |
+========================================+====================+
| Fedora 37 (ARM)                        | PASS               |
+----------------------------------------+--------------------+
| CentOS Stream 9 (ARM)                  | PASS               |
+----------------------------------------+--------------------+
| Fedora 38 (ARM)                        | PASS               |
+----------------------------------------+--------------------+
| Ubuntu 20.04 (ARM)                     | PASS               |
+----------------------------------------+--------------------+
| Debian 11 (Buster) (ARM)               | PASS               |
+----------------------------------------+--------------------+
| Ubuntu 20.04 ARM Clang Cross Compile   | PASS               |
+----------------------------------------+--------------------+
| Fedora 38 (ARM Clang)                  | PASS               |
+----------------------------------------+--------------------+
| Ubuntu 20.04 ARM GCC Cross Compile     | PASS               |
+----------------------------------------+--------------------+
| Ubuntu 20.04 aarch32 GCC Cross Compile | PASS               |
+----------------------------------------+--------------------+
| Ubuntu 20.04 ARM SVE                   | PASS               |
+----------------------------------------+--------------------+


Fedora 37 (ARM)
	Kernel: Depends on container host
	Compiler: gcc 12.3.1

CentOS Stream 9 (ARM)
	Kernel: Container Host Kernel
	Compiler: gcc 11.3.1

Fedora 38 (ARM)
	Kernel: Depends on container host
	Compiler: gcc 13.1.1

Ubuntu 20.04 (ARM)
	Kernel: Container Host Kernel
	Compiler: gcc 9.4.0

Debian 11 (Buster) (ARM)
	Kernel: Container Host Kernel
	Compiler: gcc 10.2.1

Ubuntu 20.04 ARM Clang Cross Compile
	Kernel: 5.4.0-72-generic
	Compiler: clang version 10.0.0-4ubuntu1

Fedora 38 (ARM Clang)
	Kernel: Depends on container host
	Compiler: clang 16.0.3

Ubuntu 20.04 ARM GCC Cross Compile
	Kernel: 5.4.0-72-generic
	Compiler: aarch64-linux-gnu-gcc (Ubuntu 9.3.0-17ubuntu1~20.04) 9.3.0

Ubuntu 20.04 aarch32 GCC Cross Compile
	Kernel: 5.4.0-72-generic
	Compiler: gcc 9.3.0

Ubuntu 20.04 ARM SVE
	Kernel: 5.4.0-80-generic
	Compiler: gcc 10.3.0 (Ubuntu 10.3.0-1ubuntu1~20.04)

To view detailed results, visit:
https://lab.dpdk.org/results/dashboard/patchsets/27291/

UNH-IOL DPDK Community Lab

To manage your email subscriptions, visit: 
https://lab.dpdk.org/results/dashboard/preferences/subscriptions/