From mboxrd@z Thu Jan  1 00:00:00 1970
Return-Path: <test-report-bounces@dpdk.org>
Received: from mails.dpdk.org (mails.dpdk.org [217.70.189.124])
	by inbox.dpdk.org (Postfix) with ESMTP id 906BC43058
	for <public@inbox.dpdk.org>; Sun, 13 Aug 2023 23:34:29 +0200 (CEST)
Received: from mails.dpdk.org (localhost [127.0.0.1])
	by mails.dpdk.org (Postfix) with ESMTP id 8B6C040DFD;
	Sun, 13 Aug 2023 23:34:29 +0200 (CEST)
Received: from mail-io1-f100.google.com (mail-io1-f100.google.com
 [209.85.166.100])
 by mails.dpdk.org (Postfix) with ESMTP id 8B96640DFD
 for <test-report@dpdk.org>; Sun, 13 Aug 2023 23:34:28 +0200 (CEST)
Received: by mail-io1-f100.google.com with SMTP id
 ca18e2360f4ac-790cc395896so175537439f.1
 for <test-report@dpdk.org>; Sun, 13 Aug 2023 14:34:28 -0700 (PDT)
DKIM-Signature: v=1; a=rsa-sha256; c=relaxed/relaxed;
 d=iol.unh.edu; s=unh-iol; t=1691962468; x=1692567268;
 h=cc:to:from:subject:message-id:date:from:to:cc:subject:date
 :message-id:reply-to;
 bh=SlHi+Z2/wP+YHVoIhCMnxUW7745USdhW76CcNqiuJIA=;
 b=IMuZh1IbKdQDm0gVCGekJaNcTZ7yxfb6j4/1vLMvOdnTRMFwPo7ogkBpMfPEaf8Nrb
 vO9ra0FHT1YCh8G2iQMx2YdQxS7vimEinfEx/KCNyREIms8TNFTKwbBmOk30qwXrgy8o
 DR7bc2NOymBdbTdxI32vm7v6cUY26JCJJSAp0=
X-Google-DKIM-Signature: v=1; a=rsa-sha256; c=relaxed/relaxed;
 d=1e100.net; s=20221208; t=1691962468; x=1692567268;
 h=cc:to:from:subject:message-id:date:x-gm-message-state:from:to:cc
 :subject:date:message-id:reply-to;
 bh=SlHi+Z2/wP+YHVoIhCMnxUW7745USdhW76CcNqiuJIA=;
 b=V9mNc+YhUWxKA+62tQ6IcttUXvz+s1KpRv+hx0RxZLi8j4q07Rus0vSuqKBSpAwWtM
 PUjbsG1Vvmc9VBxUnJTW1HxrApUy9OXsg4MWBRTN67KslyXbnFgd473iEOicP2aBc37H
 8Zr3lR3xrrzk7bVfHdYMwYF9n84v5twGYlORM0Rq6ic9DOTS4pXk/bDuSKbvukDz+4cw
 2XTQFgyu3Xr+mT6exDBgfjJcNRaGdzr1b4I0ZezQXq+Iwl2uP9gnOONQjyPIAqbfD4rl
 U+w1CjHtzAPQO9Kc3J4NCJ1tUWFz/S2XRDkS9Tt3IYnyJFCqe1l9q/2Ig7RR2YJOBXoX
 LXnw==
X-Gm-Message-State: AOJu0YwxZpNi7Kpr5s9HUqgg/yKAnJeUZMOAgBCGwG8dxB0/rUHdcYvH
 zliIEP0ylMpeKBjDFWU+C5+ry5HRkgkKZiEbAcGt+7a52jRH7z1Q2ytREA==
X-Google-Smtp-Source: AGHT+IF5T4A5MM2s4BPlGKdSR1C0OzLXOLYref918Nz863JAcMNHZiWIJQgWsknm/ogfOiG/r7ejcBUlfyF1
X-Received: by 2002:a6b:4908:0:b0:77a:e86a:c24b with SMTP id
 u8-20020a6b4908000000b0077ae86ac24bmr9506652iob.6.1691962467930; 
 Sun, 13 Aug 2023 14:34:27 -0700 (PDT)
Received: from postal.iol.unh.edu (postal.iol.unh.edu. [132.177.123.84])
 by smtp-relay.gmail.com with ESMTPS id
 g2-20020a5ec742000000b007834bb58f75sm161624iop.20.2023.08.13.14.34.27
 (version=TLS1_2 cipher=ECDHE-ECDSA-AES128-GCM-SHA256 bits=128/128);
 Sun, 13 Aug 2023 14:34:27 -0700 (PDT)
X-Relaying-Domain: iol.unh.edu
Date: Sun, 13 Aug 2023 14:34:27 -0700 (PDT)
Message-ID: <64d94c63.5e0a0220.6c569.9bf5SMTPIN_ADDED_MISSING@mx.google.com>
Received: from [172.21.0.4] (unknown [172.18.0.240])
 by postal.iol.unh.edu (Postfix) with ESMTP id 72DCB6052471;
 Sun, 13 Aug 2023 17:34:27 -0400 (EDT)
Subject: |SUCCESS| pw130104 [PATCH] dma/idxd: add reset in the init routine
From: dpdklab@iol.unh.edu
To: Test Report <test-report@dpdk.org>
Cc: dpdk-test-reports@iol.unh.edu
Content-Type: text/plain
X-BeenThere: test-report@dpdk.org
X-Mailman-Version: 2.1.29
Precedence: list
List-Id: automatic DPDK test reports <test-report.dpdk.org>
List-Unsubscribe: <https://mails.dpdk.org/options/test-report>,
 <mailto:test-report-request@dpdk.org?subject=unsubscribe>
List-Archive: <http://mails.dpdk.org/archives/test-report/>
List-Post: <mailto:test-report@dpdk.org>
List-Help: <mailto:test-report-request@dpdk.org?subject=help>
List-Subscribe: <https://mails.dpdk.org/listinfo/test-report>,
 <mailto:test-report-request@dpdk.org?subject=subscribe>
Errors-To: test-report-bounces@dpdk.org

Test-Label: iol-compile-amd64-testing
Test-Status: SUCCESS
http://dpdk.org/patch/130104

_Testing PASS_

Submitter: Frank Du <frank.du@intel.com>
Date: Friday, August 11 2023 02:10:54 
DPDK git baseline: Repo:dpdk
  Branch: master
  CommitID:70b6941e4e22d67bc10495d1638234a7e974f582

130104 --> testing pass

Test environment and result as below:

+---------------------+--------------------+----------------------+
|     Environment     | dpdk_meson_compile | dpdk_mingw64_compile |
+=====================+====================+======================+
| FreeBSD 13          | PASS               | SKIPPED              |
+---------------------+--------------------+----------------------+
| Windows Server 2019 | PASS               | PASS                 |
+---------------------+--------------------+----------------------+
| CentOS Stream 9     | PASS               | SKIPPED              |
+---------------------+--------------------+----------------------+
| Debian Bullseye     | PASS               | SKIPPED              |
+---------------------+--------------------+----------------------+
| Fedora 37           | PASS               | SKIPPED              |
+---------------------+--------------------+----------------------+
| CentOS Stream 8     | PASS               | SKIPPED              |
+---------------------+--------------------+----------------------+
| Ubuntu 20.04        | PASS               | SKIPPED              |
+---------------------+--------------------+----------------------+
| Fedora 38           | PASS               | SKIPPED              |
+---------------------+--------------------+----------------------+
| Ubuntu 22.04        | PASS               | SKIPPED              |
+---------------------+--------------------+----------------------+
| Debian Buster       | PASS               | SKIPPED              |
+---------------------+--------------------+----------------------+
| RHEL8               | PASS               | SKIPPED              |
+---------------------+--------------------+----------------------+
| openSUSE Leap 15    | PASS               | SKIPPED              |
+---------------------+--------------------+----------------------+
| Alpine              | PASS               | SKIPPED              |
+---------------------+--------------------+----------------------+


FreeBSD 13
	Kernel: 13.0
	Compiler: clang 11.0.1

Windows Server 2019
	Kernel: 10.0
	Compiler: clang 14.0 and gcc 8.1.0 (MinGW)

CentOS Stream 9
	Kernel: 4.18.0-240.10.1.el8_3.x86_64
	Compiler: gcc 11.3.1 20220421

Debian Bullseye
	Kernel: 5.4.0-122-generic
	Compiler: gcc 10.2.1-6

Fedora 37
	Kernel: Depends on container host system
	Compiler: gcc 12.3.1

CentOS Stream 8
	Kernel: 4.18.0-240.10.1.el8_3.x86_64
	Compiler: gcc 8.4.1 20200928

Ubuntu 20.04
	Kernel: 5.4.0-153-generic
	Compiler: gcc 9.4.0-1ubuntu1~20.04.1

Fedora 38
	Kernel: Depends on container host
	Compiler: gcc 13.1.1

Ubuntu 22.04
	Kernel: 4.18.0-240.10.1.el8_3.x86_64
	Compiler: gcc 11.3.0

Debian Buster
	Kernel: 5.4.0-122-generic
	Compiler: gcc 8.3.0-6

RHEL8
	Kernel: 4.18.0-240.10.1.el8_3.x86_64
	Compiler: gcc 8.3.1 20191121 (Red Hat 8.3.1-5)

openSUSE Leap 15
	Kernel: 4.18.0-240.10.1.el8_3.x86_64
	Compiler: gcc 7.5.0

Alpine
	Kernel: 5.4.0-73-generic
	Compiler: gcc (Alpine 10.3.1_git20210424) 10.3.1 20210424

To view detailed results, visit:
https://lab.dpdk.org/results/dashboard/patchsets/27291/

UNH-IOL DPDK Community Lab

To manage your email subscriptions, visit: 
https://lab.dpdk.org/results/dashboard/preferences/subscriptions/