From mboxrd@z Thu Jan  1 00:00:00 1970
Return-Path: <test-report-bounces@dpdk.org>
Received: from mails.dpdk.org (mails.dpdk.org [217.70.189.124])
	by inbox.dpdk.org (Postfix) with ESMTP id C742B43056
	for <public@inbox.dpdk.org>; Mon, 14 Aug 2023 05:12:02 +0200 (CEST)
Received: from mails.dpdk.org (localhost [127.0.0.1])
	by mails.dpdk.org (Postfix) with ESMTP id C3EF0406A2;
	Mon, 14 Aug 2023 05:12:02 +0200 (CEST)
Received: from mail-qv1-f97.google.com (mail-qv1-f97.google.com
 [209.85.219.97]) by mails.dpdk.org (Postfix) with ESMTP id CFB41406A2
 for <test-report@dpdk.org>; Mon, 14 Aug 2023 05:11:58 +0200 (CEST)
Received: by mail-qv1-f97.google.com with SMTP id
 6a1803df08f44-641882b73b5so23959596d6.3
 for <test-report@dpdk.org>; Sun, 13 Aug 2023 20:11:58 -0700 (PDT)
DKIM-Signature: v=1; a=rsa-sha256; c=relaxed/relaxed;
 d=iol.unh.edu; s=unh-iol; t=1691982718; x=1692587518;
 h=cc:to:from:subject:message-id:date:from:to:cc:subject:date
 :message-id:reply-to;
 bh=rt0xuJ/1cf6Z+nvoU5nK9MJw88m8R6/BcQRGdbeJRYM=;
 b=f3c/vjuy7b4vzrH57a3DTfs8W9R3D8wmw5btpMU0naj48DXjZnzHIC835RUjj4hbXR
 uQfXwF29u1jTAZgVXWq1DrCSR84MgUj93NBDFXtZgI8xQUyTRQjsVxAYB6F7HjzuNz9b
 18bCHZfJVbgGYKGJszD6PCrjycxmPtXsqrkbY=
X-Google-DKIM-Signature: v=1; a=rsa-sha256; c=relaxed/relaxed;
 d=1e100.net; s=20221208; t=1691982718; x=1692587518;
 h=cc:to:from:subject:message-id:date:x-gm-message-state:from:to:cc
 :subject:date:message-id:reply-to;
 bh=rt0xuJ/1cf6Z+nvoU5nK9MJw88m8R6/BcQRGdbeJRYM=;
 b=fcqN3iDwqE+j1dD8QhJxq2gnOQhhet5n4G7mOyT2RURacUvHSnn/Oa8yY9qmWMslDk
 6m4z2WC3QI05OFoFjwtqF0AhF8vZU3XvPv9P8Iq44QwbZmmBoRYvVjXP6AnqzE6xAb3l
 YW5j5vamHjIAKV2Q2HOZ98F4sLU7+8HjIT5SoLgHBNoduIR6rF9B494z8TGfUVVCVreU
 vGTSzoqRbmOWJYxrwtG4wYJUaYwF/SFD9qJDTyGr8ExfY/eiKxzTsFdpjn8Pl00vnhru
 ljOBZoE99uVD4ZSjqhd2UGB9v5OM9Qwg4QieeA7fec2B8YuDdm1qrCEhrioOhXtKk+08
 3IZg==
X-Gm-Message-State: AOJu0YwS0fVO1GjUIuIAxSEdGqAJQapU6o/qUjx/BRbn3/nCTZz0MgOy
 /sqyMR5AhorqenkyPBoDa9D7VHDZy49QHOGUqcT/xbE4xdD6yMjulMsDSQ==
X-Google-Smtp-Source: AGHT+IFeYTeWFwP+Y1zVVMMASdHwSxGbAZ7UANFPOE+nYLn+DSrQ39o9EousTA/gcsE0vbwNo24BhWw4JRdt
X-Received: by 2002:a05:6214:3d9d:b0:636:1daa:957 with SMTP id
 om29-20020a0562143d9d00b006361daa0957mr10226141qvb.63.1691982718337; 
 Sun, 13 Aug 2023 20:11:58 -0700 (PDT)
Received: from postal.iol.unh.edu (postal.iol.unh.edu. [132.177.123.84])
 by smtp-relay.gmail.com with ESMTPS id
 a9-20020a0c8bc9000000b0063d7740f04esm473388qvc.39.2023.08.13.20.11.58
 (version=TLS1_2 cipher=ECDHE-ECDSA-AES128-GCM-SHA256 bits=128/128);
 Sun, 13 Aug 2023 20:11:58 -0700 (PDT)
X-Relaying-Domain: iol.unh.edu
Date: Sun, 13 Aug 2023 20:11:58 -0700 (PDT)
Message-ID: <64d99b7e.0c0a0220.1a22e.e835SMTPIN_ADDED_MISSING@mx.google.com>
Received: from [172.21.0.2] (unknown [172.18.0.240])
 by postal.iol.unh.edu (Postfix) with ESMTP id 13CC56052471;
 Sun, 13 Aug 2023 23:11:58 -0400 (EDT)
Subject: |SUCCESS| pw130078-130081 [PATCH] [4/4] test/dma: enable cnxk tests
From: dpdklab@iol.unh.edu
To: Test Report <test-report@dpdk.org>
Cc: dpdk-test-reports@iol.unh.edu
Content-Type: text/plain
X-BeenThere: test-report@dpdk.org
X-Mailman-Version: 2.1.29
Precedence: list
List-Id: automatic DPDK test reports <test-report.dpdk.org>
List-Unsubscribe: <https://mails.dpdk.org/options/test-report>,
 <mailto:test-report-request@dpdk.org?subject=unsubscribe>
List-Archive: <http://mails.dpdk.org/archives/test-report/>
List-Post: <mailto:test-report@dpdk.org>
List-Help: <mailto:test-report-request@dpdk.org?subject=help>
List-Subscribe: <https://mails.dpdk.org/listinfo/test-report>,
 <mailto:test-report-request@dpdk.org?subject=subscribe>
Errors-To: test-report-bounces@dpdk.org

Test-Label: iol-compile-amd64-testing
Test-Status: SUCCESS
http://dpdk.org/patch/130081

_Testing PASS_

Submitter: Gowrishankar Muthukrishnan <gmuthukrishn@marvell.com>
Date: Thursday, August 10 2023 12:21:11 
DPDK git baseline: Repo:dpdk
  Branch: master
  CommitID:70b6941e4e22d67bc10495d1638234a7e974f582

130078-130081 --> testing pass

Test environment and result as below:

+---------------------+--------------------+----------------------+
|     Environment     | dpdk_meson_compile | dpdk_mingw64_compile |
+=====================+====================+======================+
| FreeBSD 13          | PASS               | SKIPPED              |
+---------------------+--------------------+----------------------+
| Debian Buster       | PASS               | SKIPPED              |
+---------------------+--------------------+----------------------+
| Debian Bullseye     | PASS               | SKIPPED              |
+---------------------+--------------------+----------------------+
| Fedora 37           | PASS               | SKIPPED              |
+---------------------+--------------------+----------------------+
| CentOS Stream 8     | PASS               | SKIPPED              |
+---------------------+--------------------+----------------------+
| CentOS Stream 9     | PASS               | SKIPPED              |
+---------------------+--------------------+----------------------+
| Fedora 38           | PASS               | SKIPPED              |
+---------------------+--------------------+----------------------+
| openSUSE Leap 15    | PASS               | SKIPPED              |
+---------------------+--------------------+----------------------+
| Ubuntu 20.04        | PASS               | SKIPPED              |
+---------------------+--------------------+----------------------+
| RHEL8               | PASS               | SKIPPED              |
+---------------------+--------------------+----------------------+
| Alpine              | PASS               | SKIPPED              |
+---------------------+--------------------+----------------------+
| Ubuntu 22.04        | PASS               | SKIPPED              |
+---------------------+--------------------+----------------------+
| Windows Server 2019 | PASS               | PASS                 |
+---------------------+--------------------+----------------------+


FreeBSD 13
	Kernel: 13.0
	Compiler: clang 11.0.1

Debian Buster
	Kernel: 5.4.0-122-generic
	Compiler: gcc 8.3.0-6

Debian Bullseye
	Kernel: 5.4.0-122-generic
	Compiler: gcc 10.2.1-6

Fedora 37
	Kernel: Depends on container host system
	Compiler: gcc 12.3.1

CentOS Stream 8
	Kernel: 4.18.0-240.10.1.el8_3.x86_64
	Compiler: gcc 8.4.1 20200928

CentOS Stream 9
	Kernel: 4.18.0-240.10.1.el8_3.x86_64
	Compiler: gcc 11.3.1 20220421

Fedora 38
	Kernel: Depends on container host
	Compiler: gcc 13.1.1

openSUSE Leap 15
	Kernel: 4.18.0-240.10.1.el8_3.x86_64
	Compiler: gcc 7.5.0

Ubuntu 20.04
	Kernel: 5.4.0-153-generic
	Compiler: gcc 9.4.0-1ubuntu1~20.04.1

RHEL8
	Kernel: 4.18.0-240.10.1.el8_3.x86_64
	Compiler: gcc 8.3.1 20191121 (Red Hat 8.3.1-5)

Alpine
	Kernel: 5.4.0-73-generic
	Compiler: gcc (Alpine 10.3.1_git20210424) 10.3.1 20210424

Ubuntu 22.04
	Kernel: 4.18.0-240.10.1.el8_3.x86_64
	Compiler: gcc 11.3.0

Windows Server 2019
	Kernel: 10.0
	Compiler: clang 14.0 and gcc 8.1.0 (MinGW)

To view detailed results, visit:
https://lab.dpdk.org/results/dashboard/patchsets/27277/

UNH-IOL DPDK Community Lab

To manage your email subscriptions, visit: 
https://lab.dpdk.org/results/dashboard/preferences/subscriptions/