From mboxrd@z Thu Jan  1 00:00:00 1970
Return-Path: <test-report-bounces@dpdk.org>
Received: from mails.dpdk.org (mails.dpdk.org [217.70.189.124])
	by inbox.dpdk.org (Postfix) with ESMTP id E27FC43056
	for <public@inbox.dpdk.org>; Mon, 14 Aug 2023 05:12:16 +0200 (CEST)
Received: from mails.dpdk.org (localhost [127.0.0.1])
	by mails.dpdk.org (Postfix) with ESMTP id DFCE4406A2;
	Mon, 14 Aug 2023 05:12:16 +0200 (CEST)
Received: from mail-yb1-f226.google.com (mail-yb1-f226.google.com
 [209.85.219.226])
 by mails.dpdk.org (Postfix) with ESMTP id 6E365406A2
 for <test-report@dpdk.org>; Mon, 14 Aug 2023 05:12:12 +0200 (CEST)
Received: by mail-yb1-f226.google.com with SMTP id
 3f1490d57ef6-d678b44d1f3so3151590276.0
 for <test-report@dpdk.org>; Sun, 13 Aug 2023 20:12:12 -0700 (PDT)
DKIM-Signature: v=1; a=rsa-sha256; c=relaxed/relaxed;
 d=iol.unh.edu; s=unh-iol; t=1691982732; x=1692587532;
 h=cc:to:from:subject:message-id:date:from:to:cc:subject:date
 :message-id:reply-to;
 bh=rt0xuJ/1cf6Z+nvoU5nK9MJw88m8R6/BcQRGdbeJRYM=;
 b=gmAQ0sLmWL3RyxJ5KC+gJHz0833X57Wf+FUh5Gm+O9OnlO9jAXv0DnztkasnjQhJzG
 gJgD4sLjHhHhHSd5nHUN5hmBcswLXEO43OMNDDs+pV5fTfCdhUsps9q36wOpAR/DqAT2
 pu9KrdA2KGDTnIKR/MC0xQ6lMuysMM50J+2BY=
X-Google-DKIM-Signature: v=1; a=rsa-sha256; c=relaxed/relaxed;
 d=1e100.net; s=20221208; t=1691982732; x=1692587532;
 h=cc:to:from:subject:message-id:date:x-gm-message-state:from:to:cc
 :subject:date:message-id:reply-to;
 bh=rt0xuJ/1cf6Z+nvoU5nK9MJw88m8R6/BcQRGdbeJRYM=;
 b=RbbRkYf1vozT35PASudvPXXUNGaPRC9z5ROiK6JlNfLcgHSdNnZXswitbFuNn1ITtq
 NpKdicz/Fi7IuLLY+e6MsewgEVtDUksUzhC4aXD3A5+EX/3dRGGq94KtbxtkRhI7bfhA
 y7BKlrWZV2EKRNw9t1AV8+kpf76hCeeD5/G9vZhmCSXu0GzKAHXthflwj8KMkQtWvNRj
 2KNj51I20ec0TXZVanQF1i0SkAArXS250rcRV+nOud28lfAQrPeT8eOGuvjPwjAVVlcw
 3l2AnSprmMVa+TFaLS2vOPGJf5gximvX3NhCg3lWSq50TSMlzRyma1LI03naFjAly+eI
 77Aw==
X-Gm-Message-State: AOJu0YzwsoNaS0VxqRocGKjEImtQTwKXLnQj8BQHWTzTHFh4vJJs/cMH
 63g9p/9TerTWTSArK8qZaVq+xePuyoi4qz9m3a1L+2Cqlks+keiTfp9HPHwhKU2XedZ2Upwy1Q=
 =
X-Google-Smtp-Source: AGHT+IEe7djDsLwZ0ch5oqrst+V0BwpvjceqIHBVCavd7s2WS7pSayirtqNtP0MFvck2KH6qA/GorQJoKzl3
X-Received: by 2002:a25:26c2:0:b0:d07:ae80:b4be with SMTP id
 m185-20020a2526c2000000b00d07ae80b4bemr14261623ybm.7.1691982731925; 
 Sun, 13 Aug 2023 20:12:11 -0700 (PDT)
Received: from postal.iol.unh.edu (postal.iol.unh.edu.
 [2606:4100:3880:1234::84]) by smtp-relay.gmail.com with ESMTPS id
 j126-20020a25d284000000b00d3ce7e8e950sm635528ybg.8.2023.08.13.20.12.11
 (version=TLS1_2 cipher=ECDHE-ECDSA-AES128-GCM-SHA256 bits=128/128);
 Sun, 13 Aug 2023 20:12:11 -0700 (PDT)
X-Relaying-Domain: iol.unh.edu
Date: Sun, 13 Aug 2023 20:12:11 -0700 (PDT)
Message-ID: <64d99b8b.250a0220.67b40.9be8SMTPIN_ADDED_MISSING@mx.google.com>
Received: from [172.21.0.2] (unknown [172.18.0.240])
 by postal.iol.unh.edu (Postfix) with ESMTP id 962116052471;
 Sun, 13 Aug 2023 23:12:11 -0400 (EDT)
Subject: |SUCCESS| pw130078-130081 [PATCH] [4/4] test/dma: enable cnxk tests
From: dpdklab@iol.unh.edu
To: Test Report <test-report@dpdk.org>
Cc: dpdk-test-reports@iol.unh.edu
Content-Type: text/plain
X-BeenThere: test-report@dpdk.org
X-Mailman-Version: 2.1.29
Precedence: list
List-Id: automatic DPDK test reports <test-report.dpdk.org>
List-Unsubscribe: <https://mails.dpdk.org/options/test-report>,
 <mailto:test-report-request@dpdk.org?subject=unsubscribe>
List-Archive: <http://mails.dpdk.org/archives/test-report/>
List-Post: <mailto:test-report@dpdk.org>
List-Help: <mailto:test-report-request@dpdk.org?subject=help>
List-Subscribe: <https://mails.dpdk.org/listinfo/test-report>,
 <mailto:test-report-request@dpdk.org?subject=subscribe>
Errors-To: test-report-bounces@dpdk.org

Test-Label: iol-compile-amd64-testing
Test-Status: SUCCESS
http://dpdk.org/patch/130081

_Testing PASS_

Submitter: Gowrishankar Muthukrishnan <gmuthukrishn@marvell.com>
Date: Thursday, August 10 2023 12:21:11 
DPDK git baseline: Repo:dpdk
  Branch: master
  CommitID:70b6941e4e22d67bc10495d1638234a7e974f582

130078-130081 --> testing pass

Test environment and result as below:

+---------------------+--------------------+----------------------+
|     Environment     | dpdk_meson_compile | dpdk_mingw64_compile |
+=====================+====================+======================+
| FreeBSD 13          | PASS               | SKIPPED              |
+---------------------+--------------------+----------------------+
| Debian Buster       | PASS               | SKIPPED              |
+---------------------+--------------------+----------------------+
| Debian Bullseye     | PASS               | SKIPPED              |
+---------------------+--------------------+----------------------+
| Fedora 37           | PASS               | SKIPPED              |
+---------------------+--------------------+----------------------+
| CentOS Stream 8     | PASS               | SKIPPED              |
+---------------------+--------------------+----------------------+
| CentOS Stream 9     | PASS               | SKIPPED              |
+---------------------+--------------------+----------------------+
| Fedora 38           | PASS               | SKIPPED              |
+---------------------+--------------------+----------------------+
| openSUSE Leap 15    | PASS               | SKIPPED              |
+---------------------+--------------------+----------------------+
| Ubuntu 20.04        | PASS               | SKIPPED              |
+---------------------+--------------------+----------------------+
| RHEL8               | PASS               | SKIPPED              |
+---------------------+--------------------+----------------------+
| Alpine              | PASS               | SKIPPED              |
+---------------------+--------------------+----------------------+
| Ubuntu 22.04        | PASS               | SKIPPED              |
+---------------------+--------------------+----------------------+
| Windows Server 2019 | PASS               | PASS                 |
+---------------------+--------------------+----------------------+


FreeBSD 13
	Kernel: 13.0
	Compiler: clang 11.0.1

Debian Buster
	Kernel: 5.4.0-122-generic
	Compiler: gcc 8.3.0-6

Debian Bullseye
	Kernel: 5.4.0-122-generic
	Compiler: gcc 10.2.1-6

Fedora 37
	Kernel: Depends on container host system
	Compiler: gcc 12.3.1

CentOS Stream 8
	Kernel: 4.18.0-240.10.1.el8_3.x86_64
	Compiler: gcc 8.4.1 20200928

CentOS Stream 9
	Kernel: 4.18.0-240.10.1.el8_3.x86_64
	Compiler: gcc 11.3.1 20220421

Fedora 38
	Kernel: Depends on container host
	Compiler: gcc 13.1.1

openSUSE Leap 15
	Kernel: 4.18.0-240.10.1.el8_3.x86_64
	Compiler: gcc 7.5.0

Ubuntu 20.04
	Kernel: 5.4.0-153-generic
	Compiler: gcc 9.4.0-1ubuntu1~20.04.1

RHEL8
	Kernel: 4.18.0-240.10.1.el8_3.x86_64
	Compiler: gcc 8.3.1 20191121 (Red Hat 8.3.1-5)

Alpine
	Kernel: 5.4.0-73-generic
	Compiler: gcc (Alpine 10.3.1_git20210424) 10.3.1 20210424

Ubuntu 22.04
	Kernel: 4.18.0-240.10.1.el8_3.x86_64
	Compiler: gcc 11.3.0

Windows Server 2019
	Kernel: 10.0
	Compiler: clang 14.0 and gcc 8.1.0 (MinGW)

To view detailed results, visit:
https://lab.dpdk.org/results/dashboard/patchsets/27277/

UNH-IOL DPDK Community Lab

To manage your email subscriptions, visit: 
https://lab.dpdk.org/results/dashboard/preferences/subscriptions/