From mboxrd@z Thu Jan  1 00:00:00 1970
Return-Path: <test-report-bounces@dpdk.org>
Received: from mails.dpdk.org (mails.dpdk.org [217.70.189.124])
	by inbox.dpdk.org (Postfix) with ESMTP id AAA4A43056
	for <public@inbox.dpdk.org>; Mon, 14 Aug 2023 05:30:44 +0200 (CEST)
Received: from mails.dpdk.org (localhost [127.0.0.1])
	by mails.dpdk.org (Postfix) with ESMTP id A6DC1406A2;
	Mon, 14 Aug 2023 05:30:44 +0200 (CEST)
Received: from mail-qt1-f227.google.com (mail-qt1-f227.google.com
 [209.85.160.227])
 by mails.dpdk.org (Postfix) with ESMTP id A636C406A2
 for <test-report@dpdk.org>; Mon, 14 Aug 2023 05:30:43 +0200 (CEST)
Received: by mail-qt1-f227.google.com with SMTP id
 d75a77b69052e-40fd2de0ddcso32604601cf.2
 for <test-report@dpdk.org>; Sun, 13 Aug 2023 20:30:43 -0700 (PDT)
DKIM-Signature: v=1; a=rsa-sha256; c=relaxed/relaxed;
 d=iol.unh.edu; s=unh-iol; t=1691983843; x=1692588643;
 h=cc:to:from:subject:message-id:date:from:to:cc:subject:date
 :message-id:reply-to;
 bh=VEO8PmSDeNqMxb1ATl/tZlt0Tsv9x/vCKK9SRpBoFdk=;
 b=TGJKt25V3is6VG9BdHhn8QIiTYoArDC/ooyJ+fMXf/338C/M7lVbgyc1kMao2CVD13
 T83eU9fqOstQd7bumsxIpSKrP9xFA5f5qtL1j3G3zIp5yIVD021ZT4kpRqRqDXkFaIPk
 mFYBscPDjwYcd2HY9CvGuy7LSa9TdeS/6xT9k=
X-Google-DKIM-Signature: v=1; a=rsa-sha256; c=relaxed/relaxed;
 d=1e100.net; s=20221208; t=1691983843; x=1692588643;
 h=cc:to:from:subject:message-id:date:x-gm-message-state:from:to:cc
 :subject:date:message-id:reply-to;
 bh=VEO8PmSDeNqMxb1ATl/tZlt0Tsv9x/vCKK9SRpBoFdk=;
 b=LtmDEEpEa7RPCfXeYvkdxji2I93tXvH9Yo8GrvBvvDAzg9NC3J8gE/I5dXMDdoba3R
 OuPqfUw7RYAHvTKPDvytYjZ7fefpDEz8gROSUyBoV2+bon3LnvfkywUWu74OppLPwpc6
 lcIu8GRKzbVjjoiTo471uvQJxd6vydFtlfc8NNyn4RH2lJZX1s6aRZ4vVlKKkhIqwXot
 U4eaajj57nt4USYIoiDz0BziQa375d6iad6R27iJ6SOfWFJS3TXahHVYicW2xunheYWF
 /CeCenSFfLw5nT+SLyA2yVSn8vMfFdztbotVAIzhC9j3hNbqvy8wDnvyqZrS7g9kG48H
 +q0w==
X-Gm-Message-State: AOJu0YxsgiMkiQo5aWbFH41/ojOKauIghrPEP8X3jQEE/Y4FDZMXjJUs
 dl5MHVRGHR63Zxj/moqmnAlv1joDmCYaBUcXR3yq3J4t4q5v4xwWE+uP9g==
X-Google-Smtp-Source: AGHT+IF3fQap/IeyXKrl+sKInfaSrmfYolgOjdejuYJFCcE82iTfKg+9L8le6knlb1CRAEtR4FfR/XMsgWLb
X-Received: by 2002:a05:622a:44:b0:403:a9aa:56d6 with SMTP id
 y4-20020a05622a004400b00403a9aa56d6mr13985542qtw.58.1691983843143; 
 Sun, 13 Aug 2023 20:30:43 -0700 (PDT)
Received: from postal.iol.unh.edu (postal.iol.unh.edu. [132.177.123.84])
 by smtp-relay.gmail.com with ESMTPS id
 x6-20020ac84a06000000b0040fdddced03sm368463qtq.3.2023.08.13.20.30.43
 (version=TLS1_2 cipher=ECDHE-ECDSA-AES128-GCM-SHA256 bits=128/128);
 Sun, 13 Aug 2023 20:30:43 -0700 (PDT)
X-Relaying-Domain: iol.unh.edu
Date: Sun, 13 Aug 2023 20:30:43 -0700 (PDT)
Message-ID: <64d99fe3.c80a0220.5fa1e.56f8SMTPIN_ADDED_MISSING@mx.google.com>
Received: from [172.21.0.2] (unknown [172.18.0.240])
 by postal.iol.unh.edu (Postfix) with ESMTP id CCAC16052471;
 Sun, 13 Aug 2023 23:30:42 -0400 (EDT)
Subject: |SUCCESS| pw130094 [PATCH] graph: mark API's as stable
From: dpdklab@iol.unh.edu
To: Test Report <test-report@dpdk.org>
Cc: dpdk-test-reports@iol.unh.edu
Content-Type: text/plain
X-BeenThere: test-report@dpdk.org
X-Mailman-Version: 2.1.29
Precedence: list
List-Id: automatic DPDK test reports <test-report.dpdk.org>
List-Unsubscribe: <https://mails.dpdk.org/options/test-report>,
 <mailto:test-report-request@dpdk.org?subject=unsubscribe>
List-Archive: <http://mails.dpdk.org/archives/test-report/>
List-Post: <mailto:test-report@dpdk.org>
List-Help: <mailto:test-report-request@dpdk.org?subject=help>
List-Subscribe: <https://mails.dpdk.org/listinfo/test-report>,
 <mailto:test-report-request@dpdk.org?subject=subscribe>
Errors-To: test-report-bounces@dpdk.org

Test-Label: iol-compile-amd64-testing
Test-Status: SUCCESS
http://dpdk.org/patch/130094

_Testing PASS_

Submitter: Stephen Hemminger <stephen@networkplumber.org>
Date: Thursday, August 10 2023 18:05:15 
DPDK git baseline: Repo:dpdk
  Branch: master
  CommitID:70b6941e4e22d67bc10495d1638234a7e974f582

130094 --> testing pass

Test environment and result as below:

+---------------------+--------------------+----------------------+
|     Environment     | dpdk_meson_compile | dpdk_mingw64_compile |
+=====================+====================+======================+
| FreeBSD 13          | PASS               | SKIPPED              |
+---------------------+--------------------+----------------------+
| Debian Buster       | PASS               | SKIPPED              |
+---------------------+--------------------+----------------------+
| CentOS Stream 8     | PASS               | SKIPPED              |
+---------------------+--------------------+----------------------+
| CentOS Stream 9     | PASS               | SKIPPED              |
+---------------------+--------------------+----------------------+
| Ubuntu 20.04        | PASS               | SKIPPED              |
+---------------------+--------------------+----------------------+
| Debian Bullseye     | PASS               | SKIPPED              |
+---------------------+--------------------+----------------------+
| Fedora 38           | PASS               | SKIPPED              |
+---------------------+--------------------+----------------------+
| Fedora 37           | PASS               | SKIPPED              |
+---------------------+--------------------+----------------------+
| Ubuntu 22.04        | PASS               | SKIPPED              |
+---------------------+--------------------+----------------------+
| openSUSE Leap 15    | PASS               | SKIPPED              |
+---------------------+--------------------+----------------------+
| Alpine              | PASS               | SKIPPED              |
+---------------------+--------------------+----------------------+
| RHEL8               | PASS               | SKIPPED              |
+---------------------+--------------------+----------------------+
| Windows Server 2019 | PASS               | PASS                 |
+---------------------+--------------------+----------------------+


FreeBSD 13
	Kernel: 13.0
	Compiler: clang 11.0.1

Debian Buster
	Kernel: 5.4.0-122-generic
	Compiler: gcc 8.3.0-6

CentOS Stream 8
	Kernel: 4.18.0-240.10.1.el8_3.x86_64
	Compiler: gcc 8.4.1 20200928

CentOS Stream 9
	Kernel: 4.18.0-240.10.1.el8_3.x86_64
	Compiler: gcc 11.3.1 20220421

Ubuntu 20.04
	Kernel: 5.4.0-153-generic
	Compiler: gcc 9.4.0-1ubuntu1~20.04.1

Debian Bullseye
	Kernel: 5.4.0-122-generic
	Compiler: gcc 10.2.1-6

Fedora 38
	Kernel: Depends on container host
	Compiler: gcc 13.1.1

Fedora 37
	Kernel: Depends on container host system
	Compiler: gcc 12.3.1

Ubuntu 22.04
	Kernel: 4.18.0-240.10.1.el8_3.x86_64
	Compiler: gcc 11.3.0

openSUSE Leap 15
	Kernel: 4.18.0-240.10.1.el8_3.x86_64
	Compiler: gcc 7.5.0

Alpine
	Kernel: 5.4.0-73-generic
	Compiler: gcc (Alpine 10.3.1_git20210424) 10.3.1 20210424

RHEL8
	Kernel: 4.18.0-240.10.1.el8_3.x86_64
	Compiler: gcc 8.3.1 20191121 (Red Hat 8.3.1-5)

Windows Server 2019
	Kernel: 10.0
	Compiler: clang 14.0 and gcc 8.1.0 (MinGW)

To view detailed results, visit:
https://lab.dpdk.org/results/dashboard/patchsets/27287/

UNH-IOL DPDK Community Lab

To manage your email subscriptions, visit: 
https://lab.dpdk.org/results/dashboard/preferences/subscriptions/