From mboxrd@z Thu Jan  1 00:00:00 1970
Return-Path: <test-report-bounces@dpdk.org>
Received: from mails.dpdk.org (mails.dpdk.org [217.70.189.124])
	by inbox.dpdk.org (Postfix) with ESMTP id 56EDF43095
	for <public@inbox.dpdk.org>; Fri, 18 Aug 2023 11:58:47 +0200 (CEST)
Received: from mails.dpdk.org (localhost [127.0.0.1])
	by mails.dpdk.org (Postfix) with ESMTP id 51B8640395;
	Fri, 18 Aug 2023 11:58:47 +0200 (CEST)
Received: from mail-pf1-f225.google.com (mail-pf1-f225.google.com
 [209.85.210.225])
 by mails.dpdk.org (Postfix) with ESMTP id B08C440395
 for <test-report@dpdk.org>; Fri, 18 Aug 2023 11:58:45 +0200 (CEST)
Received: by mail-pf1-f225.google.com with SMTP id
 d2e1a72fcca58-689fa6f94e1so568313b3a.1
 for <test-report@dpdk.org>; Fri, 18 Aug 2023 02:58:45 -0700 (PDT)
DKIM-Signature: v=1; a=rsa-sha256; c=relaxed/relaxed;
 d=iol.unh.edu; s=unh-iol; t=1692352725; x=1692957525;
 h=cc:to:from:subject:message-id:date:from:to:cc:subject:date
 :message-id:reply-to;
 bh=9OKa5tsoNch50xf5QYLAtcuVcmhs1R3Zm8cGWhrn8Cs=;
 b=KuFywbWxEpaRJ8K5Z5nUL0ZtH5Puq5Ie8dC1K0/1KXw3Cgw92truJCA14lL70OX+Ho
 OOC3U9c3aOPKBzvASBSX9y5Ex/zcExIlFaNfBJ1WnH9TCyFQozq9MS3mChzAbsV0GIVm
 HM9TzMqfVLdz1Qd4OYuwtFrHDvoRxRQT++IK4=
X-Google-DKIM-Signature: v=1; a=rsa-sha256; c=relaxed/relaxed;
 d=1e100.net; s=20221208; t=1692352725; x=1692957525;
 h=cc:to:from:subject:message-id:date:x-gm-message-state:from:to:cc
 :subject:date:message-id:reply-to;
 bh=9OKa5tsoNch50xf5QYLAtcuVcmhs1R3Zm8cGWhrn8Cs=;
 b=JANJbieGeF5gmvXs4hrypeR6+c305P4QHQ0jSiCAKFPyy7YPmE6hN0DjdtBUHkBM3R
 fG7Cr4KLNwXcSKZcDAlwNKIjdsYZIa1aJQ3BAHwRKQTMSi3CeKYs6t35gGCfjXOZHD2W
 xB0zRIGZYJ5IniSYim4KTJya90ZugzSiLE/ayaySmpcaqnTFNNXgYJttK9a8cQPlL+wO
 Dx0zZU6cSAdsGVmbTjRQ7Rpzg9VFNEARCEe15tt+AF17MnpnE3c/bnUepWtdabPBZGYJ
 1LaJMJ64WPYMHe0zOTb/3omFukYBABg/mKG9rl0ltdNDExduVdNVH8EfLi5JiM63iX8+
 uj2A==
X-Gm-Message-State: AOJu0YwoxJAWYtQljy6PUnTBmYEV34k228GB+TK6JkVLDSH1ma7lS685
 XS9sscv0OWEGcedSMgh1ysHcLOR7sluj4IrqdtY+ZWnCfphgFvfBHymABQ==
X-Google-Smtp-Source: AGHT+IHEl9H2Zj02OZ23+MUKNGVMQWEFp9jCSze/LRLOWHk8DgSyfilT0wd+pMljSK6CXiYgDJQqkvK+xQ0p
X-Received: by 2002:a05:6a00:847:b0:67f:3dcd:bc00 with SMTP id
 q7-20020a056a00084700b0067f3dcdbc00mr2562419pfk.2.1692352725057; 
 Fri, 18 Aug 2023 02:58:45 -0700 (PDT)
Received: from postal.iol.unh.edu (postal.iol.unh.edu. [132.177.123.84])
 by smtp-relay.gmail.com with ESMTPS id
 a186-20020a624dc3000000b0068718f530c5sm186059pfb.16.2023.08.18.02.58.44
 (version=TLS1_2 cipher=ECDHE-ECDSA-AES128-GCM-SHA256 bits=128/128);
 Fri, 18 Aug 2023 02:58:45 -0700 (PDT)
X-Relaying-Domain: iol.unh.edu
Date: Fri, 18 Aug 2023 02:58:45 -0700 (PDT)
Message-ID: <64df40d5.620a0220.8acda.998aSMTPIN_ADDED_MISSING@mx.google.com>
Received: from [172.21.0.2] (unknown [172.18.0.240])
 by postal.iol.unh.edu (Postfix) with ESMTP id 5371D6052471;
 Fri, 18 Aug 2023 05:58:44 -0400 (EDT)
Subject: |SUCCESS| pw130508 [PATCH] net/iavf: fix checksum offloading
From: dpdklab@iol.unh.edu
To: Test Report <test-report@dpdk.org>
Cc: dpdk-test-reports@iol.unh.edu
Content-Type: text/plain
X-BeenThere: test-report@dpdk.org
X-Mailman-Version: 2.1.29
Precedence: list
List-Id: automatic DPDK test reports <test-report.dpdk.org>
List-Unsubscribe: <https://mails.dpdk.org/options/test-report>,
 <mailto:test-report-request@dpdk.org?subject=unsubscribe>
List-Archive: <http://mails.dpdk.org/archives/test-report/>
List-Post: <mailto:test-report@dpdk.org>
List-Help: <mailto:test-report-request@dpdk.org?subject=help>
List-Subscribe: <https://mails.dpdk.org/listinfo/test-report>,
 <mailto:test-report-request@dpdk.org?subject=subscribe>
Errors-To: test-report-bounces@dpdk.org

Test-Label: iol-compile-amd64-testing
Test-Status: SUCCESS
http://dpdk.org/patch/130508

_Testing PASS_

Submitter: David Marchand <david.marchand@redhat.com>
Date: Friday, August 18 2023 09:03:51 
DPDK git baseline: Repo:dpdk
  Branch: master
  CommitID:971d2b57972919527e27ed683032a71864a2eb56

130508 --> testing pass

Test environment and result as below:

+---------------------+--------------------+----------------------+
|     Environment     | dpdk_meson_compile | dpdk_mingw64_compile |
+=====================+====================+======================+
| CentOS Stream 8     | PASS               | SKIPPED              |
+---------------------+--------------------+----------------------+
| FreeBSD 13          | PASS               | SKIPPED              |
+---------------------+--------------------+----------------------+
| Debian Buster       | PASS               | SKIPPED              |
+---------------------+--------------------+----------------------+
| Fedora 37           | PASS               | SKIPPED              |
+---------------------+--------------------+----------------------+
| Windows Server 2019 | PASS               | PASS                 |
+---------------------+--------------------+----------------------+
| openSUSE Leap 15    | PASS               | SKIPPED              |
+---------------------+--------------------+----------------------+
| CentOS Stream 9     | PASS               | SKIPPED              |
+---------------------+--------------------+----------------------+
| Fedora 38           | PASS               | SKIPPED              |
+---------------------+--------------------+----------------------+
| Debian Bullseye     | PASS               | SKIPPED              |
+---------------------+--------------------+----------------------+
| Ubuntu 20.04        | PASS               | SKIPPED              |
+---------------------+--------------------+----------------------+


CentOS Stream 8
	Kernel: 4.18.0-240.10.1.el8_3.x86_64
	Compiler: gcc 8.4.1 20200928

FreeBSD 13
	Kernel: 13.0
	Compiler: clang 11.0.1

Debian Buster
	Kernel: 5.4.0-122-generic
	Compiler: gcc 8.3.0-6

Fedora 37
	Kernel: Depends on container host system
	Compiler: gcc 12.3.1

Windows Server 2019
	Kernel: 10.0
	Compiler: clang 14.0 and gcc 8.1.0 (MinGW)

openSUSE Leap 15
	Kernel: 4.18.0-240.10.1.el8_3.x86_64
	Compiler: gcc 7.5.0

CentOS Stream 9
	Kernel: 4.18.0-240.10.1.el8_3.x86_64
	Compiler: gcc 11.3.1 20220421

Fedora 38
	Kernel: Depends on container host
	Compiler: gcc 13.1.1

Debian Bullseye
	Kernel: 5.4.0-122-generic
	Compiler: gcc 10.2.1-6

Ubuntu 20.04
	Kernel: 5.4.0-153-generic
	Compiler: gcc 9.4.0-1ubuntu1~20.04.1

To view detailed results, visit:
https://lab.dpdk.org/results/dashboard/patchsets/27379/

UNH-IOL DPDK Community Lab

To manage your email subscriptions, visit: 
https://lab.dpdk.org/results/dashboard/preferences/subscriptions/