From mboxrd@z Thu Jan  1 00:00:00 1970
Return-Path: <test-report-bounces@dpdk.org>
Received: from mails.dpdk.org (mails.dpdk.org [217.70.189.124])
	by inbox.dpdk.org (Postfix) with ESMTP id B25C843095
	for <public@inbox.dpdk.org>; Fri, 18 Aug 2023 13:08:51 +0200 (CEST)
Received: from mails.dpdk.org (localhost [127.0.0.1])
	by mails.dpdk.org (Postfix) with ESMTP id ADB1540223;
	Fri, 18 Aug 2023 13:08:51 +0200 (CEST)
Received: from mail-pl1-f228.google.com (mail-pl1-f228.google.com
 [209.85.214.228])
 by mails.dpdk.org (Postfix) with ESMTP id C7F7440223
 for <test-report@dpdk.org>; Fri, 18 Aug 2023 13:08:50 +0200 (CEST)
Received: by mail-pl1-f228.google.com with SMTP id
 d9443c01a7336-1bbff6b2679so5807415ad.1
 for <test-report@dpdk.org>; Fri, 18 Aug 2023 04:08:50 -0700 (PDT)
DKIM-Signature: v=1; a=rsa-sha256; c=relaxed/relaxed;
 d=iol.unh.edu; s=unh-iol; t=1692356930; x=1692961730;
 h=cc:to:from:subject:message-id:date:from:to:cc:subject:date
 :message-id:reply-to;
 bh=qtwIGXhFWhwFdIlibv5epuUFCh9xUaGAVuhxuuRFoe8=;
 b=bA1ValB1SiSAY7I8a0elRiQx0YMd0dstAjbhg98d49p+pNCiOsUQk9dLD5q2TRNlQ9
 yGMQ2l5SXhgWpAmFb67+APvx7EsNBuGbJTrp08hTUy15zOPOvTauuAU4frIQzo7N2L9a
 pjYdDw7+giFCPYQBHqpVDU2TNvKQXCL22F5ag=
X-Google-DKIM-Signature: v=1; a=rsa-sha256; c=relaxed/relaxed;
 d=1e100.net; s=20221208; t=1692356930; x=1692961730;
 h=cc:to:from:subject:message-id:date:x-gm-message-state:from:to:cc
 :subject:date:message-id:reply-to;
 bh=qtwIGXhFWhwFdIlibv5epuUFCh9xUaGAVuhxuuRFoe8=;
 b=PDdvV1f2NYqdHoCdzgLL8bQQ0UtY7QJsh1vl9FxvyVKAGX21jPPQEXHptEIx1SEXxk
 7AvUxwbx9mjHqXcJqEtx74AucUiID/V3X2ICoRvdsp/PWHni0ydTriAnHd0mvqhKLksB
 KvVFxt8Jl8URJCv9xvQWxxSkxSaNN6BWZVQI1m0X3Nr3tpJZaK6Qpe2PJsx0XTC4kZA8
 xUJclACQHfHjA0gSLoIcnJroyLheP0EmAXJLWBzSYxjoOqxn3HrohoYC++7s7RKfIvKV
 Jp4Ure7Ni1HyJbJGbq6be4gc2e3dH84I6ay7IEk0FPHz3J6MrKx1BfDXxdreaGDFraLD
 mIcg==
X-Gm-Message-State: AOJu0YzSXWxD0ClIKez18AQkK1yYUHIZTaDdH+bDk5T5U0OvDASBUZSE
 Ni2s8v6WOJVq2YIiNq8kkQiilpHiPXpShcAwtsxUf0SdtE5ASjxAKAyJcg==
X-Google-Smtp-Source: AGHT+IHR5ZQ4eQil6Eg0t5UG73V8i6JUsYhbiClgICgVQ5quUL+uO/IZxXnJv5U5GFoDP4GXis6ndz10KJ/g
X-Received: by 2002:a17:902:bc4b:b0:1bd:d718:5833 with SMTP id
 t11-20020a170902bc4b00b001bdd7185833mr1985263plz.18.1692356929974; 
 Fri, 18 Aug 2023 04:08:49 -0700 (PDT)
Received: from postal.iol.unh.edu (postal.iol.unh.edu. [132.177.123.84])
 by smtp-relay.gmail.com with ESMTPS id
 g9-20020a170902c38900b001bda537e741sm68866plg.69.2023.08.18.04.08.49
 (version=TLS1_2 cipher=ECDHE-ECDSA-AES128-GCM-SHA256 bits=128/128);
 Fri, 18 Aug 2023 04:08:49 -0700 (PDT)
X-Relaying-Domain: iol.unh.edu
Date: Fri, 18 Aug 2023 04:08:49 -0700 (PDT)
Message-ID: <64df5141.170a0220.b51c3.2e60SMTPIN_ADDED_MISSING@mx.google.com>
Received: from [172.21.0.2] (unknown [172.18.0.240])
 by postal.iol.unh.edu (Postfix) with ESMTP id 672D76052471;
 Fri, 18 Aug 2023 07:08:49 -0400 (EDT)
Subject: |SUCCESS| pw130499 [PATCH] common/cnxk: fix ROC naming convention
From: dpdklab@iol.unh.edu
To: Test Report <test-report@dpdk.org>
Cc: dpdk-test-reports@iol.unh.edu
Content-Type: text/plain
X-BeenThere: test-report@dpdk.org
X-Mailman-Version: 2.1.29
Precedence: list
List-Id: automatic DPDK test reports <test-report.dpdk.org>
List-Unsubscribe: <https://mails.dpdk.org/options/test-report>,
 <mailto:test-report-request@dpdk.org?subject=unsubscribe>
List-Archive: <http://mails.dpdk.org/archives/test-report/>
List-Post: <mailto:test-report@dpdk.org>
List-Help: <mailto:test-report-request@dpdk.org?subject=help>
List-Subscribe: <https://mails.dpdk.org/listinfo/test-report>,
 <mailto:test-report-request@dpdk.org?subject=subscribe>
Errors-To: test-report-bounces@dpdk.org

Test-Label: iol-compile-amd64-testing
Test-Status: SUCCESS
http://dpdk.org/patch/130499

_Testing PASS_

Submitter: Satheesh Paul Antonysamy <psatheesh@marvell.com>
Date: Friday, August 18 2023 04:01:39 
DPDK git baseline: Repo:dpdk-next-net-mrvl
  Branch: master
  CommitID:67196a9c023e18168b3c58d8b379235be7337e0f

130499 --> testing pass

Test environment and result as below:

+---------------------+--------------------+----------------------+
|     Environment     | dpdk_meson_compile | dpdk_mingw64_compile |
+=====================+====================+======================+
| FreeBSD 13          | PASS               | SKIPPED              |
+---------------------+--------------------+----------------------+
| Windows Server 2019 | PASS               | PASS                 |
+---------------------+--------------------+----------------------+
| Debian Buster       | PASS               | SKIPPED              |
+---------------------+--------------------+----------------------+
| CentOS Stream 9     | PASS               | SKIPPED              |
+---------------------+--------------------+----------------------+
| Debian Bullseye     | PASS               | SKIPPED              |
+---------------------+--------------------+----------------------+
| CentOS Stream 8     | PASS               | SKIPPED              |
+---------------------+--------------------+----------------------+
| Fedora 38           | PASS               | SKIPPED              |
+---------------------+--------------------+----------------------+
| Fedora 37           | PASS               | SKIPPED              |
+---------------------+--------------------+----------------------+
| RHEL8               | PASS               | SKIPPED              |
+---------------------+--------------------+----------------------+


FreeBSD 13
	Kernel: 13.0
	Compiler: clang 11.0.1

Windows Server 2019
	Kernel: 10.0
	Compiler: clang 14.0 and gcc 8.1.0 (MinGW)

Debian Buster
	Kernel: 5.4.0-122-generic
	Compiler: gcc 8.3.0-6

CentOS Stream 9
	Kernel: 4.18.0-240.10.1.el8_3.x86_64
	Compiler: gcc 11.3.1 20220421

Debian Bullseye
	Kernel: 5.4.0-122-generic
	Compiler: gcc 10.2.1-6

CentOS Stream 8
	Kernel: 4.18.0-240.10.1.el8_3.x86_64
	Compiler: gcc 8.4.1 20200928

Fedora 38
	Kernel: Depends on container host
	Compiler: clang 16.0.3

Fedora 37
	Kernel: Depends on container host system
	Compiler: gcc 12.3.1

RHEL8
	Kernel: 4.18.0-240.10.1.el8_3.x86_64
	Compiler: gcc 8.3.1 20191121 (Red Hat 8.3.1-5)

To view detailed results, visit:
https://lab.dpdk.org/results/dashboard/patchsets/27377/

UNH-IOL DPDK Community Lab

To manage your email subscriptions, visit: 
https://lab.dpdk.org/results/dashboard/preferences/subscriptions/